BEGIN:VCALENDAR
VERSION:2.0
PRODID:-//Explore New Jersey - ECPv6.15.20//NONSGML v1.0//EN
CALSCALE:GREGORIAN
METHOD:PUBLISH
X-WR-CALNAME:Explore New Jersey
X-ORIGINAL-URL:https://explorenewjersey.org
X-WR-CALDESC:Events for Explore New Jersey
REFRESH-INTERVAL;VALUE=DURATION:PT1H
X-Robots-Tag:noindex
X-PUBLISHED-TTL:PT1H
BEGIN:VTIMEZONE
TZID:America/New_York
BEGIN:DAYLIGHT
TZOFFSETFROM:-0500
TZOFFSETTO:-0400
TZNAME:EDT
DTSTART:20250309T070000
END:DAYLIGHT
BEGIN:STANDARD
TZOFFSETFROM:-0400
TZOFFSETTO:-0500
TZNAME:EST
DTSTART:20251102T060000
END:STANDARD
BEGIN:DAYLIGHT
TZOFFSETFROM:-0500
TZOFFSETTO:-0400
TZNAME:EDT
DTSTART:20260308T070000
END:DAYLIGHT
BEGIN:STANDARD
TZOFFSETFROM:-0400
TZOFFSETTO:-0500
TZNAME:EST
DTSTART:20261101T060000
END:STANDARD
BEGIN:DAYLIGHT
TZOFFSETFROM:-0500
TZOFFSETTO:-0400
TZNAME:EDT
DTSTART:20270314T070000
END:DAYLIGHT
BEGIN:STANDARD
TZOFFSETFROM:-0400
TZOFFSETTO:-0500
TZNAME:EST
DTSTART:20271107T060000
END:STANDARD
END:VTIMEZONE
BEGIN:VEVENT
DTSTART;TZID=America/New_York:20260424T200000
DTEND;TZID=America/New_York:20260426T233000
DTSTAMP:20260423T072949
CREATED:20260420T120616Z
LAST-MODIFIED:20260420T120712Z
UID:87174-1777060800-1777246200@explorenewjersey.org
SUMMARY:Green Day's American Idiot
DESCRIPTION:Green Day’s American Idiot Ignites the Jersey Shore Arts Center as Ocean Grove Becomes the Epicenter of New Jersey’s Spring Theatre Surge \n\n\n\n\n\n\n\n\n\nNew Jersey’s theatre scene continues its powerful ascent this spring\, and nowhere is that momentum more electrifying than along the Jersey Shore\, where Green Day’s American Idiot is set to take over the stage at Jersey Shore Arts Center from April 24 through May 2\, 2026. In a state already recognized for its depth of performing arts talent and its growing reputation as a destination for bold\, contemporary productions\, this high-impact staging represents a defining moment—one where music\, narrative\, and cultural reflection converge in a way that feels both immediate and enduring. \n\n\n\nAt its core\, American Idiot is not simply a musical adaptation; it is a fully realized rock opera that channels the emotional volatility and searching spirit of a generation shaped by uncertainty and transformation. Built around the iconic catalog of Green Day\, the production follows three lifelong friends—Johnny\, Tunny\, and Will—as they attempt to navigate identity\, ambition\, and disillusionment in a post-9/11 America. Their journeys diverge and collide in ways that reflect broader societal tensions\, making the narrative as relevant today as it was at its inception. \n\n\n\nWhat distinguishes this production within New Jersey’s theatre landscape is its intensity. This is a show driven by velocity—musically\, emotionally\, and visually. Songs like “Boulevard of Broken Dreams\,” “Wake Me Up When September Ends\,” “21 Guns\,” “Holiday\,” and “Jesus of Suburbia” are not treated as standalone performances\, but as integral narrative engines that propel the story forward. The result is a seamless fusion of concert energy and theatrical storytelling\, creating an experience that resonates with both traditional theatre audiences and fans of contemporary music. \n\n\n\nThe selection of the Jersey Shore Arts Center as the venue adds another layer of significance. Located in Ocean Grove\, a community long associated with artistic expression and historic performance spaces\, the venue provides an intimate yet dynamic setting that amplifies the emotional immediacy of the production. Unlike larger metropolitan theatres\, where scale can sometimes distance the audience from the performers\, this setting fosters a direct connection—one that aligns perfectly with the raw\, unfiltered energy of American Idiot. \n\n\n\nThis production also reflects a broader evolution taking place across New Jersey’s performing arts sector. As highlighted throughout Explore New Jersey’s theatre coverage\, venues across the state are increasingly embracing works that challenge\, provoke\, and engage audiences on a deeper level. The shift toward contemporary\, music-driven narratives signals a recognition that theatre is not static; it is a living medium that must continuously adapt to reflect the cultural moment. \n\n\n\nAmerican Idiot embodies this shift with precision. Its themes—disconnection\, rebellion\, the search for purpose—are not confined to a specific era. They speak to ongoing conversations about identity and belonging\, particularly among younger audiences who see their own experiences mirrored in the characters’ struggles. At the same time\, the production offers a sense of nostalgia and recognition for those who came of age during the album’s original release\, creating a multi-generational appeal that is rare within the theatrical space. \n\n\n\nFrom a production standpoint\, the demands of staging American Idiot are considerable. The show requires not only strong vocal performances but also the ability to sustain a high level of physical and emotional intensity throughout. The choreography\, lighting\, and sound design must work in tandem to create an immersive environment that captures the urgency of the music while maintaining narrative clarity. When executed effectively\, the result is not just a performance\, but an experience—one that leaves a lasting impression long after the final note. \n\n\n\nThe timing of this run further enhances its impact. Positioned in late April and early May\, the production arrives as New Jersey’s cultural calendar begins to accelerate into the spring and summer seasons. It serves as both a centerpiece event and a catalyst\, drawing audiences to the Shore and reinforcing the region’s role as a year-round destination for the arts. \n\n\n\nFor Explore New Jersey\, this moment represents a convergence of storytelling and place. The state’s theatre ecosystem is not defined solely by its proximity to New York City\, but by its own distinct voice—one that is increasingly confident\, innovative\, and willing to take creative risks. Productions like American Idiot are a testament to that evolution\, demonstrating that New Jersey is not just participating in the broader theatre conversation\, but actively shaping it. \n\n\n\nAs audiences gather in Ocean Grove to experience this production\, they are engaging with more than a musical. They are stepping into a narrative that reflects the complexities of modern life\, delivered through a medium that combines the immediacy of live performance with the emotional power of music. It is theatre at its most visceral\, its most relevant\, and its most compelling. \n\n\n\nIn bringing Green Day’s American Idiot to the Jersey Shore Arts Center\, New Jersey once again affirms its position as a destination where culture is not only preserved\, but continuously reimagined.
URL:https://explorenewjersey.org/event/green-days-american-idiot/
LOCATION:Jersey Shore Arts Center\, 66 South Main Street\, Ocean Grove\, New Jersey\, 07756\, United States
CATEGORIES:Music,Theatre
ATTACH;FMTTYPE=image/avif:https://explorenewjersey.org/wp-content/uploads/2026/04/3c71cc_9db51c9af6104b6dbbef7b0fc48efd4cmv2.avif
END:VEVENT
END:VCALENDAR