BEGIN:VCALENDAR
VERSION:2.0
PRODID:-//Explore New Jersey - ECPv6.15.20//NONSGML v1.0//EN
CALSCALE:GREGORIAN
METHOD:PUBLISH
X-WR-CALNAME:Explore New Jersey
X-ORIGINAL-URL:https://explorenewjersey.org
X-WR-CALDESC:Events for Explore New Jersey
REFRESH-INTERVAL;VALUE=DURATION:PT1H
X-Robots-Tag:noindex
X-PUBLISHED-TTL:PT1H
BEGIN:VTIMEZONE
TZID:America/New_York
BEGIN:DAYLIGHT
TZOFFSETFROM:-0500
TZOFFSETTO:-0400
TZNAME:EDT
DTSTART:20240310T070000
END:DAYLIGHT
BEGIN:STANDARD
TZOFFSETFROM:-0400
TZOFFSETTO:-0500
TZNAME:EST
DTSTART:20241103T060000
END:STANDARD
BEGIN:DAYLIGHT
TZOFFSETFROM:-0500
TZOFFSETTO:-0400
TZNAME:EDT
DTSTART:20250309T070000
END:DAYLIGHT
BEGIN:STANDARD
TZOFFSETFROM:-0400
TZOFFSETTO:-0500
TZNAME:EST
DTSTART:20251102T060000
END:STANDARD
BEGIN:DAYLIGHT
TZOFFSETFROM:-0500
TZOFFSETTO:-0400
TZNAME:EDT
DTSTART:20260308T070000
END:DAYLIGHT
BEGIN:STANDARD
TZOFFSETFROM:-0400
TZOFFSETTO:-0500
TZNAME:EST
DTSTART:20261101T060000
END:STANDARD
END:VTIMEZONE
BEGIN:VEVENT
DTSTART;TZID=America/New_York:20251001T180000
DTEND;TZID=America/New_York:20251001T233000
DTSTAMP:20260421T080853
CREATED:20250710T165358Z
LAST-MODIFIED:20250710T165400Z
UID:45616-1759341600-1759361400@explorenewjersey.org
SUMMARY:$uicideboy$ present Grey Day Tour 2025 w. BONES & more
DESCRIPTION:uicideboy Bring the Grey Day Tour 2025 to the Camden Waterfront\n\n\n\n\n\n\n\n\n\nPrepare for an intense night of underground hip-hop as the renowned duo uicideboy brings their explosive “Grey Day Tour 2025” to the Freedom Mortgage Pavilion. Known for their genre-bending sound that seamlessly merges punk rap\, trap\, and emo rap\, uicideboy have cultivated a massive\, dedicated following. \n\n\n\nThis highly anticipated event takes place on Wednesday\, October 1\, 2025\, with the show starting at 6:30 PM. The Grey Day Tour is celebrated for its powerful lineup\, which includes underground icon BONES\, alongside dynamic supporting artists like Night Lovell\, Germ\, and Chetta. \n\n\n\nThe Freedom Mortgage Pavilion\, located in the vibrant Camden Waterfront entertainment district\, provides a spectacular setting on the Delaware River for this monumental tour. Experience this unique convergence of rap and hardcore energy against the backdrop of the Philadelphia skyline at one of New Jersey’s premier outdoor venues. \n\n\n\n\n\n\n\nStay connected with the Explore New Jersey Directory for more incredible events\, must-see attractions\, and local insights that make the Garden State truly shine! You can hear live music on Live Jam! \n\n\n\n\n\n\n\n🎟️ Tickets\, Merchandise & Info:\n\n\n\nAccessible seating available for all guests. \n\n\n\nClick here to go to the Merch Stand in The Vending Lot.
URL:https://explorenewjersey.org/event/uicideboy-present-grey-day-tour-2025-w-bones-more/
LOCATION:Freedom Mortgage Pavilion\, 1 Harbour Blvd\, Camden\, New Jersey\, 08103\, United States
CATEGORIES:Concerts,Music
ATTACH;FMTTYPE=image/jpeg:https://explorenewjersey.org/wp-content/uploads/2025/07/Suicideboys_2025_AllDates_1080x1350_TourPoster01g_1024x1024.jpg
ORGANIZER;CN="Live Nation Entertainment":MAILTO:https://www.livenation.com/
END:VEVENT
BEGIN:VEVENT
DTSTART;TZID=America/New_York:20251011T180000
DTEND;TZID=America/New_York:20251011T233000
DTSTAMP:20260421T080853
CREATED:20250710T165915Z
LAST-MODIFIED:20251001T182508Z
UID:45599-1760205600-1760225400@explorenewjersey.org
SUMMARY:Avatar: The Last Airbender
DESCRIPTION:Avatar: The Last Airbender in Concert — A Live Orchestral Journey\n\n\n\n\n\n\n\n\n\nPrepare to be transported back into the elemental world of Aang and his companions as “Avatar: The Last Airbender in Concert” arrives at the Freedom Mortgage Pavilion. This captivating event celebrates the 20th anniversary of the beloved series with a truly immersive experience. \n\n\n\nOn Saturday\, October 11\, 2025\, beginning at 7:30 PM\, a full live orchestra will perform Emmy Award-winning composer Jeremy Zuckerman’s iconic score\, perfectly synchronized with a curated selection of the series’ most memorable moments shown on a full-size cinema screen. This unique blend of Eastern and Western musical elements alongside the show’s original dialogue and sound effects creates a mesmerizing performance. \n\n\n\nExperience the epic quest and timeless themes of Avatar against the backdrop of the stunning Camden Waterfront. The Freedom Mortgage Pavilion offers a spectacular outdoor setting\, making this a must-see event for fans and music enthusiasts alike. \n\n\n\n\n\n\n\nStay connected with the Explore New Jersey Directory for more incredible events\, must-see attractions\, and local insights that make the Garden State truly shine! You can hear live music on Live Jam! \n\n\n\n\n\n\n\n🎟️ Tickets\, Merchandise & Info:\n\n\n\nAccessible seating available for all guests. \n\n\n\nClick here to go to the Merch Stand in The Vending Lot.
URL:https://explorenewjersey.org/event/avatar-the-last-airbender/
LOCATION:Freedom Mortgage Pavilion\, 1 Harbour Blvd\, Camden\, New Jersey\, 08103\, United States
CATEGORIES:Concerts,Music,Theatre
ATTACH;FMTTYPE=image/png:https://explorenewjersey.org/wp-content/uploads/2025/07/images-3.png
ORGANIZER;CN="Live Nation Entertainment":MAILTO:https://www.livenation.com/
END:VEVENT
END:VCALENDAR