BEGIN:VCALENDAR
VERSION:2.0
PRODID:-//Explore New Jersey - ECPv6.15.20//NONSGML v1.0//EN
CALSCALE:GREGORIAN
METHOD:PUBLISH
X-WR-CALNAME:Explore New Jersey
X-ORIGINAL-URL:https://explorenewjersey.org
X-WR-CALDESC:Events for Explore New Jersey
REFRESH-INTERVAL;VALUE=DURATION:PT1H
X-Robots-Tag:noindex
X-PUBLISHED-TTL:PT1H
BEGIN:VTIMEZONE
TZID:America/New_York
BEGIN:DAYLIGHT
TZOFFSETFROM:-0500
TZOFFSETTO:-0400
TZNAME:EDT
DTSTART:20240310T070000
END:DAYLIGHT
BEGIN:STANDARD
TZOFFSETFROM:-0400
TZOFFSETTO:-0500
TZNAME:EST
DTSTART:20241103T060000
END:STANDARD
BEGIN:DAYLIGHT
TZOFFSETFROM:-0500
TZOFFSETTO:-0400
TZNAME:EDT
DTSTART:20250309T070000
END:DAYLIGHT
BEGIN:STANDARD
TZOFFSETFROM:-0400
TZOFFSETTO:-0500
TZNAME:EST
DTSTART:20251102T060000
END:STANDARD
BEGIN:DAYLIGHT
TZOFFSETFROM:-0500
TZOFFSETTO:-0400
TZNAME:EDT
DTSTART:20260308T070000
END:DAYLIGHT
BEGIN:STANDARD
TZOFFSETFROM:-0400
TZOFFSETTO:-0500
TZNAME:EST
DTSTART:20261101T060000
END:STANDARD
END:VTIMEZONE
BEGIN:VEVENT
DTSTART;TZID=America/New_York:20250905T180000
DTEND;TZID=America/New_York:20250905T233000
DTSTAMP:20260424T025230
CREATED:20250710T162647Z
LAST-MODIFIED:20250710T162649Z
UID:45601-1757095200-1757115000@explorenewjersey.org
SUMMARY:The Thuggish-Ruggish-Mafia Tour
DESCRIPTION:The Thuggish-Ruggish-Mafia Tour: Hip-Hop Legends Unite in Camden\n\n\n\n\n\n\n\n\n\nGet ready for an unforgettable night of classic hip-hop as two of the genre’s most iconic groups\, Bone Thugs-n-Harmony and Three 6 Mafia\, co-headline the highly anticipated Thuggish-Ruggish-Mafia Tour. This is a rare opportunity to witness a legendary pairing that has shaped the sound of hip-hop for decades. \n\n\n\nFor their stop at the picturesque Freedom Mortgage Pavilion on Friday\, September 5\, 2025\, these two collectives will bring their signature sounds to the Camden waterfront. The tour is a celebration of their enduring legacies\, with Bone Thugs-n-Harmony marking their 30th anniversary and Three 6 Mafia’s founding members DJ Paul and Juicy J continuing their powerful resurgence. \n\n\n\nSet to begin at 7:30 PM\, this concert promises an electric atmosphere as fans experience the groups’ most celebrated hits\, from Bone Thugs-n-Harmony’s melodic rap flows to Three 6 Mafia’s hard-hitting beats. This is a must-see event for any hip-hop enthusiast and a highlight of New Jersey’s concert season. Don’t miss your chance to see these trailblazers live and in person. \n\n\n\n\n\n\n\nStay connected with the Explore New Jersey Directory for more incredible events\, must-see attractions\, and local insights that make the Garden State truly shine! You can hear live music on Live Jam! \n\n\n\n\n\n\n\n🎟️ Tickets\, Merchandise & Info:\n\n\n\nAccessible seating available for all guests. \n\n\n\nClick here to go to the Merch Stand in The Vending Lot.
URL:https://explorenewjersey.org/event/the-thuggish-ruggish-mafia-tour/
LOCATION:Freedom Mortgage Pavilion\, 1 Harbour Blvd\, Camden\, New Jersey\, 08103\, United States
CATEGORIES:Concerts,Music
ATTACH;FMTTYPE=image/jpeg:https://explorenewjersey.org/wp-content/uploads/2025/07/static_vip_1280x720_bonethugsnharmony_2025_national_1749251435.jpg
ORGANIZER;CN="Live Nation Entertainment":MAILTO:https://www.livenation.com/
END:VEVENT
BEGIN:VEVENT
DTSTART;TZID=America/New_York:20250911T180000
DTEND;TZID=America/New_York:20250911T233000
DTSTAMP:20260424T025230
CREATED:20250710T163124Z
LAST-MODIFIED:20250710T163126Z
UID:45600-1757613600-1757633400@explorenewjersey.org
SUMMARY:A Day To Remember & Yellowcard - Maximum Fun Tour
DESCRIPTION:The Maximum Fun Tour: A Day To Remember and Yellowcard Rock the Camden Waterfront\n\n\n\n\n\n\n\n\n\nPrepare for a night of explosive energy and nostalgic anthems as two giants of the alternative rock scene\, A Day To Remember and Yellowcard\, bring their highly anticipated “Maximum Fun Tour” to New Jersey. This co-headlining event is set to deliver an unforgettable experience\, blending diverse sounds from pop-punk\, post-hardcore\, and metalcore. \n\n\n\nJoin the excitement on Thursday\, September 11\, 2025\, at the iconic Freedom Mortgage Pavilion in Camden. The show starts at 6:15 PM\, promising a dynamic evening under the stars. Fans will be treated to the genre-bending sound of A Day To Remember\, known for their high-energy live performances\, alongside Yellowcard’s emotionally charged catalog and signature violin twist. \n\n\n\nThe Freedom Mortgage Pavilion\, situated on the scenic Delaware River\, offers a spectacular setting for this massive concert\, with views of the Philadelphia skyline creating the perfect backdrop for a night of musical intensity. Don’t miss this opportunity to see two influential bands unite for a tour that truly lives up to its name. \n\n\n\nThis listing is unique\, captures the energy of the event\, includes relevant SEO keywords (A Day To Remember\, Yellowcard\, Freedom Mortgage Pavilion\, genres\, tour name)\, and fits the “Explore New Jersey” tone.Freedom Mortgage Pavilion\, Camden\, NJ \n\n\n\nThe Maximum Fun Tour: A Day To Remember and Yellowcard Bring High-Energy Rock to the Waterfront \n\n\n\nGet ready for an electrifying night of pop-punk and alternative rock as two influential bands\, A Day To Remember and Yellowcard\, co-headline the highly anticipated “Maximum Fun Tour” in New Jersey. This event promises to be a dynamic showcase of genre-blending sounds\, from A Day To Remember’s explosive blend of metalcore and post-hardcore to Yellowcard’s signature violin-infused pop-punk anthems. \n\n\n\nJoin the crowd on Thursday\, September 11\, 2025\, at the renowned Freedom Mortgage Pavilion in Camden. The show kicks off at 6:15 PM at this premier outdoor amphitheater. Situated right on the Delaware River\, the venue offers a stunning backdrop of the Philadelphia skyline\, creating the perfect setting for a night filled with unforgettable music and high-energy performances. Don’t miss your chance to experience the combined power of these two iconic rock acts live. \n\n\n\n\n\n\n\nStay connected with the Explore New Jersey Directory for more incredible events\, must-see attractions\, and local insights that make the Garden State truly shine! You can hear live music on Live Jam! \n\n\n\n\n\n\n\n🎟️ Tickets\, Merchandise & Info:\n\n\n\nAccessible seating available for all guests. \n\n\n\nClick here to go to the Merch Stand in The Vending Lot.
URL:https://explorenewjersey.org/event/a-day-to-remember-yellowcard-maximum-fun-tour/
LOCATION:Freedom Mortgage Pavilion\, 1 Harbour Blvd\, Camden\, New Jersey\, 08103\, United States
CATEGORIES:Concerts,Music
ATTACH;FMTTYPE=image/jpeg:https://explorenewjersey.org/wp-content/uploads/2025/07/static_vip_1280x1280_adtr_yc_2025_1748906509.jpg
ORGANIZER;CN="Live Nation Entertainment":MAILTO:https://www.livenation.com/
END:VEVENT
BEGIN:VEVENT
DTSTART;TZID=America/New_York:20250912T180000
DTEND;TZID=America/New_York:20250912T233000
DTSTAMP:20260424T025230
CREATED:20250710T163910Z
LAST-MODIFIED:20250814T162123Z
UID:45609-1757700000-1757719800@explorenewjersey.org
SUMMARY:The Outlaw Music Festival - Willie Nelson\, Bob Dylan\, Sheryl Crow & More
DESCRIPTION:The Outlaw Music Festival: A Legendary Lineup Hits the Camden Waterfront\n\n\n\n\n\n\n\n\n\nExperience a truly historic gathering of musical icons as the Outlaw Music Festival returns to New Jersey. This extraordinary event brings together a star-studded lineup of genre-defying artists\, celebrating the enduring spirit of Americana\, country\, folk\, and rock music. \n\n\n\nOn Friday\, September 12\, 2025\, starting at 4:00 PM\, the Freedom Mortgage Pavilion in Camden will host living legends Willie Nelson and Bob Dylan\, alongside the incomparable Sheryl Crow. This highly anticipated festival stop promises an evening of timeless anthems and unforgettable performances. \n\n\n\nThe lineup for this exclusive Camden date also features dynamic talents like Waxahatchee and Madeline Edwards\, ensuring a diverse and captivating experience. Situated on the beautiful Delaware River\, the Freedom Mortgage Pavilion offers stunning views of the Philadelphia skyline\, providing a spectacular backdrop for this monumental concert. Don’t miss this rare opportunity to witness some of the greatest names in music history on one stage. \n\n\n\n\n\n\n\nStay connected with the Explore New Jersey Directory for more incredible events\, must-see attractions\, and local insights that make the Garden State truly shine! You can hear live music on Live Jam! \n\n\n\n\n\n\n\n\n\n\n\n🎟️ Tickets\, Merchandise & Info:\n\n\n\nAccessible seating available for all guests. \n\n\n\nClick here to go to the Merch Stand in The Vending Lot.
URL:https://explorenewjersey.org/event/the-outlaw-music-festival-willie-nelson-bob-dylan-sheryl-crow-more/
LOCATION:Freedom Mortgage Pavilion\, 1 Harbour Blvd\, Camden\, New Jersey\, 08103\, United States
CATEGORIES:Concerts,Music
ATTACH;FMTTYPE=image/webp:https://explorenewjersey.org/wp-content/uploads/2025/07/Outlaw-Festival-Wheatland.webp
ORGANIZER;CN="Live Nation Entertainment":MAILTO:https://www.livenation.com/
END:VEVENT
BEGIN:VEVENT
DTSTART;TZID=America/New_York:20250924T180000
DTEND;TZID=America/New_York:20250924T233000
DTSTAMP:20260424T025230
CREATED:20250710T164640Z
LAST-MODIFIED:20250710T164642Z
UID:45608-1758736800-1758756600@explorenewjersey.org
SUMMARY:Tyler Childers: On The Road
DESCRIPTION:Tyler Childers: On The Road — Appalachian Authenticity Hits the Waterfront\n\n\n\n\n\n\n\n\n\nExperience the raw power of authentic storytelling and roots music as acclaimed country and folk artist Tyler Childers brings his “On The Road” tour to the Freedom Mortgage Pavilion in Camden. Known for his unique blend of neotraditional country\, bluegrass\, and honky-tonk\, Childers delivers a poignant sound deeply rooted in the Appalachian tradition. \n\n\n\nJoin us on Wednesday\, September 24\, 2025\, for a night of honest lyrics and captivating performances. The show begins at 6:45 PM\, featuring special guests Medium Build and SOMA. \n\n\n\nLocated on the scenic Camden Waterfront\, the Freedom Mortgage Pavilion provides a dynamic outdoor setting for this must-see event. With the Delaware River and the Philadelphia skyline as a stunning backdrop\, immerse yourself in the rich musical journey of one of contemporary country’s most compelling voices. \n\n\n\n\n\n\n\nStay connected with the Explore New Jersey Directory for more incredible events\, must-see attractions\, and local insights that make the Garden State truly shine! You can hear live music on Live Jam! \n\n\n\n\n\n\n\n🎟️ Tickets\, Merchandise & Info:\n\n\n\nAccessible seating available for all guests. \n\n\n\nClick here to go to the Merch Stand in The Vending Lot.
URL:https://explorenewjersey.org/event/tyler-childers-on-the-road/
LOCATION:Freedom Mortgage Pavilion\, 1 Harbour Blvd\, Camden\, New Jersey\, 08103\, United States
CATEGORIES:Concerts,Music
ATTACH;FMTTYPE=image/webp:https://explorenewjersey.org/wp-content/uploads/2025/07/tylerchildersbannerfreedom.jpg-18-1024x366-1.webp
ORGANIZER;CN="Live Nation Entertainment":MAILTO:https://www.livenation.com/
END:VEVENT
END:VCALENDAR