BEGIN:VCALENDAR
VERSION:2.0
PRODID:-//Explore New Jersey - ECPv6.15.20//NONSGML v1.0//EN
CALSCALE:GREGORIAN
METHOD:PUBLISH
X-WR-CALNAME:Explore New Jersey
X-ORIGINAL-URL:https://explorenewjersey.org
X-WR-CALDESC:Events for Explore New Jersey
REFRESH-INTERVAL;VALUE=DURATION:PT1H
X-Robots-Tag:noindex
X-PUBLISHED-TTL:PT1H
BEGIN:VTIMEZONE
TZID:America/New_York
BEGIN:DAYLIGHT
TZOFFSETFROM:-0500
TZOFFSETTO:-0400
TZNAME:EDT
DTSTART:20250309T070000
END:DAYLIGHT
BEGIN:STANDARD
TZOFFSETFROM:-0400
TZOFFSETTO:-0500
TZNAME:EST
DTSTART:20251102T060000
END:STANDARD
BEGIN:DAYLIGHT
TZOFFSETFROM:-0500
TZOFFSETTO:-0400
TZNAME:EDT
DTSTART:20260308T070000
END:DAYLIGHT
BEGIN:STANDARD
TZOFFSETFROM:-0400
TZOFFSETTO:-0500
TZNAME:EST
DTSTART:20261101T060000
END:STANDARD
BEGIN:DAYLIGHT
TZOFFSETFROM:-0500
TZOFFSETTO:-0400
TZNAME:EDT
DTSTART:20270314T070000
END:DAYLIGHT
BEGIN:STANDARD
TZOFFSETFROM:-0400
TZOFFSETTO:-0500
TZNAME:EST
DTSTART:20271107T060000
END:STANDARD
END:VTIMEZONE
BEGIN:VEVENT
DTSTART;TZID=America/New_York:20261001T190000
DTEND;TZID=America/New_York:20261004T233000
DTSTAMP:20260422T192516
CREATED:20260419T115936Z
LAST-MODIFIED:20260419T115940Z
UID:87073-1790881200-1791156600@explorenewjersey.org
SUMMARY:Nacho Ate Spiderman
DESCRIPTION:“Nacho Ate Spiderman” Brings Sharp Comedy and Suburban Collision to New Jersey Repertory Company This October \n\n\n\n\n\n\n\n\n\nNew Jersey’s theatre scene continues to push beyond expectations\, delivering work that is as entertaining as it is incisive\, and this fall\, New Jersey Repertory Company once again positions itself at the forefront of that movement with Nacho Ate Spiderman\, opening October 1 at 7:00 PM in Long Branch. Set within the company’s intimate performance space at 179 Broadway\, this production arrives with a deceptively playful title and a premise that quickly evolves into something far more layered\, offering audiences a comedic experience that cuts deep into the realities of modern community life. \n\n\n\nAs audiences across the state increasingly seek theatre that balances humor with substance\, productions like this highlight why readers continue to rely on Explore New Jersey’s theatre coverage to discover performances that resonate beyond the surface. Nacho Ate Spiderman is not simply a comedy—it is a carefully constructed examination of how quickly civility can unravel when personal boundaries\, values\, and identities collide. \n\n\n\nAt its core\, the story begins with what appears to be a minor neighborhood incident: the disappearance of a prized rabbit named Spiderman. Not just any pet\, Spiderman is an award-winning\, meticulously bred animal whose absence carries emotional and symbolic weight for its owner. Suspicion immediately falls on Nacho\, a recently adopted rescue dog whose friendly demeanor and recent escape under the dividing fence between properties place him squarely at the center of the controversy. What follows is not a straightforward mystery\, but a rapidly escalating conflict between neighbors whose differences extend far beyond their pets. \n\n\n\nThe setting—a sunny\, progressive beach community—initially suggests harmony\, openness\, and shared values. However\, as the narrative unfolds\, that surface-level cohesion begins to fracture. The incident involving the animals becomes a catalyst for something much larger\, exposing underlying tensions\, assumptions\, and contradictions that had previously remained unspoken. The humor emerges not from exaggeration alone\, but from recognition—audiences see reflections of real-world dynamics in the characters’ reactions\, decisions\, and escalating disputes. \n\n\n\nWhat distinguishes Nacho Ate Spiderman is its ability to operate on multiple levels simultaneously. On one level\, it delivers the fast-paced\, character-driven comedy that audiences expect\, complete with sharp dialogue and escalating situations. On another\, it functions as a commentary on contemporary social interaction\, exploring how identity\, ideology\, and personal values intersect—and often clash—within close-knit communities. The result is a production that invites laughter while also encouraging deeper reflection. \n\n\n\nNew Jersey Repertory Company provides an ideal environment for this kind of work. Known for its commitment to developing and presenting new plays\, the company has built a reputation for bringing bold\, original voices to the stage. Its theatre space is designed to eliminate distance between performer and audience\, creating an immediate and immersive experience where every line\, gesture\, and reaction carries weight. In a production like Nacho Ate Spiderman\, where timing and nuance are critical\, this proximity enhances both the comedic impact and the underlying tension. \n\n\n\nThe October 1 performance\, priced at $65.00 including fees\, represents more than a night of entertainment—it is an opportunity to engage with a work that reflects the complexities of modern life through the lens of humor. The play’s structure allows for a gradual escalation\, beginning with a seemingly contained dispute and expanding into a broader examination of how individuals navigate conflict\, defend their perspectives\, and ultimately reveal their true selves under pressure. \n\n\n\nFrom a performance standpoint\, the material demands precision and versatility. The characters are not caricatures; they are fully realized individuals whose motivations\, contradictions\, and vulnerabilities drive the narrative forward. The actors must balance comedic timing with emotional authenticity\, ensuring that the humor never undermines the stakes\, and that the stakes never overshadow the humor. This balance is essential to the play’s effectiveness\, and within the framework of New Jersey Repertory Company’s production approach\, it is given the attention it requires. \n\n\n\nThematically\, Nacho Ate Spiderman aligns with a broader shift within New Jersey theatre toward work that engages directly with contemporary issues while remaining accessible and engaging. It reflects an understanding that audiences are looking for stories that mirror their own experiences—not in a literal sense\, but in the way those stories capture the complexities of human interaction. By grounding its narrative in a familiar setting and then pushing beyond it\, the play creates a space where audiences can both recognize and reconsider the dynamics at play. \n\n\n\nThe Long Branch location further enhances the production’s relevance. As coastal communities continue to grow and diversify\, the themes explored in the play resonate with a wide range of audiences\, reflecting the evolving nature of neighborhood identity and interaction. The accessibility of New Jersey Repertory Company ensures that this work reaches not only dedicated theatre-goers\, but also those who may be encountering this level of storytelling for the first time. \n\n\n\nOperationally\, the venue maintains a clear and audience-focused approach\, with accessible ticketing\, direct communication channels\, and a commitment to ensuring that each performance runs smoothly. This infrastructure supports the artistic work without overshadowing it\, allowing the focus to remain firmly on the experience itself. \n\n\n\nWhat ultimately defines Nacho Ate Spiderman is its ability to transform a simple premise into a complex and engaging exploration of human behavior. It takes a situation that might initially seem trivial and reveals the layers beneath it\, demonstrating how quickly everyday interactions can evolve into something far more significant. \n\n\n\nAs New Jersey continues to establish itself as a destination for thoughtful\, high-caliber theatre\, productions like this play a crucial role in shaping that identity. They demonstrate that comedy can be both entertaining and meaningful\, that local stories can carry universal weight\, and that the stage remains one of the most powerful platforms for exploring the nuances of contemporary life. \n\n\n\nOn October 1\, audiences at New Jersey Repertory Company will encounter a production that is as sharp as it is engaging\, as humorous as it is revealing. It is a performance that begins with a missing rabbit and ends with something much larger—a reflection of how we live\, how we connect\, and how we respond when those connections are tested.
URL:https://explorenewjersey.org/event/nacho-ate-spiderman/
LOCATION:New Jersey Repertory Company\, 179 Broadway\, Long Branch\, New Jersey\, 07740\, United States
CATEGORIES:Theatre
ATTACH;FMTTYPE=image/jpeg:https://explorenewjersey.org/wp-content/uploads/2026/04/300x300_1773165844.jpg
ORGANIZER;CN="NJRep":MAILTO:boxoffice@njrep.org
END:VEVENT
END:VCALENDAR