BEGIN:VCALENDAR
VERSION:2.0
PRODID:-//Explore New Jersey - ECPv6.15.20//NONSGML v1.0//EN
CALSCALE:GREGORIAN
METHOD:PUBLISH
X-WR-CALNAME:Explore New Jersey
X-ORIGINAL-URL:https://explorenewjersey.org
X-WR-CALDESC:Events for Explore New Jersey
REFRESH-INTERVAL;VALUE=DURATION:PT1H
X-Robots-Tag:noindex
X-PUBLISHED-TTL:PT1H
BEGIN:VTIMEZONE
TZID:America/New_York
BEGIN:DAYLIGHT
TZOFFSETFROM:-0500
TZOFFSETTO:-0400
TZNAME:EDT
DTSTART:20240310T070000
END:DAYLIGHT
BEGIN:STANDARD
TZOFFSETFROM:-0400
TZOFFSETTO:-0500
TZNAME:EST
DTSTART:20241103T060000
END:STANDARD
BEGIN:DAYLIGHT
TZOFFSETFROM:-0500
TZOFFSETTO:-0400
TZNAME:EDT
DTSTART:20250309T070000
END:DAYLIGHT
BEGIN:STANDARD
TZOFFSETFROM:-0400
TZOFFSETTO:-0500
TZNAME:EST
DTSTART:20251102T060000
END:STANDARD
BEGIN:DAYLIGHT
TZOFFSETFROM:-0500
TZOFFSETTO:-0400
TZNAME:EDT
DTSTART:20260308T070000
END:DAYLIGHT
BEGIN:STANDARD
TZOFFSETFROM:-0400
TZOFFSETTO:-0500
TZNAME:EST
DTSTART:20261101T060000
END:STANDARD
END:VTIMEZONE
BEGIN:VEVENT
DTSTART;TZID=America/New_York:20250920T180000
DTEND;TZID=America/New_York:20250920T233000
DTSTAMP:20260425T124420
CREATED:20250916T172542Z
LAST-MODIFIED:20250916T172618Z
UID:59298-1758391200-1758411000@explorenewjersey.org
SUMMARY:Urban Legends of Comedy Tour
DESCRIPTION:Urban Legends of Comedy Tour – Live at UCPAC Rahway \n\n\n\n\n\n\n\n\n\nGet ready for a night of nonstop laughter as the Urban Legends of Comedy Tour brings its powerhouse lineup to the Union County Performing Arts Center (UCPAC) in Rahway on Saturday\, September 20\, 2025. Known for their unforgettable performances on BET\, Def Jam Comedy\, MTV\, and 94.7 The Block\, this crew of comedy veterans and rising stars promises a show that will keep the entire theater roaring with laughter. \n\n\n\nThe evening will be hosted by the iconic Miss Jones\, with music provided by DJ Ty-Brand\, setting the tone for an energy-packed night. \n\n\n\nEvent Details \n\n\n\n\nDate: Saturday\, September 20\, 2025\n\n\n\nTime: Doors open at 7 p.m.\, show starts at 8 p.m.\n\n\n\nLocation: Union County Performing Arts Center\, 1601 Irving Street\, Rahway\, NJ\n\n\n\nTickets: Prices range from $36 to $83 (all-inclusive). Available through UCPAC’s official website and authorized ticket outlets.\n\n\n\n\nComedian Lineup \n\n\n\n\nHeadliners: Talent\, Ed Lover\, Joe Clair\n\n\n\nFeatured Performers: Julio Diaz\, Ambur James\, GL Douglas\, Just Ray\n\n\n\nHost: Miss Jones\n\n\n\nDJ: DJ Ty-Brand\n\n\n\n\nWhether you’ve seen them on TV or heard them on the radio\, this is your chance to experience these comedians live on stage. The mix of seasoned legends and up-and-coming talent makes this tour stop one of New Jersey’s must-see comedy events of the year.
URL:https://explorenewjersey.org/event/urban-legends-of-comedy-tour/
LOCATION:Union County Performing Arts Center (UCPAC)\, 1601 Irving St.\, Rahway\, NJ\, 07065\, United States
CATEGORIES:Stand-Up Comedy
ATTACH;FMTTYPE=image/png:https://explorenewjersey.org/wp-content/uploads/2025/09/a4c8764e-ae8f-43b9-be00-354bcbdac9dc.png
END:VEVENT
BEGIN:VEVENT
DTSTART;TZID=America/New_York:20250925T160000
DTEND;TZID=America/New_York:20250925T233000
DTSTAMP:20260425T124420
CREATED:20250909T102659Z
LAST-MODIFIED:20250909T103653Z
UID:57524-1758816000-1758843000@explorenewjersey.org
SUMMARY:John Candy: I Like Me—An Evening with Ryan Reynolds & Friends
DESCRIPTION:Experience a Special Night with Ryan Reynolds & Friends: “John Candy: I Like Me” Documentary Screening \n\n\n\n\n\n\n\n\n\nDate: Thursday\, September 25 at 7:00 PM \n\n\n\nEvent Overview:Celebrate the life of the legendary John Candy in a one-of-a-kind documentary event\, John Candy: I Like Me. Join Ryan Reynolds and a star-studded lineup of special guests for a heartwarming evening that honors the iconic actor’s legacy. Featuring exclusive\, never-before-seen archival footage\, personal interviews\, and memorable moments\, this documentary captures the essence of John Candy—one of Hollywood’s most beloved figures. \n\n\n\nThe evening will also include an engaging Q&A session\, where Ryan Reynolds\, along with John Candy’s family and close friends\, will share stories and reflections on his life and career. This special event gives fans a chance to dive deeper into the man behind the laughs\, exploring his impact on both the entertainment world and those who knew him best. \n\n\n\nProceeds Benefiting St. Jude Children’s Research Hospital:All net proceeds from the screening will go directly to St. Jude Children’s Research Hospital®\, dedicated to its mission of Finding cures. Saving children. By attending\, you’re helping support life-saving research and treatment for children around the world. \n\n\n\nThank You to Our Official Tour Sponsor: Clearly Canadian \n\n\n\nTicket Sales Information: \n\n\n\n\nGeneral Sale: Opens Wednesday\, September 10 at 10 AM\n\n\n\nExclusive Pre-sale for Members ($500+): Starts Tuesday\, September 9 at 10 AM\n\n\n\n\nBecome a member today to enjoy early ticket access and support the State Theatre’s mission to provide rich cultural programming and educational opportunities to the community. \n\n\n\nDon’t miss out on this unforgettable evening! \n\n\n\nLEARN MORE and Get Your Tickets Now
URL:https://explorenewjersey.org/event/john-candy-i-like-me-an-evening-with-ryan-reynolds-friends/
LOCATION:State Theatre New Jersey\, 15 Livingston Avenue \, NJ\, New Brunswick\, NJ\, 08901\, United States
CATEGORIES:Stand-Up Comedy,Theatre
ATTACH;FMTTYPE=image/jpeg:https://explorenewjersey.org/wp-content/uploads/2025/09/310b29a0-3592-4277-ae57-b71c4fdc21f8.jpeg
ORGANIZER;CN="State Theatre New Jersey":MAILTO:Info@stnj.org
END:VEVENT
END:VCALENDAR