BEGIN:VCALENDAR
VERSION:2.0
PRODID:-//Explore New Jersey - ECPv6.15.20//NONSGML v1.0//EN
CALSCALE:GREGORIAN
METHOD:PUBLISH
X-WR-CALNAME:Explore New Jersey
X-ORIGINAL-URL:https://explorenewjersey.org
X-WR-CALDESC:Events for Explore New Jersey
REFRESH-INTERVAL;VALUE=DURATION:PT1H
X-Robots-Tag:noindex
X-PUBLISHED-TTL:PT1H
BEGIN:VTIMEZONE
TZID:America/New_York
BEGIN:DAYLIGHT
TZOFFSETFROM:-0500
TZOFFSETTO:-0400
TZNAME:EDT
DTSTART:20240310T070000
END:DAYLIGHT
BEGIN:STANDARD
TZOFFSETFROM:-0400
TZOFFSETTO:-0500
TZNAME:EST
DTSTART:20241103T060000
END:STANDARD
BEGIN:DAYLIGHT
TZOFFSETFROM:-0500
TZOFFSETTO:-0400
TZNAME:EDT
DTSTART:20250309T070000
END:DAYLIGHT
BEGIN:STANDARD
TZOFFSETFROM:-0400
TZOFFSETTO:-0500
TZNAME:EST
DTSTART:20251102T060000
END:STANDARD
BEGIN:DAYLIGHT
TZOFFSETFROM:-0500
TZOFFSETTO:-0400
TZNAME:EDT
DTSTART:20260308T070000
END:DAYLIGHT
BEGIN:STANDARD
TZOFFSETFROM:-0400
TZOFFSETTO:-0500
TZNAME:EST
DTSTART:20261101T060000
END:STANDARD
END:VTIMEZONE
BEGIN:VEVENT
DTSTART;TZID=America/New_York:20250614T200000
DTEND;TZID=America/New_York:20250614T233000
DTSTAMP:20260419T190905
CREATED:20250505T112826Z
LAST-MODIFIED:20250505T112827Z
UID:31316-1749931200-1749943800@explorenewjersey.org
SUMMARY:Final X USA Wrestling World Team Trials
DESCRIPTION:Final X Wrestling – June 14\, 2025 at Prudential Center\, Newark\, NJ\n\n\n\n\n\n\n\nElite Wrestling\, Olympic Dreams & a Cause That Changes Lives \n\n\n\nOn Saturday\, June 14\, the eyes of the wrestling world will turn to Prudential Center in Newark\, NJ for Final X 2025 — a high-stakes showdown that will determine who will represent Team USA at the 2025 Senior World Championships in Zagreb\, Croatia this fall. \n\n\n\nPresented by Beat the Streets Wrestling (New York) and USA Wrestling\, this event is the final qualifier in men’s and women’s freestyle wrestling\, showcasing the top two athletes in each of 20 Olympic weight classes battling in best-of-three series for a place on the world stage. \n\n\n\n📍 Venue: Prudential Center\, 25 Lafayette Street\, Newark\, NJ📅 Date: Saturday\, June 14\, 2025🌐 More Info & Tickets: give.btsny.org/2025finalx \n\n\n\n\n\n\n\n🤼‍♂️ What Is Final X?\n\n\n\nFinal X is the pinnacle of U.S. freestyle wrestling selection events\, where Olympic hopefuls and world medalists collide in fierce competition. Each match is part of a best-of-three format\, meaning strategy\, stamina\, and mental toughness are pushed to the limit. \n\n\n\n\n20 total bouts across men’s and women’s freestyle\n\n\n\nNo Greco-Roman matches this year (Greco team chosen at U.S. Open)\n\n\n\nWinners earn the honor of competing for Team USA in Zagreb\, Croatia (Sept. 13–21)\n\n\n\n\n\n\n\n\n🎟️ VIP Experience – Support a Great Cause with Beat the Streets NY\n\n\n\nElevate your Final X experience while supporting a game-changing nonprofit. Beat the Streets Wrestling (New York) offers official VIP ticket packages that include: \n\n\n\n\nPremium arena seating\n\n\n\nExclusive access to the post-event BTSNY After-Party\n\n\n\nMeet & greet opportunities with elite wrestlers\, coaches\, and supporters\n\n\n\nAll proceeds benefit BTSNY’s mission to empower NYC youth through wrestling\n\n\n\n\n🔗 Reserve VIP packages & support youth wrestling: give.btsny.org/2025finalx \n\n\n\n\n\n\n\n💥 Why Attend Final X in Newark?\n\n\n\n\nWatch the nation’s best wrestlers compete for a world team spot\n\n\n\nExperience world-class wrestling in one of NJ’s premier arenas\n\n\n\nEasy access from NYC\, Philly\, and across the tri-state\n\n\n\nBe part of a powerful mission that uses sports to uplift youth\n\n\n\n\nWhether you’re a lifelong fan or new to the sport\, Final X 2025 at Prudential Center promises an adrenaline-pumping night of action\, purpose\, and pride. \n\n\n\n📍 Explore more major sports events at: \n\n\n\n\nPrudential Center\n\n\n\nBeat the Streets NY\n\n\n\nUSA Wrestling\n\n\n\n\n\n\n\n\n🎟️ Tickets\, Merchandise & Info:\n\n\n\nAccessible seating available for all guests. \n\n\n\nClick here to go to Pro Merch.
URL:https://explorenewjersey.org/event/final-x-usa-wrestling-world-team-trials/
LOCATION:The Prudential Center\, 25 Lafayette St\, Newark\, New Jersey\, 07102\, United States
CATEGORIES:Extreme Sports,Sports,Wrestling
ATTACH;FMTTYPE=image/jpeg:https://explorenewjersey.org/wp-content/uploads/2025/05/finalx-1200x1200-1.jpg
ORGANIZER;CN="Devils Arena Entertainment":MAILTO:guestservices@prucenter.com
END:VEVENT
END:VCALENDAR