BEGIN:VCALENDAR
VERSION:2.0
PRODID:-//Explore New Jersey - ECPv6.15.20//NONSGML v1.0//EN
CALSCALE:GREGORIAN
METHOD:PUBLISH
X-ORIGINAL-URL:https://explorenewjersey.org
X-WR-CALDESC:Events for Explore New Jersey
REFRESH-INTERVAL;VALUE=DURATION:PT1H
X-Robots-Tag:noindex
X-PUBLISHED-TTL:PT1H
BEGIN:VTIMEZONE
TZID:America/New_York
BEGIN:DAYLIGHT
TZOFFSETFROM:-0500
TZOFFSETTO:-0400
TZNAME:EDT
DTSTART:20240310T070000
END:DAYLIGHT
BEGIN:STANDARD
TZOFFSETFROM:-0400
TZOFFSETTO:-0500
TZNAME:EST
DTSTART:20241103T060000
END:STANDARD
BEGIN:DAYLIGHT
TZOFFSETFROM:-0500
TZOFFSETTO:-0400
TZNAME:EDT
DTSTART:20250309T070000
END:DAYLIGHT
BEGIN:STANDARD
TZOFFSETFROM:-0400
TZOFFSETTO:-0500
TZNAME:EST
DTSTART:20251102T060000
END:STANDARD
BEGIN:DAYLIGHT
TZOFFSETFROM:-0500
TZOFFSETTO:-0400
TZNAME:EDT
DTSTART:20260308T070000
END:DAYLIGHT
BEGIN:STANDARD
TZOFFSETFROM:-0400
TZOFFSETTO:-0500
TZNAME:EST
DTSTART:20261101T060000
END:STANDARD
END:VTIMEZONE
BEGIN:VEVENT
DTSTART;TZID=America/New_York:20250809T130000
DTEND;TZID=America/New_York:20250809T233000
DTSTAMP:20260421T135058
CREATED:20250607T125050Z
LAST-MODIFIED:20250607T125051Z
UID:34542-1754744400-1754782200@explorenewjersey.org
SUMMARY:NJ/NY Gotham FC vs. Washington Spirit
DESCRIPTION:NJ/NY Gotham FC vs. Washington Spirit – NWSL Regular Season Clash \n\n\n\n\n\n\n\n\n\n📅 Date: Saturday\, August 9\, 2025🕛 Time: 12:00 PM📍 Location: Sports Illustrated Stadium\, Harrison\, NJ \n\n\n\nEvent Overview:Join the thrilling action as NJ/NY Gotham FC takes on the Washington Spirit in an epic National Women’s Soccer League (NWSL) regular-season matchup! Kicking off at noon at the vibrant Sports Illustrated Stadium in Harrison\, this match promises fast-paced excitement\, elite athleticism\, and non-stop energy from whistle to whistle. \n\n\n\nFan Experience:For those looking to be part of the heart and soul of the fan base\, Cloud 9 (Sections 101\, 102\, and 133) is the place to be. This supporters’ section is famous for its standing-room-only vibe\, passionate chants\, and unmatched spirit. It’s where true Gotham FC fans come to make noise and show pride! \n\n\n\nWhy You Should Attend:✅ Premier NWSL Soccer✅ Family-friendly atmosphere✅ Electrifying fan sections✅ Convenient access via public transit✅ Support local talent and women’s professional sports \n\n\n\nGrab your tickets early and be part of another unforgettable day in New Jersey sports! ⚽ \n\n\n\nExplore more NWSL and extreme sports events in New Jersey »
URL:https://explorenewjersey.org/event/nj-ny-gotham-fc-vs-washington-spirit-2/
LOCATION:Sports Illustrated Stadium\, 600 Cape May Street\, Harrison\, New Jersey\, 07029\, United States
CATEGORIES:Soccer
ATTACH;FMTTYPE=image/jpeg:https://explorenewjersey.org/wp-content/uploads/2025/06/CBS_NWSL_NJ_NY_Gotham_FC_vs_Washington_Spirit_100621_HIGHLIGHTS_HD_876976_1920x1080-1.jpg
END:VEVENT
END:VCALENDAR