BEGIN:VCALENDAR
VERSION:2.0
PRODID:-//Explore New Jersey - ECPv6.15.20//NONSGML v1.0//EN
CALSCALE:GREGORIAN
METHOD:PUBLISH
X-WR-CALNAME:Explore New Jersey
X-ORIGINAL-URL:https://explorenewjersey.org
X-WR-CALDESC:Events for Explore New Jersey
REFRESH-INTERVAL;VALUE=DURATION:PT1H
X-Robots-Tag:noindex
X-PUBLISHED-TTL:PT1H
BEGIN:VTIMEZONE
TZID:America/New_York
BEGIN:DAYLIGHT
TZOFFSETFROM:-0500
TZOFFSETTO:-0400
TZNAME:EDT
DTSTART:20240310T070000
END:DAYLIGHT
BEGIN:STANDARD
TZOFFSETFROM:-0400
TZOFFSETTO:-0500
TZNAME:EST
DTSTART:20241103T060000
END:STANDARD
BEGIN:DAYLIGHT
TZOFFSETFROM:-0500
TZOFFSETTO:-0400
TZNAME:EDT
DTSTART:20250309T070000
END:DAYLIGHT
BEGIN:STANDARD
TZOFFSETFROM:-0400
TZOFFSETTO:-0500
TZNAME:EST
DTSTART:20251102T060000
END:STANDARD
BEGIN:DAYLIGHT
TZOFFSETFROM:-0500
TZOFFSETTO:-0400
TZNAME:EDT
DTSTART:20260308T070000
END:DAYLIGHT
BEGIN:STANDARD
TZOFFSETFROM:-0400
TZOFFSETTO:-0500
TZNAME:EST
DTSTART:20261101T060000
END:STANDARD
END:VTIMEZONE
BEGIN:VEVENT
DTSTART;TZID=America/New_York:20250913T000000
DTEND;TZID=America/New_York:20250913T000000
DTSTAMP:20260420T064303
CREATED:20250806T143622Z
LAST-MODIFIED:20250808T201208Z
UID:51060-1757721600-1757721600@explorenewjersey.org
SUMMARY:HBCU NY Football Classic
DESCRIPTION:Get ready for an electrifying showdown as the HBCU NY Football Classic returns to MetLife Stadium on Saturday\, September 13\, 2025! \nAs the premier HBCU football classic in the Northeast\, this highly anticipated matchup will feature Morehouse College vs. Howard University\, two powerhouse teams battling for glory in front of thousands of passionate fans. \nWhen purchasing tickets:\nMorehouse College Supporters are on Section 113 side.\nHoward University Supporters are on Section 139 side. \nGroups of 20 contact groupsales@metlifestadium.com
URL:https://explorenewjersey.org/event/hbcu-ny-football-classic/
CATEGORIES:Football,Sports
ATTACH;FMTTYPE=image/jpeg:https://explorenewjersey.org/wp-content/uploads/2025/08/HBCU_600x5001-96BTGR.jpg
END:VEVENT
END:VCALENDAR