BEGIN:VCALENDAR
VERSION:2.0
PRODID:-//Explore New Jersey - ECPv6.15.20//NONSGML v1.0//EN
CALSCALE:GREGORIAN
METHOD:PUBLISH
X-ORIGINAL-URL:https://explorenewjersey.org
X-WR-CALDESC:Events for Explore New Jersey
REFRESH-INTERVAL;VALUE=DURATION:PT1H
X-Robots-Tag:noindex
X-PUBLISHED-TTL:PT1H
BEGIN:VTIMEZONE
TZID:America/New_York
BEGIN:DAYLIGHT
TZOFFSETFROM:-0500
TZOFFSETTO:-0400
TZNAME:EDT
DTSTART:20240310T070000
END:DAYLIGHT
BEGIN:STANDARD
TZOFFSETFROM:-0400
TZOFFSETTO:-0500
TZNAME:EST
DTSTART:20241103T060000
END:STANDARD
BEGIN:DAYLIGHT
TZOFFSETFROM:-0500
TZOFFSETTO:-0400
TZNAME:EDT
DTSTART:20250309T070000
END:DAYLIGHT
BEGIN:STANDARD
TZOFFSETFROM:-0400
TZOFFSETTO:-0500
TZNAME:EST
DTSTART:20251102T060000
END:STANDARD
BEGIN:DAYLIGHT
TZOFFSETFROM:-0500
TZOFFSETTO:-0400
TZNAME:EDT
DTSTART:20260308T070000
END:DAYLIGHT
BEGIN:STANDARD
TZOFFSETFROM:-0400
TZOFFSETTO:-0500
TZNAME:EST
DTSTART:20261101T060000
END:STANDARD
END:VTIMEZONE
BEGIN:VEVENT
DTSTART;TZID=America/New_York:20251207T000000
DTEND;TZID=America/New_York:20251207T000000
DTSTAMP:20260420T185146
CREATED:20250806T143734Z
LAST-MODIFIED:20250808T201208Z
UID:51084-1765065600-1765065600@explorenewjersey.org
SUMMARY:Jets vs. Dolphins
DESCRIPTION:Jets vs. Dolphins
URL:https://explorenewjersey.org/event/jets-vs-dolphins/
CATEGORIES:Football,Sports
ATTACH;FMTTYPE=image/png:https://explorenewjersey.org/wp-content/uploads/2025/08/Jets_-_Dolphins_-_600x500-y7Jejr.png
END:VEVENT
BEGIN:VEVENT
DTSTART;TZID=America/New_York:20251214T000000
DTEND;TZID=America/New_York:20251214T000000
DTSTAMP:20260420T185146
CREATED:20250806T143736Z
LAST-MODIFIED:20250808T201208Z
UID:51085-1765670400-1765670400@explorenewjersey.org
SUMMARY:Giants vs. Commanders
DESCRIPTION:Giants vs. Commanders
URL:https://explorenewjersey.org/event/giants-vs-commanders/
CATEGORIES:Football,Sports
ATTACH;FMTTYPE=image/png:https://explorenewjersey.org/wp-content/uploads/2025/08/v_Commanders-EhNMJ3.png
END:VEVENT
BEGIN:VEVENT
DTSTART;TZID=America/New_York:20251221T000000
DTEND;TZID=America/New_York:20251221T000000
DTSTAMP:20260420T185146
CREATED:20250806T143737Z
LAST-MODIFIED:20250808T201208Z
UID:51086-1766275200-1766275200@explorenewjersey.org
SUMMARY:Giants vs. Vikings
DESCRIPTION:Giants vs. Vikings
URL:https://explorenewjersey.org/event/giants-vs-vikings/
CATEGORIES:Football,Sports
ATTACH;FMTTYPE=image/png:https://explorenewjersey.org/wp-content/uploads/2025/08/v_Vikings-EATMFk.png
END:VEVENT
BEGIN:VEVENT
DTSTART;TZID=America/New_York:20251228T000000
DTEND;TZID=America/New_York:20251228T000000
DTSTAMP:20260420T185146
CREATED:20250806T143738Z
LAST-MODIFIED:20250808T201208Z
UID:51087-1766880000-1766880000@explorenewjersey.org
SUMMARY:Jets vs. Patriots
DESCRIPTION:Jets vs. Patriots
URL:https://explorenewjersey.org/event/jets-vs-patriots/
CATEGORIES:Football,Sports
ATTACH;FMTTYPE=image/png:https://explorenewjersey.org/wp-content/uploads/2025/08/Jets_-_Patriots_-_600x500-QA4TJn.png
END:VEVENT
END:VCALENDAR