BEGIN:VCALENDAR
VERSION:2.0
PRODID:-//Explore New Jersey - ECPv6.15.20//NONSGML v1.0//EN
CALSCALE:GREGORIAN
METHOD:PUBLISH
X-ORIGINAL-URL:https://explorenewjersey.org
X-WR-CALDESC:Events for Explore New Jersey
REFRESH-INTERVAL;VALUE=DURATION:PT1H
X-Robots-Tag:noindex
X-PUBLISHED-TTL:PT1H
BEGIN:VTIMEZONE
TZID:America/New_York
BEGIN:DAYLIGHT
TZOFFSETFROM:-0500
TZOFFSETTO:-0400
TZNAME:EDT
DTSTART:20240310T070000
END:DAYLIGHT
BEGIN:STANDARD
TZOFFSETFROM:-0400
TZOFFSETTO:-0500
TZNAME:EST
DTSTART:20241103T060000
END:STANDARD
BEGIN:DAYLIGHT
TZOFFSETFROM:-0500
TZOFFSETTO:-0400
TZNAME:EDT
DTSTART:20250309T070000
END:DAYLIGHT
BEGIN:STANDARD
TZOFFSETFROM:-0400
TZOFFSETTO:-0500
TZNAME:EST
DTSTART:20251102T060000
END:STANDARD
BEGIN:DAYLIGHT
TZOFFSETFROM:-0500
TZOFFSETTO:-0400
TZNAME:EDT
DTSTART:20260308T070000
END:DAYLIGHT
BEGIN:STANDARD
TZOFFSETFROM:-0400
TZOFFSETTO:-0500
TZNAME:EST
DTSTART:20261101T060000
END:STANDARD
END:VTIMEZONE
BEGIN:VEVENT
DTSTART;TZID=America/New_York:20251010T180000
DTEND;TZID=America/New_York:20251010T233000
DTSTAMP:20260423T023931
CREATED:20250823T145203Z
LAST-MODIFIED:20250823T145205Z
UID:54718-1760119200-1760139000@explorenewjersey.org
SUMMARY:Black Dragon Boxing Smoker at Battleship New Jersey
DESCRIPTION:Step aboard the historic Battleship New Jersey for an unforgettable evening of sport\, sophistication\, and naval tradition at the Black Dragon Boxing Smoker. Celebrating 250 years of naval heritage\, this elevated revival of the classic shipboard “smoker” brings together amateur boxing\, military tradition\, and a premier guest list in a one-of-a-kind waterfront setting. \n\n\n\n\n\n\n\n\n\nDate: Thursday\, October 10\, 2025Time: 6:00 PMLocation: Battleship New Jersey\, 62 Battleship Place\, Camden\, NJTickets: Purchase Here \n\n\n\nEvent Highlights\n\n\n\n\nAmateur Boxing Bouts: Witness twelve thrilling 3-round bouts beginning at 7:30 PM\, featuring U.S. Naval Academy midshipmen and elite amateur fighters.\n\n\n\nExclusive Guest Experience: Mingle with defense executives\, military leaders\, veterans\, and civic leaders while enjoying the unique ambiance of the ship’s historic flight deck.\n\n\n\nFood & Drink: Savor handcrafted cocktails\, curated local wines and spirits\, and elegant hors d’oeuvres while enjoying live music.\n\n\n\nCigar Service: Indulge in traditional cigar offerings on deck for a classic “smoker” experience.\n\n\n\nSupport a Cause: All proceeds benefit the Battleship New Jersey Museum & Memorial\, supporting restoration\, educational programs\, and operational initiatives.\n\n\n\n\nSponsorship Opportunities\n\n\n\nSponsors receive premium ringside seating\, logo placement on event materials\, social media recognition\, and additional VIP perks. This is a unique opportunity to connect with leaders and patrons in an iconic setting. \n\n\n\nExperience a night of boxing\, culture\, and history unlike any other\, all while supporting the preservation of one of America’s most storied naval landmarks.
URL:https://explorenewjersey.org/event/black-dragon-boxing-smoker-at-battleship-new-jersey/
LOCATION:Battleship New Jersey\, 62 Battleship Place\, Camden\, New Jersey\, 08103\, United States
CATEGORIES:Boxing,Extreme Sports,Sports
ATTACH;FMTTYPE=image/png:https://explorenewjersey.org/wp-content/uploads/2025/08/black-dragon-smoker-web-bannerV2-768x614-1.png
ORGANIZER;CN="Battleship New Jersey":MAILTO:info@battleshipnewjersey.org
END:VEVENT
END:VCALENDAR