BEGIN:VCALENDAR
VERSION:2.0
PRODID:-//Explore New Jersey - ECPv6.15.20//NONSGML v1.0//EN
CALSCALE:GREGORIAN
METHOD:PUBLISH
X-WR-CALNAME:Explore New Jersey
X-ORIGINAL-URL:https://explorenewjersey.org
X-WR-CALDESC:Events for Explore New Jersey
REFRESH-INTERVAL;VALUE=DURATION:PT1H
X-Robots-Tag:noindex
X-PUBLISHED-TTL:PT1H
BEGIN:VTIMEZONE
TZID:America/New_York
BEGIN:DAYLIGHT
TZOFFSETFROM:-0500
TZOFFSETTO:-0400
TZNAME:EDT
DTSTART:20240310T070000
END:DAYLIGHT
BEGIN:STANDARD
TZOFFSETFROM:-0400
TZOFFSETTO:-0500
TZNAME:EST
DTSTART:20241103T060000
END:STANDARD
BEGIN:DAYLIGHT
TZOFFSETFROM:-0500
TZOFFSETTO:-0400
TZNAME:EDT
DTSTART:20250309T070000
END:DAYLIGHT
BEGIN:STANDARD
TZOFFSETFROM:-0400
TZOFFSETTO:-0500
TZNAME:EST
DTSTART:20251102T060000
END:STANDARD
BEGIN:DAYLIGHT
TZOFFSETFROM:-0500
TZOFFSETTO:-0400
TZNAME:EDT
DTSTART:20260308T070000
END:DAYLIGHT
BEGIN:STANDARD
TZOFFSETFROM:-0400
TZOFFSETTO:-0500
TZNAME:EST
DTSTART:20261101T060000
END:STANDARD
END:VTIMEZONE
BEGIN:VEVENT
DTSTART;TZID=America/New_York:20250308T000000
DTEND;TZID=America/New_York:20250308T000000
DTSTAMP:20260420T032836
CREATED:20250728T131055Z
LAST-MODIFIED:20250728T162222Z
UID:48689-1741392000-1741392000@explorenewjersey.org
SUMMARY:Brockton Rox vs. Sussex County Miners
DESCRIPTION:Sundays are for family\, fun\, and baseball with the Sussex County Miners! Join us on August 3rd as we take on the Brockton Rox for another exciting Family Fun Sunday at Skylands Stadium. After the game\, kids get to run the bases just like their favorite Miners players\, creating memories that will last a lifetime! But the fun doesn’t stop there—young fans will also have the chance to meet the players and get autographs\, making it an unforgettable experience for the whole family. Don’t miss out on the perfect way to spend a Sunday afternoon—with great baseball\, family fun\, and special postgame activities!\n$5 Kids tickets available as walk ups only at our Box Office!
URL:https://explorenewjersey.org/event/brockton-rox-vs-sussex-county-miners-3/
CATEGORIES:Baseball,Sports,Sussex County Miners
ATTACH;FMTTYPE=image/jpeg:https://explorenewjersey.org/wp-content/uploads/2025/07/image-F4jayp.tmp_.jpg
END:VEVENT
END:VCALENDAR