BEGIN:VCALENDAR
VERSION:2.0
PRODID:-//Explore New Jersey - ECPv6.15.20//NONSGML v1.0//EN
CALSCALE:GREGORIAN
METHOD:PUBLISH
X-ORIGINAL-URL:https://explorenewjersey.org
X-WR-CALDESC:Events for Explore New Jersey
REFRESH-INTERVAL;VALUE=DURATION:PT1H
X-Robots-Tag:noindex
X-PUBLISHED-TTL:PT1H
BEGIN:VTIMEZONE
TZID:America/New_York
BEGIN:DAYLIGHT
TZOFFSETFROM:-0500
TZOFFSETTO:-0400
TZNAME:EDT
DTSTART:20240310T070000
END:DAYLIGHT
BEGIN:STANDARD
TZOFFSETFROM:-0400
TZOFFSETTO:-0500
TZNAME:EST
DTSTART:20241103T060000
END:STANDARD
BEGIN:DAYLIGHT
TZOFFSETFROM:-0500
TZOFFSETTO:-0400
TZNAME:EDT
DTSTART:20250309T070000
END:DAYLIGHT
BEGIN:STANDARD
TZOFFSETFROM:-0400
TZOFFSETTO:-0500
TZNAME:EST
DTSTART:20251102T060000
END:STANDARD
BEGIN:DAYLIGHT
TZOFFSETFROM:-0500
TZOFFSETTO:-0400
TZNAME:EDT
DTSTART:20260308T070000
END:DAYLIGHT
BEGIN:STANDARD
TZOFFSETFROM:-0400
TZOFFSETTO:-0500
TZNAME:EST
DTSTART:20261101T060000
END:STANDARD
END:VTIMEZONE
BEGIN:VEVENT
DTSTART;TZID=America/New_York:20250806T000000
DTEND;TZID=America/New_York:20250806T000000
DTSTAMP:20260420T061007
CREATED:20250806T143844Z
LAST-MODIFIED:20250808T183815Z
UID:51113-1754438400-1754438400@explorenewjersey.org
SUMMARY:Frederick Keys
DESCRIPTION:The Thunder host a variety of Theme Nights and Community Nights throughout the summer\, providing groups with similar interests the opportunity to get together and enjoy a game! \nAll Thunder Promotions & Theme Nights are subject to change. Children 3 and under do not require a ticket when seated in the lap of an adult. All points of sale inside Trenton Thunder Ballpark are cashless. Parking at Trenton Thunder Ballpark will continue to be $5\, cash only. Optional in-park promotions like Speed Pitch and 50/50 will continue to be cash only. All ticket sales are final. No refunds. For questions or to purchase tickets over the phone\, call the Thunder Ticket Office at (609) 394-3300\, opt 4.
URL:https://explorenewjersey.org/event/frederick-keys/
CATEGORIES:Sport
ATTACH;FMTTYPE=image/svg+xml:https://explorenewjersey.org/wp-content/uploads/2025/08/493-ZGmU6a.svg
END:VEVENT
BEGIN:VEVENT
DTSTART;TZID=America/New_York:20250806T000000
DTEND;TZID=America/New_York:20250806T000000
DTSTAMP:20260420T061007
CREATED:20250806T144445Z
LAST-MODIFIED:20250808T183933Z
UID:51130-1754438400-1754438400@explorenewjersey.org
SUMMARY:Binghamton
DESCRIPTION:Benge’s Blast Leads Binghamton Past Harrisburg to Clinch Series\nBinghamton Combines for No-Hitter in First Game\, Splits Doubleheader with Harrisburg\nLorusso Drives in Game-Tying Run\, Scores Winning Run to Lead Binghamton Past Harrisburg\nThursday’s Rumble Ponies Game against Harrisburg Postponed\nBenge Powers Binghamton Past Harrisburg for Wednesday Matinee Win
URL:https://explorenewjersey.org/event/binghamton-2/
CATEGORIES:Sport
ATTACH;FMTTYPE=image/svg+xml:https://explorenewjersey.org/wp-content/uploads/2025/08/505-HghFcE.svg
END:VEVENT
BEGIN:VEVENT
DTSTART;TZID=America/New_York:20250806T000000
DTEND;TZID=America/New_York:20250806T000000
DTSTAMP:20260420T061007
CREATED:20250806T145422Z
LAST-MODIFIED:20250808T184315Z
UID:51157-1754438400-1754438400@explorenewjersey.org
SUMMARY:Hub City
DESCRIPTION:Gonzalez Shines in Series Clinching Win\nCook’s Grand Slam Lifts Spartanburgers to Share of Series\nAsheville Takes One-Run Affair on Friday\nFree Passes Doom ‘Burgers in 7-1 Defeat\nFrom the “Jungle” to the ‘Burg: Josh Trentadue’s Competitive Nature Has Powered a Breakout 2025\nSpartanburgers Ambush Tourists in Wednesday Win\nDominant Pitching Paces Hub City to Win in Series Opener\nDrive Win Series on Second Walk-off of the Week
URL:https://explorenewjersey.org/event/hub-city-2/
CATEGORIES:Sport
ATTACH;FMTTYPE=image/svg+xml:https://explorenewjersey.org/wp-content/uploads/2025/08/6324-q6B6nK.svg
END:VEVENT
END:VCALENDAR