BEGIN:VCALENDAR
VERSION:2.0
PRODID:-//Explore New Jersey - ECPv6.15.20//NONSGML v1.0//EN
CALSCALE:GREGORIAN
METHOD:PUBLISH
X-WR-CALNAME:Explore New Jersey
X-ORIGINAL-URL:https://explorenewjersey.org
X-WR-CALDESC:Events for Explore New Jersey
REFRESH-INTERVAL;VALUE=DURATION:PT1H
X-Robots-Tag:noindex
X-PUBLISHED-TTL:PT1H
BEGIN:VTIMEZONE
TZID:America/New_York
BEGIN:DAYLIGHT
TZOFFSETFROM:-0500
TZOFFSETTO:-0400
TZNAME:EDT
DTSTART:20240310T070000
END:DAYLIGHT
BEGIN:STANDARD
TZOFFSETFROM:-0400
TZOFFSETTO:-0500
TZNAME:EST
DTSTART:20241103T060000
END:STANDARD
BEGIN:DAYLIGHT
TZOFFSETFROM:-0500
TZOFFSETTO:-0400
TZNAME:EDT
DTSTART:20250309T070000
END:DAYLIGHT
BEGIN:STANDARD
TZOFFSETFROM:-0400
TZOFFSETTO:-0500
TZNAME:EST
DTSTART:20251102T060000
END:STANDARD
BEGIN:DAYLIGHT
TZOFFSETFROM:-0500
TZOFFSETTO:-0400
TZNAME:EDT
DTSTART:20260308T070000
END:DAYLIGHT
BEGIN:STANDARD
TZOFFSETFROM:-0400
TZOFFSETTO:-0500
TZNAME:EST
DTSTART:20261101T060000
END:STANDARD
END:VTIMEZONE
BEGIN:VEVENT
DTSTART;TZID=America/New_York:20250831T163000
DTEND;TZID=America/New_York:20250831T233000
DTSTAMP:20260419T130752
CREATED:20250609T143404Z
LAST-MODIFIED:20250609T143405Z
UID:34676-1756657800-1756683000@explorenewjersey.org
SUMMARY:Dogs In A Pile at The Stone Pony Summer Stage
DESCRIPTION:🎸 Dogs In A Pile Live at The Stone Pony Summer Stage\n\n\n\n\n\n\n\n\n\nGet ready for a night of gritty\, no-frills country music under the stars! Country music maverick Cody Jinks brings his Hippies Get ready for a night of punk rock energy and anthems that defined generations as Dropkick Murphys and Bad Religion take over The Stone Pony Summer Stage in Asbury Park\, NJ\, on Wednesday\, August 2025\, from 5:00 PM to 10:00 PM. \n\n\n\nAs part of their Summer of Discontent Tour\, these two iconic punk bands are joining forces for an unforgettable night of rebellious spirit\, raw energy\, and timeless hits. The Mainliners will also join the lineup\, bringing additional fire to this explosive night of music. \n\n\n\n🎸 What to Expect: \n\n\n\n\nDropkick Murphys: Known for their Celtic punk sound and raucous live shows\, expect to hear hits like “I’m Shipping Up to Boston” and “The State of Massachusetts.”\n\n\n\nBad Religion: With their thought-provoking lyrics and anthems like “21st Century (Digital Boy)” and “American Jesus\,” Bad Religion is sure to bring political punk to the forefront.\n\n\n\nThe Mainliners: The perfect opening act\, bringing their own brand of high-energy punk to the stage.\n\n\n\n\n📍 Venue:The Stone Pony Summer Stage913 Ocean Avenue\, Asbury Park\, NJ \n\n\n\n📅 Date:Wednesday\, August 2025 \n\n\n\n🕔 Time:From 5:00 PM to 10:00 PM \n\n\n\n🎟️ Tickets:Secure your spot at this epic night of punk rock! Tickets are available through the venue’s website. \n\n\n\n🎶 Why You Can’t Miss It:If you’re a fan of fast beats\, powerful lyrics\, and live punk rock\, this is the show for you! Dropkick Murphys and Bad Religion are two of the most iconic punk bands in the world\, and together with The Mainliners\, they’ll deliver a high-octane\, no-holds-barred performance. Don’t miss the Summer of Discontent Tour at one of New Jersey’s most legendary venues\, The Stone Pony! \n\n\n\n\n\n\n\n🎟️ Tickets\, Merchandise & Info:\n\n\n\nAccessible seating available for all guests. \n\n\n\nClick here to go to the Merch Stand in The Vending Lot.
URL:https://explorenewjersey.org/event/dogs-in-a-pile-at-the-stone-pony-summer-stage/
LOCATION:The Stone Pony Summer Stage\, 909 Ocean Ave N\, Asbury Park\, New Jersey\, 07712\, United States
CATEGORIES:Concerts,Music
ATTACH;FMTTYPE=image/jpeg:https://explorenewjersey.org/wp-content/uploads/2025/06/DogsInAPile_1920x1080.png.jpg
END:VEVENT
END:VCALENDAR