BEGIN:VCALENDAR
VERSION:2.0
PRODID:-//Explore New Jersey - ECPv6.15.20//NONSGML v1.0//EN
CALSCALE:GREGORIAN
METHOD:PUBLISH
X-ORIGINAL-URL:https://explorenewjersey.org
X-WR-CALDESC:Events for Explore New Jersey
REFRESH-INTERVAL;VALUE=DURATION:PT1H
X-Robots-Tag:noindex
X-PUBLISHED-TTL:PT1H
BEGIN:VTIMEZONE
TZID:America/New_York
BEGIN:DAYLIGHT
TZOFFSETFROM:-0500
TZOFFSETTO:-0400
TZNAME:EDT
DTSTART:20240310T070000
END:DAYLIGHT
BEGIN:STANDARD
TZOFFSETFROM:-0400
TZOFFSETTO:-0500
TZNAME:EST
DTSTART:20241103T060000
END:STANDARD
BEGIN:DAYLIGHT
TZOFFSETFROM:-0500
TZOFFSETTO:-0400
TZNAME:EDT
DTSTART:20250309T070000
END:DAYLIGHT
BEGIN:STANDARD
TZOFFSETFROM:-0400
TZOFFSETTO:-0500
TZNAME:EST
DTSTART:20251102T060000
END:STANDARD
BEGIN:DAYLIGHT
TZOFFSETFROM:-0500
TZOFFSETTO:-0400
TZNAME:EDT
DTSTART:20260308T070000
END:DAYLIGHT
BEGIN:STANDARD
TZOFFSETFROM:-0400
TZOFFSETTO:-0500
TZNAME:EST
DTSTART:20261101T060000
END:STANDARD
END:VTIMEZONE
BEGIN:VEVENT
DTSTART;TZID=America/New_York:20250711T133000
DTEND;TZID=America/New_York:20250711T233000
DTSTAMP:20260422T174536
CREATED:20250704T104819Z
LAST-MODIFIED:20250704T105033Z
UID:42688-1752240600-1752276600@explorenewjersey.org
SUMMARY:Thomas Rhett: Better In Boots Tour 2025
DESCRIPTION:Saddle Up\, New Jersey! Thomas Rhett Brings the “Better In Boots Tour 2025” to Camden!\n\n\n\n\n\n\n\n\n\nCalling all country music fans in the Garden State! Get ready for a night of infectious melodies and heartfelt lyrics as Thomas Rhett takes the stage at the Freedom Mortgage Center in Camden for his highly anticipated “Better In Boots Tour 2025.” This is your chance to experience one of country’s biggest stars live on Friday\, July 11\, 2025\, at 7:30 PM. \n\n\n\nPrepare to sing along to a powerhouse set list featuring fan favorites like “Die a Happy Man\,” “Marry Me\,” “Life Changes\,” and “What’s Your Country Song.” Thomas Rhett is known for his dynamic performances and a catalog of hits that seamlessly blend traditional country with a modern\, pop-infused sound. \n\n\n\nLocated right on the picturesque Delaware River waterfront\, the Freedom Mortgage Center offers a fantastic concert experience. Don’t miss this opportunity to see Thomas Rhett deliver an unforgettable show under the New Jersey sky. Grab your boots and get ready for a night of incredible music! \n\n\n\n\n\n\n\n🎟️ Tickets\, Merchandise & Info:\n\n\n\nAccessible seating available for all guests. \n\n\n\nClick here to go to the Merch Stand in The Vending Lot.
URL:https://explorenewjersey.org/event/thomas-rhett-better-in-boots-tour-2025-2/
LOCATION:Freedom Mortgage Pavilion\, 1 Harbour Blvd\, Camden\, New Jersey\, 08103\, United States
CATEGORIES:Concerts,Music
ATTACH;FMTTYPE=image/jpeg:https://explorenewjersey.org/wp-content/uploads/2025/06/static_vip_1280x720_thomasrhett_2025_national_1726335028.jpg
END:VEVENT
BEGIN:VEVENT
DTSTART;TZID=America/New_York:20250711T180000
DTEND;TZID=America/New_York:20250711T233000
DTSTAMP:20260422T174536
CREATED:20250523T140622Z
LAST-MODIFIED:20250523T141224Z
UID:33116-1752256800-1752276600@explorenewjersey.org
SUMMARY:Fish Eyed Blues at Lindenwold Park– 7 PM
DESCRIPTION:🎸 Fish Eyed Blues Live at Lindenwold Park – Blues Under the Stars \n\n\n\n\n\n\n\n\n\nDate: Friday\, July 11\, 2025Time: 7:00 PMEvent Type: Free Outdoor Concert | Blues & Rock MusicLocation: Lindenwold Park\, Lindenwold\, NJ \n\n\n\nGet ready for a soulful summer night as Fish Eyed Blues takes the stage at Lindenwold Park! Known for their electrifying blend of traditional blues\, modern blues rock\, and everything in between\, this powerhouse group brings gritty vocals\, wailing guitar riffs\, and deep grooves that echo the heart of American music. \n\n\n\nWhether you’re a lifelong blues lover or just looking for a great night out\, Fish Eyed Blues will deliver a set that’s both nostalgic and refreshingly original. \n\n\n\n\n\n\n\n🎶 What to Expect\n\n\n\n\n🎤 A fusion of classic Delta blues and contemporary blues rock\n\n\n\n🎸 Soulful guitar solos\, foot-stomping rhythms\, and powerhouse vocals\n\n\n\n🌳 A beautiful outdoor setting perfect for picnicking\, relaxing\, and enjoying live music\n\n\n\n🎉 Family-friendly atmosphere and free admission\n\n\n\n\n\n\n\n\n📍 Event Details\n\n\n\n🗓️ Date: Friday\, July 11\, 2025🕖 Time: 7:00 PM📌 Location: Lindenwold Park\, Lindenwold\, NJ🎫 Admission: FREE – Bring your lawn chairs\, blankets\, and good vibes! \n\n\n\n\n\n\n\n🔊 Why You’ll Love This Show\n\n\n\nFish Eyed Blues isn’t just playing the blues — they’re living it. From slow-burning ballads to rocking anthems\, their performances connect generations and get every foot tapping. This is the perfect way to enjoy a summer evening in South Jersey. \n\n\n\n\n\n\n\n✨ Looking for more concerts and events in New Jersey? Explore a full lineup of outdoor shows\, community festivals\, theatre productions\, and comedy nights near you. Your next great night out is just around the corner!nts happening throughout New Jersey. There’s always something exciting around the corner.👉 For more amazing live music and cultural happenings across the Garden State\, check out Explore New Jersey Arts & Culture \n\n\n\n\n\n\n\n\n\n\n\n🎟️ Tickets\, Merchandise & Info:\n\n\n\nAccessible seating available for all guests. \n\n\n\nClick here to go to the Merch Stand in The Vending Lot.
URL:https://explorenewjersey.org/event/fish-eyed-blues-at-lindenwold-park-7-pm/
LOCATION:Lindenwold Park\, 1000 United States Ave\, Lindenwold\, New Jersey\, 08021\, United States
CATEGORIES:Concerts,Music
ATTACH;FMTTYPE=image/jpeg:https://explorenewjersey.org/wp-content/uploads/2025/05/CCRocks-OtherConcerts-1200x6284-1-2048x1072-1.jpg
ORGANIZER;CN="Camden County Board of Commissioners":MAILTO:commissioners@camdencounty.com
END:VEVENT
BEGIN:VEVENT
DTSTART;TZID=America/New_York:20250712T000000
DTEND;TZID=America/New_York:20250713T235959
DTSTAMP:20260422T174536
CREATED:20250501T133044Z
LAST-MODIFIED:20250501T133045Z
UID:30801-1752278400-1752451199@explorenewjersey.org
SUMMARY:Maplewoodstock Music & Arts Festival
DESCRIPTION:🎶 A Free\, Funky\, Feel-Good Weekend of Music\, Art\, Food & Community \n\n\n\n📍 Location: Memorial Park\, Maplewood\, NJ\n\n\n\n📅 Dates: July 13–14\, 2024 (Saturday & Sunday)\n\n\n\n🎟️ Admission: Free & Open to the Public\n\n\n\n🌐 Website: maplewoodstock.com\n\n\n\n\n\n\n\n🎸 About the Festival\n\n\n\n\n\n\n\nMaplewoodstock is the heart and soul of summer in Maplewood\, New Jersey. What started back in 2004 as a casual jam session among a group of local neighbors and musicians has grown into one of the region’s most beloved free music and arts festivals. \n\n\n\nHeld every July in Memorial Park\, this two-day celebration features an eclectic lineup of live music\, local art\, mouthwatering food vendors\, and family-friendly fun—all produced entirely by volunteers and fueled by community support. \n\n\n\nThis is not your average town event. Maplewoodstock is completely independent\, run by a small team of passionate locals who volunteer nearly year-round (except for a well-deserved break in August) to make this unforgettable weekend happen. It’s funded solely through sponsorships\, merchandise sales\, ad revenue\, and community contributions—not your taxes. \n\n\n\n\n\n\n\n🎶 Live Music That Moves You\n\n\n\nEach year\, local\, regional\, and national acts take the professional stage\, with genres ranging from indie rock and funk to jazz\, soul\, and global beats. Whether you’re coming to catch a headliner or discover the next rising star\, the music is the heartbeat of Maplewoodstock. \n\n\n\nBring a blanket or chair\, sprawl out on the grass\, and get ready to dance\, sway\, or just soak in the sound. \n\n\n\n\n\n\n\n🎨 Artisans & Vendors\n\n\n\nIn between sets\, stroll through rows of local artists\, craftspeople\, and makers showcasing their work—from handmade jewelry and custom tees to photography\, pottery\, and more. It’s the perfect place to support small businesses and find a one-of-a-kind treasure. \n\n\n\n\n\n\n\n🍔 Food\, Drinks & Vibes\n\n\n\nYou won’t go hungry at Maplewoodstock. The park transforms into a global kitchen with local vendors offering everything from BBQ and vegan wraps to frozen treats and festival favorites. Grab a drink at the Beer Garden\, a favorite hangout for adults looking to cool down and kick back. \n\n\n\n\n\n\n\n👧 Family Fun in the Kids Zone\n\n\n\nThis festival isn’t just for grownups. The Kids Zone is packed with activities to keep little ones entertained—face painting\, crafts\, rides\, games\, and more. It’s a safe and welcoming space where families can relax and enjoy the day together. \n\n\n\n\n\n\n\n✨ Our Mission\n\n\n\nMaplewoodstock’s core mission is simple:To bring people together through music\, art\, and community.We’re committed to showcasing local talent\, fostering creative expression\, and keeping the event accessible and free of politics\, advertising gimmicks\, and outside agendas. Just good music\, great art\, and even better people. \n\n\n\n\n\n\n\n📣 Presented by MAEP: Music & Arts Education Project\n\n\n\nMaplewoodstock is proudly produced by the Music & Arts Education Project (MAEP)\, a 501(c)(3) nonprofit dedicated to expanding music and arts education in schools across New Jersey. Through events like Maplewoodstock\, MAEP advocates for access\, equity\, and creativity in public education—and your support helps fuel that mission. \n\n\n\nWant to help keep the arts alive in NJ?Donate to MAEP or become a sponsor. \n\n\n\n\n\n\n\n🕊️ In Loving Memory: Jim Buchanan\n\n\n\nA tribute to Jim Buchanan\, one of Maplewoodstock’s original founders and a longtime champion of arts and culture in the Maplewood-South Orange community. Jim passed in January 2023 at the age of 80. His passion\, leadership\, and joy live on in every note played and every smile shared at the festival. \n\n\n\n\n\n\n\n📌 Plan Your Visit\n\n\n\n\nVisit the FAQ for helpful tips\n\n\n\nCheck out the Festival Map\n\n\n\nView our Accessibility Guide\n\n\n\n\n\n\n\n\n🌞 Come for the Music\, Stay for the Magic\n\n\n\nMaplewoodstock is more than a festival—it’s a vibe\, a tradition\, and a celebration of everything that makes our community shine. Whether you’re here to groove\, shop\, snack\, sip\, or just smile with neighbors\, this is the weekend you’ll talk about all year. \n\n\n\nMark your calendar. Bring your friends. Be part of the tradition.We’ll see you on the lawn. \n\n\n\n\n\n\n\nExplore More New Jersey Festivals HereWant to feature your event in our directory? Contact us to be listed.
URL:https://explorenewjersey.org/event/maplewoodstock-music-arts-festival/
LOCATION:New Jersey
CATEGORIES:Festivals,Music
ATTACH;FMTTYPE=image/png:https://explorenewjersey.org/wp-content/uploads/2025/05/image-4.png
END:VEVENT
END:VCALENDAR