BEGIN:VCALENDAR
VERSION:2.0
PRODID:-//Explore New Jersey - ECPv6.15.20//NONSGML v1.0//EN
CALSCALE:GREGORIAN
METHOD:PUBLISH
X-ORIGINAL-URL:https://explorenewjersey.org
X-WR-CALDESC:Events for Explore New Jersey
REFRESH-INTERVAL;VALUE=DURATION:PT1H
X-Robots-Tag:noindex
X-PUBLISHED-TTL:PT1H
BEGIN:VTIMEZONE
TZID:America/New_York
BEGIN:DAYLIGHT
TZOFFSETFROM:-0500
TZOFFSETTO:-0400
TZNAME:EDT
DTSTART:20240310T070000
END:DAYLIGHT
BEGIN:STANDARD
TZOFFSETFROM:-0400
TZOFFSETTO:-0500
TZNAME:EST
DTSTART:20241103T060000
END:STANDARD
BEGIN:DAYLIGHT
TZOFFSETFROM:-0500
TZOFFSETTO:-0400
TZNAME:EDT
DTSTART:20250309T070000
END:DAYLIGHT
BEGIN:STANDARD
TZOFFSETFROM:-0400
TZOFFSETTO:-0500
TZNAME:EST
DTSTART:20251102T060000
END:STANDARD
BEGIN:DAYLIGHT
TZOFFSETFROM:-0500
TZOFFSETTO:-0400
TZNAME:EDT
DTSTART:20260308T070000
END:DAYLIGHT
BEGIN:STANDARD
TZOFFSETFROM:-0400
TZOFFSETTO:-0500
TZNAME:EST
DTSTART:20261101T060000
END:STANDARD
END:VTIMEZONE
BEGIN:VEVENT
DTSTART;TZID=America/New_York:20250710T133000
DTEND;TZID=America/New_York:20250710T233000
DTSTAMP:20260419T131652
CREATED:20250615T105501Z
LAST-MODIFIED:20250615T105503Z
UID:35233-1752154200-1752190200@explorenewjersey.org
SUMMARY:Thomas Rhett: Better In Boots Tour 2025
DESCRIPTION:🎶 Hot Ticket Alert! Thomas Rhett Brings the “Better In Boots Tour” to PNC Bank Arts Center\n\n\n\n\n\n\n\n\n\nGet ready to kick up some dust\, New Jersey! One of country music’s biggest stars\, Thomas Rhett\, is set to ignite the stage at the iconic PNC Bank Arts Center in Holmdel with his highly anticipated “Better In Boots Tour 2025.” This is a must-see event for country fans across the Garden State and beyond! \n\n\n\nMark your calendars for Thursday\, July 10\, 2025\, at 7:30 PM\, because Thomas Rhett promises an unforgettable night of chart-topping hits\, infectious energy\, and that signature blend of modern country with a feel-good vibe. Known for his captivating live performances and an impressive catalog of beloved songs\, Rhett consistently delivers a show that gets everyone on their feet and singing along. \n\n\n\nThe PNC Bank Arts Center\, a premier outdoor amphitheater nestled in Holmdel\, provides the perfect setting for a summer country concert. With its expansive lawn and comfortable seating options\, it’s an ideal venue to soak in the melodies under the stars. Whether you’re a long-time fan of Rhett’s heartfelt ballads or his upbeat anthems\, or simply looking for a fantastic night of live music\, the “Better In Boots Tour” is poised to be a highlight of New Jersey’s summer concert season. \n\n\n\nExpect to hear a dynamic mix of his latest tracks and fan favorites that have solidified his status as a country music powerhouse. From “Die a Happy Man” to “Life Changes” and many more\, Thomas Rhett’s performance is guaranteed to create lasting memories. \n\n\n\nDon’t miss your chance to experience the magic of Thomas Rhett live! Gather your friends\, dust off your boots\, and prepare for an incredible evening of music at one of New Jersey’s most beloved outdoor venues. This is more than just a concert; it’s a celebration of country music and summer nights. \n\n\n\nFor ticket information and to plan your visit to the PNC Bank Arts Center for this can’t-miss show\, head over to https://explorenewjersey.org/new-jersey-devils/ (You’ll find general venue information and other exciting New Jersey updates there\, too!). Secure your spot and get ready to sing your heart out with Thomas Rhett! \n\n\n\n\n\n\n\n🎟️ Tickets\, Merchandise & Info:\n\n\n\nAccessible seating available for all guests. \n\n\n\nClick here to go to the Merch Stand in The Vending Lot.
URL:https://explorenewjersey.org/event/thomas-rhett-better-in-boots-tour-2025/
LOCATION:PNC Bank Arts Center\, Exit 116\, Garden State Pkwy\, Holmdel\, New Jersey\, 07733\, United States
CATEGORIES:Concerts,Music
ATTACH;FMTTYPE=image/jpeg:https://explorenewjersey.org/wp-content/uploads/2025/06/static_vip_1280x720_thomasrhett_2025_national_1726335028.jpg
ORGANIZER;CN="Live Nation Entertainment":MAILTO:https://www.livenation.com/
END:VEVENT
END:VCALENDAR