BEGIN:VCALENDAR
VERSION:2.0
PRODID:-//Explore New Jersey - ECPv6.15.20//NONSGML v1.0//EN
CALSCALE:GREGORIAN
METHOD:PUBLISH
X-WR-CALNAME:Explore New Jersey
X-ORIGINAL-URL:https://explorenewjersey.org
X-WR-CALDESC:Events for Explore New Jersey
REFRESH-INTERVAL;VALUE=DURATION:PT1H
X-Robots-Tag:noindex
X-PUBLISHED-TTL:PT1H
BEGIN:VTIMEZONE
TZID:America/New_York
BEGIN:DAYLIGHT
TZOFFSETFROM:-0500
TZOFFSETTO:-0400
TZNAME:EDT
DTSTART:20240310T070000
END:DAYLIGHT
BEGIN:STANDARD
TZOFFSETFROM:-0400
TZOFFSETTO:-0500
TZNAME:EST
DTSTART:20241103T060000
END:STANDARD
BEGIN:DAYLIGHT
TZOFFSETFROM:-0500
TZOFFSETTO:-0400
TZNAME:EDT
DTSTART:20250309T070000
END:DAYLIGHT
BEGIN:STANDARD
TZOFFSETFROM:-0400
TZOFFSETTO:-0500
TZNAME:EST
DTSTART:20251102T060000
END:STANDARD
BEGIN:DAYLIGHT
TZOFFSETFROM:-0500
TZOFFSETTO:-0400
TZNAME:EDT
DTSTART:20260308T070000
END:DAYLIGHT
BEGIN:STANDARD
TZOFFSETFROM:-0400
TZOFFSETTO:-0500
TZNAME:EST
DTSTART:20261101T060000
END:STANDARD
END:VTIMEZONE
BEGIN:VEVENT
DTSTART;TZID=America/New_York:20250626T163000
DTEND;TZID=America/New_York:20250626T233000
DTSTAMP:20260421T180150
CREATED:20250523T141822Z
LAST-MODIFIED:20250523T141823Z
UID:33122-1750955400-1750980600@explorenewjersey.org
SUMMARY:North to Shore Festival presents Jack’s Mannequin with special guests The Early November
DESCRIPTION:🎤 Jack’s Mannequin Live at The Stone Pony Summer Stage \n\n\n\n\n\n\n\n\n\nPresented by: North2ShoreLocation: The Stone Pony Summer Stage\, Asbury Park\, NJ \n\n\n\nExperience an unforgettable evening of indie rock and heartfelt lyrics as Jack’s Mannequin takes over The Stone Pony Summer Stage. Known for their emotionally charged performances and timeless songs\, Jack’s Mannequin delivers a live show packed with passion and powerful melodies. \n\n\n\nJoining them for this special night are The Early November\, bringing their own brand of alt-rock energy to the stage\, making this concert a must-see for fans of the genre. \n\n\n\n\n\n\n\n🎸 What to Expect\n\n\n\n\n🎶 A captivating set featuring Jack’s Mannequin’s most beloved tracks\n\n\n\n🎤 Energetic performances by The Early November\, adding depth to the night\n\n\n\n🌅 Iconic outdoor venue vibes at The Stone Pony\, perfect for a summer concert experience\n\n\n\n🎟️ Tickets available now — don’t miss your chance to catch this dynamic lineup!\n\n\n\n\n\n\n\n\n📅 Event Details📍 Location: The Stone Pony Summer Stage\, Asbury Park\, NJ\n\n\n\n\n\n\n\n🌟 Why This Concert is a Must-See\n\n\n\nWhether you’re a longtime fan or discovering Jack’s Mannequin for the first time\, this performance promises emotional depth and unforgettable melodies. Coupled with The Early November’s engaging live set\, this show delivers a perfect night of indie rock in one of New Jersey’s most legendary music venues. \n\n\n\n\n\n\n\n🎉 Explore more upcoming concerts\, festivals\, and live events in New Jersey. Your next great night out is waiting! \n\n\n\n\n\n\n\n🎟️ Tickets\, Merchandise & Info:\n\n\n\nAccessible seating available for all guests. \n\n\n\nClick here to go to the Merch Stand in The Vending Lot.
URL:https://explorenewjersey.org/event/north-to-shore-festival-presents-jacks-mannequin-with-special-guests-the-early-november/
LOCATION:The Stone Pony Summer Stage\, 909 Ocean Ave N\, Asbury Park\, New Jersey\, 07712\, United States
CATEGORIES:Concerts,Music,North To Shore
ATTACH;FMTTYPE=image/jpeg:https://explorenewjersey.org/wp-content/uploads/2025/05/JacksMannequin_1200x628.jpg
END:VEVENT
BEGIN:VEVENT
DTSTART;TZID=America/New_York:20250626T163000
DTEND;TZID=America/New_York:20250626T233000
DTSTAMP:20260421T180150
CREATED:20250523T142645Z
LAST-MODIFIED:20250523T142646Z
UID:33125-1750955400-1750980600@explorenewjersey.org
SUMMARY:North to Shore Festival presents Shadow of the City Music Festival Featuring Bleachers & Special Guests
DESCRIPTION:🎤 Shadow of the City Music Festival Featuring Bleachers & Special Guests \n\n\n\n\n\n\n\n\n\nLocation: The Stone Pony Summer Stage\, Asbury Park\, NJ \n\n\n\nGet ready for an epic day of live music at Shadow of the City\, featuring an incredible lineup led by Bleachers alongside standout acts like Joyce Manor\, Dora Jar\, Mike Birbiglia\, Ben Kweller\, Skullcrusher\, and Cassandra Coleman. This vibrant festival showcases an eclectic mix of indie rock\, alternative\, folk\, and comedy\, all set in the iconic Stone Pony Summer Stage outdoor venue. \n\n\n\n\n\n\n\n🎶 Festival Highlights\n\n\n\n\n🎸 Headlining performance by Bleachers\, known for their dynamic indie rock anthems\n\n\n\n🎤 Diverse supporting acts including rising stars and beloved musicians\n\n\n\n🎭 A special appearance by comedian Mike Birbiglia\, adding humor to the music-packed day\n\n\n\n🌟 Outdoor summer festival vibes with multiple artists sharing the stage\n\n\n\n\n\n\n\n\n⏰ Schedule & Ticket Info\n\n\n\n\nDoors open: 2:00 PM\n\n\n\nShow starts: 3:00 PM\n\n\n\n\n🎟️ General Admission: $99 (plus fees)🎟️ VIP Experience: $150 (includes exclusive VIP entrance\, private bar\, restrooms\, and premium viewing area) \n\n\n\n\n\n\n\n💖 Giving Back\n\n\n\n$1 from every ticket sold will be donated to the Ally Coalition\, supporting equality and advocacy. \n\n\n\n\n\n\n\n📍 Event Location\n\n\n\nThe Stone Pony Summer StageAsbury Park\, NJ \n\n\n\n\n\n\n\n🎟️ Why You Should Attend\n\n\n\nExperience a day filled with unforgettable performances\, unique collaborations\, and a lively community atmosphere. Whether you’re a fan of Bleachers’ electrifying shows\, indie music discoveries\, or a blend of music and comedy\, Shadow of the City delivers a summer event you won’t want to miss. \n\n\n\n\n\n\n\n✨ Explore more summer concerts\, festivals\, and live entertainment across New Jersey. Your next great night out starts here! \n\n\n\n\n\n\n\n🎉 Explore more upcoming concerts\, festivals\, and live events in New Jersey. Your next great night out is waiting! \n\n\n\n\n\n\n\n🎟️ Tickets\, Merchandise & Info:\n\n\n\nAccessible seating available for all guests. \n\n\n\nClick here to go to the Merch Stand in The Vending Lot.
URL:https://explorenewjersey.org/event/north-to-shore-festival-presents-shadow-of-the-city-music-festival-featuring-bleachers-special-guests/
LOCATION:The Stone Pony Summer Stage\, 909 Ocean Ave N\, Asbury Park\, New Jersey\, 07712\, United States
CATEGORIES:Concerts,Music,North To Shore
ATTACH;FMTTYPE=image/jpeg:https://explorenewjersey.org/wp-content/uploads/2025/05/SOTC_1200x630.jpg
END:VEVENT
BEGIN:VEVENT
DTSTART;TZID=America/New_York:20250626T173000
DTEND;TZID=America/New_York:20250626T223000
DTSTAMP:20260421T180150
CREATED:20250527T143900Z
LAST-MODIFIED:20250724T144132Z
UID:33477-1750959000-1750977000@explorenewjersey.org
SUMMARY:The FM Band - Summer Concert Series Connelly Park – Voorhees
DESCRIPTION:🌞 Voorhees Township Summer Concert Series 2025 \n\n\n\n\n\n\n\n\n\nLive Music\, Food Trucks & Family Fun at Connolly Park! \n\n\n\nGet ready to groove under the stars — the beloved Voorhees Township Summer Concert Series is returning to Connolly Park\, bringing a full lineup of free outdoor concerts to South Jersey’s “Great Lawn.” This annual summer tradition invites families\, friends\, and music lovers of all ages to kick back\, enjoy live performances\, and soak in the seasonal vibes. \n\n\n\n\n\n\n\n📍 Location\n\n\n\nConnolly Park605 Centennial BoulevardVoorhees\, NJ 08043 \n\n\n\n🎟️ Admission: Free🚗 Parking: Free🪑 What to Bring: Lawn chairs\, blankets\, and your crew! \n\n\n\n\n\n\n\n🎸 2025 Lineup\n\n\n\n🎤 June 26 | 7:30 PMThe FM BandKick off the series with one of the region’s most versatile party bands\, playing everything from Motown to modern pop hits. \n\n\n\n🎤 July 17 | 7:00 PMTramps Like Us – The #1 Bruce Springsteen Tribute in the WorldExperience the Boss’s greatest anthems brought to life with the passion\, grit\, and authenticity of this world-class tribute act. \n\n\n\n🎤 August 21 | 7:30 PMThe Beat Tells – Beatles Tribute BandTravel back to the golden era of rock as this Philadelphia-based band delivers a pitch-perfect performance of Beatles classics. \n\n\n\n\n\n\n\n🍔 Extras & Guidelines\n\n\n\n\nFood trucks on site offering a variety of eats and treats\n\n\n\nPlayground access for kids\n\n\n\nNo pets\, alcohol\, smoking\, or vaping allowed during the event\n\n\n\nDog park will be closed during all concerts\n\n\n\n\n\n\n\n\n📣 Vendor Opportunity\n\n\n\nAre you a food truck vendor looking to be part of the fun? Reach out to Suzie at [contact email] to learn how to join the lineup. \n\n\n\n\n\n\n\nWhether you’re a diehard Springsteen fan\, a Beatles nostalgic\, or just looking for a perfect family outing\, the Voorhees Summer Concert Series is one of South Jersey’s must-do events of the season. Don’t miss this chance to enjoy free concerts and community fun all summer long! \n\n\n\n\n\n\n\n🎟️ Tickets\, Merchandise & Info:\n\n\n\nAccessible seating available for all guests. \n\n\n\nClick here to go to the Merch Stand in The Vending Lot.
URL:https://explorenewjersey.org/event/the-fm-band-summer-concert-series-connelly-park-voorhees/
LOCATION:Connelly Park – Voorhees\, 605 Centennial Blvd\, Voorhees Township\, New Jersey\, 08043\, United States
CATEGORIES:Concerts,Music
ATTACH;FMTTYPE=image/jpeg:https://explorenewjersey.org/wp-content/uploads/2025/05/Screenshot-2025-05-27-103711.jpg
ORGANIZER;CN="Camden County Board of Commissioners":MAILTO:commissioners@camdencounty.com
END:VEVENT
BEGIN:VEVENT
DTSTART;TZID=America/New_York:20250626T180000
DTEND;TZID=America/New_York:20250626T233000
DTSTAMP:20260421T180150
CREATED:20250521T135210Z
LAST-MODIFIED:20250521T140723Z
UID:32902-1750960800-1750980600@explorenewjersey.org
SUMMARY:Todd Rundgren Live – Twilight Concert Series at Cooper River Park at Jack Curtis Stadium
DESCRIPTION:Todd Rundgren Live – Twilight Concert Series at Cooper River Park\n\n\n\n\n\n\n\n\n\n📅 Thursday\, June 26\, 2025🕗 8:00 PM – 11:00 PM📍 Jack Curtis Stadium at Cooper River Park\, 5300 North Park Drive\, Pennsauken\, NJ \n\n\n\nJoin us under the stars for a legendary night of music as Todd Rundgren headlines the Twilight Concert Series at Cooper River Park in Pennsauken! \n\n\n\nA true rock icon and inductee into the Rock & Roll Hall of Fame\, Todd Rundgren brings decades of hits\, genre-defying sound\, and unmatched stage presence to the outdoor stage. Known for timeless classics like “Hello It’s Me\,” “I Saw the Light\,” and his innovative work as a producer\, Rundgren continues to captivate audiences with his musical mastery and creative spirit. \n\n\n\n🎶 Whether you’re a lifelong fan or discovering his music for the first time\, this free concert at Jack Curtis Stadium is a must-see part of South Jersey’s summer soundtrack. \n\n\n\n🪑 Bring your lawn chairs\, picnic blankets\, and good vibes for an evening filled with unforgettable tunes in one of Camden County’s most scenic park venues. \n\n\n\n🌆 The Twilight Concert Series is one of the region’s most beloved summer traditions—offering a mix of classic artists\, rising stars\, and family-friendly entertainment throughout the season. \n\n\n\n🎟️ Admission is free and open to the public—just show up and enjoy! \n\n\n\nWant more live music under the stars this summer? Discover all the exciting concerts and cultural events happening across the Garden State with our full entertainment guide. \n\n\n\n\n\n\n\n\n\n\n\n🎟️ Tickets\, Merchandise & Info:\n\n\n\nAccessible seating available for all guests. \n\n\n\nClick here to go to the Merch Stand in The Vending Lot.
URL:https://explorenewjersey.org/event/todd-rundgren-live-twilight-concert-series-at-cooper-river-park-at-jack-curtis-stadium/
LOCATION:Cooper River Park at Jack Curtis Stadium\, Cooper River Park 5300 North Park Drive\, Pennsauken\, New Jersey\, 08109\, United States
CATEGORIES:Concerts,Music
ATTACH;FMTTYPE=image/jpeg:https://explorenewjersey.org/wp-content/uploads/2025/05/CCRocks-CooperRiver-1200x6282-2-2048x1072-1.jpg
ORGANIZER;CN="Camden County Board of Commissioners":MAILTO:commissioners@camdencounty.com
END:VEVENT
BEGIN:VEVENT
DTSTART;TZID=America/New_York:20250626T200000
DTEND;TZID=America/New_York:20250626T235959
DTSTAMP:20260421T180150
CREATED:20250603T115853Z
LAST-MODIFIED:20250724T142854Z
UID:34024-1750968000-1750982399@explorenewjersey.org
SUMMARY:North 2 Shore presents Asbury Jams featuring BASIC at the Wonder Bar
DESCRIPTION:🎸 Experience BASIC Live in Asbury Park – June 26 at the Wonder Bar\n\n\n\nLooking for a live music event in New Jersey that breaks the mold? Dive into an evening of sonic exploration with BASIC\, performing live at the Wonder Bar in Asbury Park on Thursday\, June 26. \n\n\n\n\n\n\n\n\n\nOriginally street performers rocking NYC subway stations\, Moon Hooch skyrocketed to fame with their explosive brass-driven beats and innovative performance style. Known for their wild energy and use of unconventional instruments like traffic cones\, this genre-blending trio has shared stages with iconic acts like They Might Be Giants\, Beats Antique\, and Lotus—and now\, they’re hitting the Jersey Shore.\n\n\n\n🎟️ Tickets Available Now📍 Wonder Bar\, 1213 Ocean Avenue\, Asbury Park\, NJ 07712🕖 Doors Open: 7:00 PM🔞 21+ Event \n\n\n\nWhether you’re a die-hard fan or looking for something different to do in Asbury Park\, this show promises high energy\, wild creativity\, and a packed house. \n\n\n\n\n\n\n\n🎟️ Tickets\, Merchandise & Info:\n\n\n\nAccessible seating available for all guests. \n\n\n\nClick here to go to the Merch Stand in The Vending Lot.
URL:https://explorenewjersey.org/event/north-2-shore-presents-asbury-jams-featuring-basic-at-the-wonder-bar/
LOCATION:Wonder Bar\, 1213 Ocean Avenue\, Asbury Par\, New Jersey\, 07712\, United States
CATEGORIES:Concerts,Music,North To Shore
ATTACH;FMTTYPE=image/jpeg:https://explorenewjersey.org/wp-content/uploads/2025/06/BASIC-branded-square.jpg
ORGANIZER;CN="Wonder Bar":MAILTO:wonderbargm@gmail.com
END:VEVENT
END:VCALENDAR