BEGIN:VCALENDAR
VERSION:2.0
PRODID:-//Explore New Jersey - ECPv6.15.20//NONSGML v1.0//EN
CALSCALE:GREGORIAN
METHOD:PUBLISH
X-WR-CALNAME:Explore New Jersey
X-ORIGINAL-URL:https://explorenewjersey.org
X-WR-CALDESC:Events for Explore New Jersey
REFRESH-INTERVAL;VALUE=DURATION:PT1H
X-Robots-Tag:noindex
X-PUBLISHED-TTL:PT1H
BEGIN:VTIMEZONE
TZID:America/New_York
BEGIN:DAYLIGHT
TZOFFSETFROM:-0500
TZOFFSETTO:-0400
TZNAME:EDT
DTSTART:20250309T070000
END:DAYLIGHT
BEGIN:STANDARD
TZOFFSETFROM:-0400
TZOFFSETTO:-0500
TZNAME:EST
DTSTART:20251102T060000
END:STANDARD
BEGIN:DAYLIGHT
TZOFFSETFROM:-0500
TZOFFSETTO:-0400
TZNAME:EDT
DTSTART:20260308T070000
END:DAYLIGHT
BEGIN:STANDARD
TZOFFSETFROM:-0400
TZOFFSETTO:-0500
TZNAME:EST
DTSTART:20261101T060000
END:STANDARD
BEGIN:DAYLIGHT
TZOFFSETFROM:-0500
TZOFFSETTO:-0400
TZNAME:EDT
DTSTART:20270314T070000
END:DAYLIGHT
BEGIN:STANDARD
TZOFFSETFROM:-0400
TZOFFSETTO:-0500
TZNAME:EST
DTSTART:20271107T060000
END:STANDARD
END:VTIMEZONE
BEGIN:VEVENT
DTSTART;TZID=America/New_York:20260716T170000
DTEND;TZID=America/New_York:20260716T233000
DTSTAMP:20260423T092605
CREATED:20260312T161700Z
LAST-MODIFIED:20260312T161722Z
UID:82903-1784221200-1784244600@explorenewjersey.org
SUMMARY:Wild Child: Tribute to The Doors
DESCRIPTION:Wild Child Brings the Ultimate Doors Experience to New Jersey on July 16\, 2026 \n\n\n\n\n\n\n\n\n\nNew Jersey’s live entertainment scene continues to thrive with performances that celebrate music history while delivering unforgettable experiences for modern audiences. This summer\, fans of classic rock and one of the most influential bands of the 20th century will have the opportunity to experience a concert that recreates the magic of a legendary era. On July 16\, 2026\, the acclaimed tribute act Wild Child will bring its electrifying performance to New Jersey\, delivering what many fans consider the closest thing to a live concert by The Doors still possible today. \n\n\n\nWild Child has spent decades earning recognition as one of the most authentic Doors tribute acts in the world. Rather than relying on theatrical costumes or gimmicks\, the band focuses on recreating the sound\, atmosphere\, musical dynamics\, and improvisational spirit that defined the original Doors concerts of the late 1960s. \n\n\n\nFor audiences in New Jersey\, the upcoming performance represents far more than nostalgia—it is a full-scale musical journey into one of rock music’s most transformative periods. Explore New Jersey continues to highlight events that celebrate music\, performance\, and live entertainment throughout the state\, and readers can discover more upcoming shows and performances by visiting the platform’s Stand-Up Comedy and Live Entertainment section\, where a wide range of touring acts and performances are featured. \n\n\n\nWild Child’s arrival adds another powerful chapter to New Jersey’s vibrant live music calendar. \n\n\n\nRecreating the Magic of a Legendary Rock Band\n\n\n\nFew bands in rock history carry the mystique and influence of The Doors. Formed in Los Angeles in the mid-1960s\, the group quickly rose to international prominence through a combination of poetic lyrics\, hypnotic instrumentation\, and the charismatic presence of frontman Jim Morrison. \n\n\n\nAlongside keyboardist Ray Manzarek\, guitarist Robby Krieger\, and drummer John Densmore\, Morrison helped create a sound that blended blues\, psychedelic rock\, jazz influences\, and literary lyricism. \n\n\n\nTheir music became the soundtrack of a generation navigating cultural revolution\, artistic experimentation\, and the expanding boundaries of rock music. \n\n\n\nSongs like Light My Fire\, Riders on the Storm\, and Break on Through (To the Other Side) remain timeless classics\, continuing to influence musicians and captivate audiences decades after their original release. \n\n\n\nWild Child’s mission is not simply to perform these songs—it is to recreate the energy and spontaneity that made a Doors concert an unforgettable experience. \n\n\n\nThe Philosophy Behind the Wild Child Experience\n\n\n\nWhat separates Wild Child from many tribute acts is its commitment to musical authenticity. \n\n\n\nRather than staging a theatrical imitation of the band\, Wild Child focuses entirely on the music itself. The performance is designed to mirror the original Doors concerts in terms of structure\, improvisation\, and musical interplay. \n\n\n\nThere are no wigs\, costumes\, elaborate stage props\, or scripted stage dialogue. Instead\, the band delivers the songs with the same raw musical intensity that defined the original group’s live performances. \n\n\n\nThis philosophy reflects the spirit of The Doors themselves\, whose concerts were often unpredictable and improvisational. Extended instrumental passages\, spontaneous shifts in tempo\, and dynamic vocal delivery made each performance unique. \n\n\n\nWild Child recreates that experience by approaching the music as a living performance rather than a rigid recreation. \n\n\n\nCapturing the Sound and Spirit of the 1960s\n\n\n\nThe late 1960s represented a period of extraordinary musical experimentation. Rock bands were pushing boundaries\, merging genres\, and exploring new forms of expression. \n\n\n\nThe Doors stood at the center of that movement. Their music combined haunting keyboard melodies\, blues-driven guitar lines\, jazz-inspired drumming\, and Morrison’s distinctive poetic vocals. \n\n\n\nWild Child’s musicians approach the material with deep respect for the original arrangements while allowing space for the improvisational elements that defined the band’s live shows. \n\n\n\nEach performance captures the shifting dynamics that made Doors concerts so powerful—from quiet\, atmospheric passages to explosive climaxes that electrified audiences. \n\n\n\nFor fans who never had the chance to see The Doors perform live\, Wild Child offers the closest possible recreation of that historic experience. \n\n\n\nA Tribute Built on Professional Musicianship\n\n\n\nThe performers behind Wild Child are accomplished musicians in their own right\, bringing decades of professional experience to the stage. \n\n\n\nTheir dedication to mastering the intricate musical details of The Doors’ catalog allows them to recreate the band’s distinctive sound with remarkable accuracy. \n\n\n\nKeyboard passages inspired by Ray Manzarek’s iconic style are delivered with precision\, while guitar lines echo the blues-driven tone that Robby Krieger brought to the band’s recordings. \n\n\n\nAt the center of the performance is the vocalist\, whose delivery channels the intensity and theatrical presence that made Jim Morrison one of rock music’s most captivating frontmen. \n\n\n\nThe result is a performance that feels immersive rather than imitative—an experience where the music takes center stage. \n\n\n\nWhy Doors Music Continues to Resonate Today\n\n\n\nMore than half a century after their rise to fame\, The Doors remain one of the most influential bands in rock history. \n\n\n\nTheir songs explore themes that remain relevant today—freedom\, identity\, rebellion\, and the search for meaning in a rapidly changing world. \n\n\n\nThe band’s ability to blend poetic lyricism with hypnotic instrumentation created music that feels both deeply personal and universally relatable. \n\n\n\nFor generations of listeners\, Doors songs have become cultural touchstones that evoke the spirit of an era defined by artistic exploration. \n\n\n\nWild Child’s performances help keep that legacy alive\, allowing audiences to reconnect with music that continues to inspire new listeners. \n\n\n\nNew Jersey’s Love for Classic Rock\n\n\n\nNew Jersey has long been one of the most passionate live music markets in the United States. From legendary rock concerts to modern touring productions\, the state has hosted countless performances that celebrate the enduring power of music. \n\n\n\nClassic rock remains a particularly strong draw for audiences across the Garden State. Tribute performances dedicated to iconic artists allow fans to relive the songs that shaped their musical memories while introducing younger generations to timeless rock classics. \n\n\n\nWild Child’s appearance in New Jersey fits perfectly into this tradition\, offering a performance that bridges generations of rock fans. \n\n\n\nThe Power of Live Music and Musical Legacy\n\n\n\nConcerts celebrating legendary artists serve a unique role in today’s music landscape. They provide an opportunity to preserve musical history while continuing to bring people together through shared experiences. \n\n\n\nFor fans of The Doors\, Wild Child’s performance offers a chance to hear the band’s music performed with the same passion and energy that defined the original recordings. \n\n\n\nLive music carries an emotional impact that recordings alone cannot replicate. The sound of a band performing in real time\, the energy of a crowd responding to familiar songs\, and the shared atmosphere of a concert hall all contribute to a powerful connection between performers and audience. \n\n\n\nWild Child’s dedication to recreating the authentic Doors experience ensures that this connection remains central to every show. \n\n\n\nA Night That Celebrates One of Rock’s Greatest Legacies\n\n\n\nWhen Wild Child takes the stage in New Jersey on July 16\, audiences will step into a musical time capsule that celebrates one of the most iconic bands in rock history. \n\n\n\nFrom the hypnotic keyboard lines that open a Doors classic to the soaring vocal passages that defined their sound\, the concert will recreate the spirit of an era when music challenged conventions and redefined artistic expression. \n\n\n\nFor longtime Doors fans\, the performance offers a chance to reconnect with the music that shaped their lives. For newer listeners\, it provides a gateway into the extraordinary catalog of a band that helped define rock music. \n\n\n\nAs New Jersey continues to host performances that celebrate music history and live entertainment\, the arrival of Wild Child stands as another powerful reminder that the legacy of The Doors continues to echo through generations of listeners—alive on stage\, alive in the music\, and alive in every audience that gathers to hear it.
URL:https://explorenewjersey.org/event/wild-child-tribute-to-the-doors-2/
LOCATION:The Wellmont Theater\, 5 Seymour St\, Montclair\, NJ\, 07042\, United States
CATEGORIES:Concerts,Music
ATTACH;FMTTYPE=image/jpeg:https://explorenewjersey.org/wp-content/uploads/2026/03/63fd2583d5110.jpg
END:VEVENT
END:VCALENDAR