BEGIN:VCALENDAR
VERSION:2.0
PRODID:-//Explore New Jersey - ECPv6.15.20//NONSGML v1.0//EN
CALSCALE:GREGORIAN
METHOD:PUBLISH
X-ORIGINAL-URL:https://explorenewjersey.org
X-WR-CALDESC:Events for Explore New Jersey
REFRESH-INTERVAL;VALUE=DURATION:PT1H
X-Robots-Tag:noindex
X-PUBLISHED-TTL:PT1H
BEGIN:VTIMEZONE
TZID:America/New_York
BEGIN:DAYLIGHT
TZOFFSETFROM:-0500
TZOFFSETTO:-0400
TZNAME:EDT
DTSTART:20240310T070000
END:DAYLIGHT
BEGIN:STANDARD
TZOFFSETFROM:-0400
TZOFFSETTO:-0500
TZNAME:EST
DTSTART:20241103T060000
END:STANDARD
BEGIN:DAYLIGHT
TZOFFSETFROM:-0500
TZOFFSETTO:-0400
TZNAME:EDT
DTSTART:20250309T070000
END:DAYLIGHT
BEGIN:STANDARD
TZOFFSETFROM:-0400
TZOFFSETTO:-0500
TZNAME:EST
DTSTART:20251102T060000
END:STANDARD
BEGIN:DAYLIGHT
TZOFFSETFROM:-0500
TZOFFSETTO:-0400
TZNAME:EDT
DTSTART:20260308T070000
END:DAYLIGHT
BEGIN:STANDARD
TZOFFSETFROM:-0400
TZOFFSETTO:-0500
TZNAME:EST
DTSTART:20261101T060000
END:STANDARD
END:VTIMEZONE
BEGIN:VEVENT
DTSTART;TZID=America/New_York:20250507T200000
DTEND;TZID=America/New_York:20250511T233000
DTSTAMP:20260419T191436
CREATED:20250503T174046Z
LAST-MODIFIED:20250724T144315Z
UID:31194-1746648000-1747006200@explorenewjersey.org
SUMMARY:Django à Gogo Music Festival and Music Camp
DESCRIPTION:🎸 Django à Gogo 2025: A Week-Long Gypsy Jazz Celebration in New Jersey & NYC \n\n\n\nFrom May 6 to May 11\, 2025\, the tri-state area will resonate with the soulful sounds of gypsy jazz as guitarist Stéphane Wrembel presents the 2025 edition of the Django à Gogo Music Festival and Music Camp. This immersive celebration honors the legacy of legendary Romani-French guitarist Django Reinhardt\, blending world-class performances with hands-on learning experiences. The festival spans multiple venues in Maplewood\, NJ\, New York City\, and Brooklyn\, offering a unique opportunity for music enthusiasts and aspiring musicians alike. \n\n\n\n\n\n\n\n\n\n\n\n🎶 Festival Highlights\n\n\n\n🎸 Concerts in Maplewood\, NJ\n\n\n\n\nWednesday\, May 7\, 2025 – 8:00 PMDjango New OrleansExperience a fusion of New Orleans brass and Reinhardt’s “Jazz Manouche” style\, featuring Stephane Wrembel\, Josh Kaye\, Adrien Chevalier\, and more at The Woodland. Stephane Wrembel Presents\n\n\n\nThursday\, May 8\, 2025 – 8:00 PMSam Farthing CD Release ShowBaltimore-based guitarist Sam Farthing celebrates his debut album Swing 25\, joined by Wrembel and other special guests.\n\n\n\nSaturday\, May 10\, 2025 – 8:00 PMStephane Wrembel Band + GuestsA dynamic performance featuring Wrembel\, Josh Kaye\, Ari Folman-Cohen\, and surprise guest artists. Symphony Space+1Stephane Wrembel Presents+1\n\n\n\n\n🎷 All-Star Concert at Symphony Space\, NYC\n\n\n\n\nFriday\, May 9\, 2025 – 8:00 PMDjango à Gogo All StarsAn exceptional lineup including Mozes Rosenberg\, Antoine Boyer\, Simba Baumgartner\, and others\, performing at Symphony Space in Manhattan. Symphony Space\n\n\n\n\n🎉 Farewell Jam at Barbès\, Brooklyn\n\n\n\n\nSunday\, May 11\, 2025 – 6:00 PMSuper JamA lively jam session featuring festival performers and students\, held at Barbès in Brooklyn.\n\n\n\n\n\n\n\n\n🎓 Django à Gogo Music Camp (May 6–11\, 2025)\n\n\n\nFor those eager to deepen their musical skills\, the Django à Gogo Music Camp offers an intensive program limited to 40 guitar students. Participants will engage in small group classes\, workshops\, and jam sessions led by renowned instructors such as Wrembel\, Mozes Rosenberg\, Antoine Boyer\, and others. The camp takes place in the charming town of Maplewood\, NJ\, known for its vibrant arts scene and easy access to NYC. Stephane Wrembel Presents \n\n\n\n\n\n\n\n🎟️ Ticket Information\n\n\n\n\nMaplewood Concerts: Tickets are available through the official festival website.\n\n\n\nSymphony Space Concert: Tickets can be purchased via Symphony Space’s official site. Symphony Space\n\n\n\nBarbès Jam Session: Admission is available at the door only. New Jersey Monthly+1Stephane Wrembel Presents+1\n\n\n\n\n\n\n\n\n\n\n\n\n🏨 Accommodations & Travel\n\n\n\nWhile students are responsible for their own lodging\, Maplewood offers numerous Airbnbs and VRBO options. The town is easily accessible by train from NYC\, making it convenient for attendees traveling from the city. Stephane Wrembel Presents \n\n\n\n\n\n\n\n🌟 About Stéphane Wrembel\n\n\n\nA leading figure in the world of gypsy jazz\, Stéphane Wrembel is celebrated for his mastery of Django Reinhardt’s style. Born in France and now based in New Jersey\, Wrembel is best known for his Grammy Award®-winning composition “Bistro Fada” from the Academy Award®-winning film Midnight in Paris. Since 2003\, his Django à Gogo festival has brought together top-tier musicians to celebrate and reinterpret the Sinti guitar tradition. Stephane Wrembel Presents \n\n\n\n\n\n\n\nFor more information and to purchase tickets\, visit the official festival website: www.djangoagogo.com \n\n\n\nDjango à Gogo 2025: A Week-Long Gypsy Jazz Celebration in New Jersey & NYC \n\n\n\n\n\n\n\n \n\n\n\nStephane Wrembel Presents \n\n\n\nStephane Wrembel PresentsSymphony SpaceStephane Wrembel’s Django a Gogo | Symphony SpaceStephane Wrembel PresentsMusic Camp — Stephane Wrembel Presents \n\n\n\n\n\n\n\n\n\n\n\n\n\n\n\n\n\n\n\nSources
URL:https://explorenewjersey.org/event/31194/
LOCATION:The Woodland\, 60 Woodland R\, Maplewood\, New Jersey\, 07040\, United States
CATEGORIES:Concerts,Festivals,Music
ATTACH;FMTTYPE=image/jpeg:https://explorenewjersey.org/wp-content/uploads/2025/05/IMG_2544300dpi-scaled.jpeg
END:VEVENT
BEGIN:VEVENT
DTSTART;TZID=America/New_York:20250508T080000
DTEND;TZID=America/New_York:20250508T170000
DTSTAMP:20260419T191436
CREATED:20250503T172556Z
LAST-MODIFIED:20250503T173256Z
UID:31188-1746691200-1746723600@explorenewjersey.org
SUMMARY:Meshell Ndegeocello
DESCRIPTION:Meshell Ndegeocello Brings “No More Water: The Gospel of James Baldwin” to Montclair State University \n\n\n\n\n\n\n\nOn May 8\, 2025\, Grammy-winning artist Meshell Ndegeocello will perform her acclaimed work\, No More Water: The Gospel of James Baldwin\, at Montclair State University’s Alexander Kasser Theater. This performance is part of the Peak Performances series and is set to begin at 7:00 PM. Tickets are available through the Peak Performances website. \n\n\n\n\n\n\n\nA Tribute to Baldwin’s Legacy\n\n\n\n\n\n\n\nNo More Water is a profound musical tribute to the influential writer and activist James Baldwin\, commemorating his centennial. The project began as a theatrical piece\, Can I Get a Witness? The Gospel of James Baldwin\, commissioned by Harlem Stage in 2016. It has since evolved into a full-length album released on August 2\, 2024\, Baldwin’s 100th birthday. The album blends elements of gospel\, jazz\, funk\, and spoken word to explore themes of race\, identity\, and social justice. Contributors include poet Staceyann Chin\, writer Hilton Als\, and vocalist Justin Hicks.  \n\n\n\n\n\n\n\n\n\n\n\nPerformance Details\n\n\n\nThe upcoming performance at Montclair State University will showcase the album’s rich tapestry of music and spoken word. Attendees can expect a dynamic and immersive experience that reflects Baldwin’s enduring influence on contemporary discourse. The event is anticipated to resonate deeply with audiences\, offering both artistic expression and social commentary. \n\n\n\n\n\n\n\nAbout Peak Performances\n\n\n\nPeak Performances at Montclair State University is renowned for presenting innovative and diverse works that challenge and inspire audiences. The series features a wide range of performances\, including music\, theater\, and dance\, and is dedicated to fostering cultural engagement and artistic excellence. \n\n\n\n \n\n\n\n\n\n\n\nFor more information and to purchase tickets\, visit the Peak Performances website. \n\n\n\nNote: For the original announcement and more details\, visit Blue Note Records. \n\n\n\n\n\n\n\n\n\n\n\n\n\n\n\nSources \n\n\n\n\n\n\n\n\n\n\n\n🎟️ Tickets\, Merchandise & Info:\n\n\n\nAccessible seating available for all guests. \n\n\n\nClick here to go to the Merch Stand in The Vending Lot.
URL:https://explorenewjersey.org/event/meshell-ndegeocello/
LOCATION:Alexander Kasser Theater\, 1 Normal Ave Hall\, Suite 171\, Montclair\, New Jersey\, 07043\, United States
CATEGORIES:Concerts,Music
ATTACH;FMTTYPE=image/jpeg:https://explorenewjersey.org/wp-content/uploads/2025/05/id_meshell_mdegeocello_960x400_0.jpg
END:VEVENT
BEGIN:VEVENT
DTSTART;TZID=America/New_York:20250508T160000
DTEND;TZID=America/New_York:20250508T200000
DTSTAMP:20260419T191436
CREATED:20250505T123137Z
LAST-MODIFIED:20250505T123321Z
UID:31332-1746720000-1746734400@explorenewjersey.org
SUMMARY:White Eagle Hall Presents The Best of Hans Zimmer
DESCRIPTION:Candlelight: The Best of Hans Zimmer at White Eagle Hall \n\n\n\n\n\n\n\nExperience the cinematic brilliance of Hans Zimmer like never before in Jersey City. Under the mesmerizing glow of candlelight\, the Highline String Quartet brings to life iconic compositions from Zimmer’s legendary film scores. Set in the historic White Eagle Hall\, this intimate 60-minute concert offers a unique fusion of classical elegance and cinematic grandeur. \n\n\n\n\n\n\n\nEvent Details: \n\n\n\n\nVenue: White Eagle Hall\, 337 Newark Avenue\, Jersey City\, NJ 07302\n\n\n\nDuration: Approximately 60 minutes\n\n\n\nAge Requirement: 8 years and older; attendees under 16 must be accompanied by an adult\n\n\n\nAccessibility: ADA compliant\n\n\n\nSeating: Assigned on a first-come\, first-served basis within each zone\n\n\n\nNote: Late entry is not permitted; doors open 60 minutes prior to the start timewhiteeaglehalljc.com+3whiteeaglehalljc.com+3Fever+3\n\n\n\n\nProgram Highlights: \n\n\n\n\nTime from Inception\n\n\n\nThis Land from The Lion King\n\n\n\nZooster’s Breakout from Madagascar\n\n\n\nSupermarine from Dunkirk\n\n\n\nHonor from The Pacific\n\n\n\nA Dark Knight from The Dark Knight\n\n\n\nWonder Woman Suite\n\n\n\nGladiator Suite\n\n\n\nCornfield Chase from Interstellar\n\n\n\nDune Suite\n\n\n\nDiscombobulate from Sherlock Holmes\n\n\n\nPirates of the Caribbean Suitehighlinequartet.comhighlinequartet.com+2Fever+2Fever+2\n\n\n\n\nPerformers: \n\n\n\n\nHighline String Quartet\n\n\n\n\n\n\n\n\nFor more information and to purchase tickets\, visit the official event page: Fever \n\n\n\nDon’t miss this enchanting evening where film music meets classical artistry in a candlelit setting. Secure your seats today for an unforgettable experience. \n\n\n\n\n\n\n\nSources \n\n\n\n\n\n\n\n \n\n\n\n🎟️ Tickets\, Merchandise & Info:\n\n\n\nAccessible seating available for all guests. \n\n\n\nClick here to go to the Merch Stand in The Vending Lot.
URL:https://explorenewjersey.org/event/white-eagle-hall-presents-the-best-of-hans-zimmer/
LOCATION:White Eagle Hall\, 337 Newark Avenue \, NJ\, Jersey City\, New Jersey\, 07302\, United States
CATEGORIES:Concerts,Music
ATTACH;FMTTYPE=image/webp:https://explorenewjersey.org/wp-content/uploads/2025/05/48ceac60-2097-11f0-95ef-958a9710c956-rimg-w1200-h800-dc761c06-gmir.webp
ORGANIZER;CN="White Eagle Hall":MAILTO:info@wehjc.com
END:VEVENT
BEGIN:VEVENT
DTSTART;TZID=America/New_York:20250508T190000
DTEND;TZID=America/New_York:20250508T233000
DTSTAMP:20260419T191436
CREATED:20250503T134429Z
LAST-MODIFIED:20250503T134451Z
UID:31093-1746730800-1746747000@explorenewjersey.org
SUMMARY:Hollywood Nights - A Tribute to Bob Seger
DESCRIPTION:Hollywood Nights: The Ultimate Bob Seger Tribute Live in NJ \n\n\n\n\n\nGet ready to turn the page with a powerful night of rock ‘n’ roll as Hollywood Nights – The Bob Seger Experience brings the heartland sound of Bob Seger and the Silver Bullet Band to life. Hailing from New Jersey\, this acclaimed 9-piece tribute band delivers a soul-stirring performance that captures every ounce of Seger’s iconic sound. \n\n\n\n\n\n\n\n🎶 About the Show:\n\n\n\n\n\n\n\nHollywood Nights doesn’t just perform Seger’s music—they embody his legacy. With soaring saxophones\, gritty guitar solos\, and raspy vocals that echo the original\, they recreate Bob Seger’s timeless classics with electric energy and pure authenticity. \n\n\n\n🎸 Relive unforgettable hits like: \n\n\n\n\nNight Moves\n\n\n\nOld Time Rock & Roll\n\n\n\nTurn the Page\n\n\n\nAgainst the Wind\n\n\n\nStill the Same…and many more songs that defined a generation.\n\n\n\n\n\n\n\n\n📍 Event Details:\n\n\n\n\nEvent: Hollywood Nights – A Tribute to Bob Seger\n\n\n\nVenue: Bergen Performing Arts Center (bergenPAC)\n\n\n\nDate & Time: Thursday\, May 8\, 2025 | 7:00 PM\n\n\n\nTickets: Buy Tickets Here ➤\n\n\n\n\n\n\n\n\n🤘 Why Fans Love It:\n\n\n\n\nAuthentic recreation of Bob Seger’s legendary sound\n\n\n\nCelebrates the blue-collar spirit and storytelling that made Seger a rock icon\n\n\n\nLive\, high-energy show perfect for classic rock lovers\n\n\n\nLocal band with a national following and deep NJ roots\n\n\n\n\n\n\n\n\nWhether you grew up on Stranger in Town or just discovered Bob Seger’s music\, this tribute is a must-see for fans who crave that raw\, emotional\, and gritty rock sound. Come experience the passion\, power\, and timeless songs of Bob Seger — performed live and loud. \n\n\n\n\n\n\n\n\n\n\n\n🎟️ Tickets\, Merchandise & Info:\n\n\n\nAccessible seating available for all guests. \n\n\n\nClick here to go to the Merch Stand in The Vending Lot. \n\n\n\nListen to Live Music on Live Jam!
URL:https://explorenewjersey.org/event/hollywood-nights-a-tribute-to-bob-seger/
LOCATION:Bergen Performing Arts Center\, 30 North Van Brunt Street\, Englewood\, New Jersey\, 07631\, United States
CATEGORIES:Concerts,Music
ATTACH;FMTTYPE=image/jpeg:https://explorenewjersey.org/wp-content/uploads/2025/05/images-2-1.jpeg
ORGANIZER;CN="Bergen Performing Arts Center":MAILTO:boxoffice@bergenpac.org
END:VEVENT
BEGIN:VEVENT
DTSTART;TZID=America/New_York:20250508T190000
DTEND;TZID=America/New_York:20250509T233000
DTSTAMP:20260419T191436
CREATED:20250503T155108Z
LAST-MODIFIED:20250503T160741Z
UID:31148-1746730800-1746833400@explorenewjersey.org
SUMMARY:Kendrick Lamar & SZA
DESCRIPTION:🎤 Kendrick Lamar & SZA Bring Their Grand National Tour to MetLife Stadium – May 8 & 9\, 2025 \n\n\n\n\n\n\n\nGet ready for an unforgettable night as two of the biggest names in music\, Kendrick Lamar and SZA\, co-headline the Grand National Tour at MetLife Stadium in East Rutherford\, New Jersey\, on May 8 and 9\, 2025\, starting at 7:00 PM. This highly anticipated tour marks a significant collaboration between the artists\, who have previously worked together on tracks like “Gloria” and “Luther” from Lamar’s latest album\, GNX. \n\n\n\n\n\n\n\n🚗 The Meaning Behind ‘GNX’\n\n\n\nThe tour and Lamar’s album\, GNX\, are named after the iconic 1987 Buick Grand National Experimental (GNX)\, a car that holds personal significance for the artist. Lamar has shared that he was driven home from the hospital in a Buick Regal in 1987\, connecting his early life to the legacy of the GNX. The album features tracks like “Wacced Out Murals” and “TV Off\,” which pay homage to the vehicle and its cultural impact.  \n\n\n\n🎶 What to Expect at the Show\n\n\n\nFans attending the MetLife Stadium shows can expect a dynamic performance featuring alternating mini-sets by Lamar and SZA\, along with collaborative numbers that highlight their musical chemistry. The setlists are anticipated to include a mix of Lamar’s hits from DAMN. and Mr. Morale & The Big Steppers\, along with SZA’s chart-topping tracks from SOS. The artists have expressed their excitement about delivering an unparalleled celebration for their fans.  \n\n\n\n🎟️ Ticket Information\n\n\n\nTickets for the Grand National Tour at MetLife Stadium are available through various platforms\, including SeatGeek. Given the high demand\, it’s advisable to purchase tickets early to secure your spot at this monumental event. \n\n\n\n🌟 About the Artists\n\n\n\n\nKendrick Lamar: A Pulitzer Prize-winning artist known for his profound lyrics and impactful storytelling\, Lamar continues to push the boundaries of hip-hop with his innovative music.\n\n\n\nSZA: A Grammy-winning artist celebrated for her soulful voice and genre-blending sound\, SZA has captivated audiences worldwide with her emotive performances.\n\n\n\n\nDon’t miss the opportunity to witness these two powerhouse artists live in concert at MetLife Stadium. Whether you’re a longtime fan or new to their music\, this event promises to be a highlight of the 2025 concert season. \n\n\n\n\n\n\n\n\n\n\n\n\n\n\n\n\n\n\n\n\n\n\n\n\n\n\n\nSources \n\n\n\n\n\n\n\n\n\n\n\n🎟️ Tickets\, Merchandise & Info:\n\n\n\nAccessible seating available for all guests. \n\n\n\nClick here to go to the Merch Stand in The Vending Lot.
URL:https://explorenewjersey.org/event/kendrick-lamar-sza/
LOCATION:MetLife Stadium\, 1 MetLife Stadium Dr\, East Rutherford\, NJ\, 07073\, United States
CATEGORIES:Concerts,Music
ATTACH;FMTTYPE=image/jpeg:https://explorenewjersey.org/wp-content/uploads/2025/05/kl_sza_1240x425_temp.jpg
ORGANIZER;CN="Live Nation Entertainment":MAILTO:https://www.livenation.com/
END:VEVENT
BEGIN:VEVENT
DTSTART;TZID=America/New_York:20250508T203000
DTEND;TZID=America/New_York:20250508T233000
DTSTAMP:20260419T191437
CREATED:20250505T123838Z
LAST-MODIFIED:20250507T101156Z
UID:31334-1746736200-1746747000@explorenewjersey.org
SUMMARY:White Eagle Hall Presents Candlelight: A Tribute to Queen
DESCRIPTION:🕯️ Candlelight Concert: A Tribute to Coldplay in Jersey City📍 White Eagle Hall\, Jersey City\, NJ📅 Multiple Dates Available | ⏰ 60-Minute Performance \n\n\n\n\n\n\n\nExperience the music of Coldplay like never before—bathed in candlelight\, surrounded by historic architecture\, and brought to life by the acclaimed Highline String Quartet. This enchanting live concert at White Eagle Hall transforms Coldplay’s greatest hits into a magical\, multi-sensory classical performance. \n\n\n\nFrom the uplifting energy of “A Sky Full of Stars” to the emotional resonance of “Fix You\,” every note echoes with intimacy and beauty in this breathtaking setting. \n\n\n\n🎻 Program Highlights: \n\n\n\n\nClocks\n\n\n\nParadise\n\n\n\nThe Scientist\n\n\n\nYellow\n\n\n\nMy Universe\n\n\n\nFix You\n\n\n\nShiver\n\n\n\nTrouble\n\n\n\nSpeed of Sound\n\n\n\nSomething Just Like This\n\n\n\nA Sky Full of Stars\n\n\n\n\n✨ Event Features: \n\n\n\n\nA candlelit ambiance that adds a warm\, intimate glow to every performance\n\n\n\nA 60-minute classical tribute perfect for music lovers and romantics alike\n\n\n\nPerformed by the highly regarded Highline String Quartet\n\n\n\nFirst-come\, first-served seating within selected zones\n\n\n\n\n🎟️ General Information: \n\n\n\n\nDoors open 60 minutes prior to showtime — late entry is not permitted\n\n\n\nAccessible for all guests (ADA compliant)\n\n\n\nOpen to ages 8 and up (under 16 must be accompanied by an adult)\n\n\n\nTickets available for individual or group bookings (including private events and parties of 30+)\n\n\n\n\n💡 Don’t Miss Out:This event sells out quickly—reserve your seat now and immerse yourself in Coldplay’s music reimagined in one of New Jersey’s most atmospheric venues. \n\n\n\n🎁 Give the gift of music: Candlelight gift cards available for an unforgettable experience. \n\n\n\n\n\n\n\n \n\n\n\n🎟️ Tickets\, Merchandise & Info:\n\n\n\nAccessible seating available for all guests. \n\n\n\nClick here to go to the Merch Stand in The Vending Lot.
URL:https://explorenewjersey.org/event/white-eagle-hall-presents-candlelight-a-tribute-to-queen/
LOCATION:White Eagle Hall\, 337 Newark Avenue \, NJ\, Jersey City\, New Jersey\, 07302\, United States
CATEGORIES:Concerts,Music
ATTACH;FMTTYPE=image/webp:https://explorenewjersey.org/wp-content/uploads/2025/05/48ceac60-2097-11f0-95ef-958a9710c956-rimg-w1200-h800-dc761c06-gmir.webp
ORGANIZER;CN="White Eagle Hall":MAILTO:info@wehjc.com
END:VEVENT
END:VCALENDAR