BEGIN:VCALENDAR
VERSION:2.0
PRODID:-//Explore New Jersey - ECPv6.15.20//NONSGML v1.0//EN
CALSCALE:GREGORIAN
METHOD:PUBLISH
X-ORIGINAL-URL:https://explorenewjersey.org
X-WR-CALDESC:Events for Explore New Jersey
REFRESH-INTERVAL;VALUE=DURATION:PT1H
X-Robots-Tag:noindex
X-PUBLISHED-TTL:PT1H
BEGIN:VTIMEZONE
TZID:America/New_York
BEGIN:DAYLIGHT
TZOFFSETFROM:-0500
TZOFFSETTO:-0400
TZNAME:EDT
DTSTART:20240310T070000
END:DAYLIGHT
BEGIN:STANDARD
TZOFFSETFROM:-0400
TZOFFSETTO:-0500
TZNAME:EST
DTSTART:20241103T060000
END:STANDARD
BEGIN:DAYLIGHT
TZOFFSETFROM:-0500
TZOFFSETTO:-0400
TZNAME:EDT
DTSTART:20250309T070000
END:DAYLIGHT
BEGIN:STANDARD
TZOFFSETFROM:-0400
TZOFFSETTO:-0500
TZNAME:EST
DTSTART:20251102T060000
END:STANDARD
BEGIN:DAYLIGHT
TZOFFSETFROM:-0500
TZOFFSETTO:-0400
TZNAME:EDT
DTSTART:20260308T070000
END:DAYLIGHT
BEGIN:STANDARD
TZOFFSETFROM:-0400
TZOFFSETTO:-0500
TZNAME:EST
DTSTART:20261101T060000
END:STANDARD
END:VTIMEZONE
BEGIN:VEVENT
DTSTART;TZID=America/New_York:20250906T130000
DTEND;TZID=America/New_York:20250906T160000
DTSTAMP:20260422T193949
CREATED:20250823T144455Z
LAST-MODIFIED:20250823T144457Z
UID:54711-1757163600-1757174400@explorenewjersey.org
SUMMARY:WMGK Brew Blast on the Battleship New Jersey
DESCRIPTION:Raise a glass at the WMGK Brew Blast\, a one-of-a-kind craft beer festival hosted aboard the iconic Battleship New Jersey. \n\n\n\n\n\n\n\n\n\nDate: Friday\, September 6\, 2025Time: 1:00 PMLocation: Battleship New Jersey\, 62 Battleship Place\, Camden\, NJTickets: Purchase Here \n\n\n\nRaise a glass at the WMGK Brew Blast\, a one-of-a-kind craft beer festival hosted aboard the iconic Battleship New Jersey. Enjoy over 50 hand-selected craft beers from top New Jersey and national breweries\, including Cape May\, Double Nickel\, Flying Fish\, MudHen\, and New Belgium\, all while taking in stunning riverfront views. \n\n\n\nEvent Highlights\n\n\n\n\nLive Music: Groove to classic rock favorites performed by the MGK House Band\, Bambu Weasels\, on the tented deck of America’s most decorated battleship.\n\n\n\nCraft Beer Sampling: Explore a wide range of brews\, from hoppy IPAs to smooth lagers\, guided by the 102.9 WMGK air staff.\n\n\n\nMeet the DJs: Chat with your favorite MGK personalities and share your love for music and craft beer.\n\n\n\nFree Battleship Tour: Every ticket includes a complimentary tour of the Battleship New Jersey\, redeemable at a later date.\n\n\n\nFood Options: Delicious food available for purchase to pair with your craft beer experience.\n\n\n\n\nImportant Info: This is a 21+ event\, including Designated Drivers. All patrons entering the Brew Blast area must show valid ID. \n\n\n\nEnjoy a day of great beer\, rock music\, and historic sights—perfect for craft beer enthusiasts and music lovers alike!
URL:https://explorenewjersey.org/event/wmgk-brew-blast-on-the-battleship-new-jersey/
LOCATION:Battleship New Jersey\, 62 Battleship Place\, Camden\, New Jersey\, 08103\, United States
CATEGORIES:Beer Festivals
ATTACH;FMTTYPE=image/png:https://explorenewjersey.org/wp-content/uploads/2025/08/large.png
END:VEVENT
END:VCALENDAR