BEGIN:VCALENDAR
VERSION:2.0
PRODID:-//Explore New Jersey - ECPv6.15.20//NONSGML v1.0//EN
CALSCALE:GREGORIAN
METHOD:PUBLISH
X-WR-CALNAME:Explore New Jersey
X-ORIGINAL-URL:https://explorenewjersey.org
X-WR-CALDESC:Events for Explore New Jersey
REFRESH-INTERVAL;VALUE=DURATION:PT1H
X-Robots-Tag:noindex
X-PUBLISHED-TTL:PT1H
BEGIN:VTIMEZONE
TZID:America/New_York
BEGIN:DAYLIGHT
TZOFFSETFROM:-0500
TZOFFSETTO:-0400
TZNAME:EDT
DTSTART:20250309T070000
END:DAYLIGHT
BEGIN:STANDARD
TZOFFSETFROM:-0400
TZOFFSETTO:-0500
TZNAME:EST
DTSTART:20251102T060000
END:STANDARD
BEGIN:DAYLIGHT
TZOFFSETFROM:-0500
TZOFFSETTO:-0400
TZNAME:EDT
DTSTART:20260308T070000
END:DAYLIGHT
BEGIN:STANDARD
TZOFFSETFROM:-0400
TZOFFSETTO:-0500
TZNAME:EST
DTSTART:20261101T060000
END:STANDARD
BEGIN:DAYLIGHT
TZOFFSETFROM:-0500
TZOFFSETTO:-0400
TZNAME:EDT
DTSTART:20270314T070000
END:DAYLIGHT
BEGIN:STANDARD
TZOFFSETFROM:-0400
TZOFFSETTO:-0500
TZNAME:EST
DTSTART:20271107T060000
END:STANDARD
END:VTIMEZONE
BEGIN:VEVENT
DTSTART;TZID=America/New_York:20260730T200000
DTEND;TZID=America/New_York:20260809T233000
DTSTAMP:20260422T000024
CREATED:20260419T113249Z
LAST-MODIFIED:20260419T113253Z
UID:87056-1785441600-1786318200@explorenewjersey.org
SUMMARY:Closer Than Ever
DESCRIPTION:“Closer Than Ever” Headlines Summerfest 2026 at Sitnik Theatre with a Powerful\, Intimate Musical Experience in New Jersey \n\n\n\n\n\n\n\n\n\nNew Jersey’s cultural calendar continues to expand with purpose and sophistication\, and this summer\, one of the most compelling theatrical music experiences arrives at the Sitnik Theatre as part of Summerfest 2026. From July 30 through August 9\, audiences will be invited into a deeply personal and musically rich world with Closer Than Ever\, the acclaimed song cycle by David Shire and Richard Maltby Jr. that has long been celebrated for its honesty\, intelligence\, and emotional precision. \n\n\n\nAs the Garden State continues to assert itself as a destination not just for concerts but for meaningful\, artist-driven productions\, events like this underscore why audiences consistently turn to Explore New Jersey’s music coverage to stay connected to performances that go beyond the expected. This is not traditional musical theatre in the conventional sense. It is something more refined\, more intimate\, and ultimately more impactful—a production that trades spectacle for substance and rewards audiences with a deeply resonant experience. \n\n\n\nSet within the Sitnik Theatre at 715 Grand Avenue\, a venue known for its clarity of sound and focused presentation\, Closer Than Ever finds an ideal home. The theatre’s design allows for an immediate connection between performer and audience\, eliminating distance and amplifying emotional nuance. This is essential for a production built not around a linear narrative\, but around a sequence of songs that together form a mosaic of modern life—each piece offering a distinct perspective\, voice\, and emotional truth. \n\n\n\nWith music by David Shire and lyrics by Richard Maltby Jr.\, and originally conceived by Steven Scott Smith\, Closer Than Ever stands as one of the most sophisticated song cycles ever brought to the stage. It draws from what can be described as a “private vault” of material—songs that reflect the full range of the human experience\, written with a level of craftsmanship that has defined both creators’ careers. What unfolds over the course of the performance is not a single story\, but a collection of moments that\, when taken together\, form a comprehensive exploration of life as it is actually lived. \n\n\n\nThe production moves fluidly across themes that are at once universal and deeply personal. Love\, in all of its forms\, is a central thread—but not the simplified\, idealized version often presented in traditional theatre. Instead\, Closer Than Ever examines love as it exists in reality: complicated\, evolving\, sometimes unfulfilled\, and often intertwined with other facets of life such as ambition\, aging\, identity\, and the passage of time. It is a work that acknowledges the quiet\, often unspoken struggles that define everyday existence\, and in doing so\, it creates a connection that feels immediate and authentic. \n\n\n\nWhat distinguishes this production is its structure. Each song introduces a new character\, a new perspective\, and a new emotional landscape. There is no reliance on a single protagonist or a continuous storyline. Instead\, the audience is guided through a series of self-contained narratives\, each one offering insight into a different aspect of the human condition. This approach allows for a level of variety and depth that is rarely achieved in more traditional formats\, creating a dynamic and engaging experience that evolves moment by moment. \n\n\n\nThe tonal range of Closer Than Ever is equally noteworthy. While the material is grounded in sincerity and emotional truth\, it is also infused with a sharp\, often unexpected sense of humor. Moments of introspection are balanced by wit and levity\, creating a rhythm that mirrors real life—where laughter and reflection coexist\, often within the same breath. This balance is one of the defining characteristics of Maltby and Shire’s work\, and it is brought to life in a way that feels both deliberate and effortless. \n\n\n\nAs part of Summerfest 2026\, this production contributes to a broader narrative about the evolution of New Jersey’s performing arts scene. The festival has increasingly positioned itself as a platform for high-quality\, thoughtfully curated programming that appeals to a wide spectrum of audiences. By including a work like Closer Than Ever\, Summerfest reinforces its commitment to presenting material that is not only entertaining but also intellectually and emotionally engaging. \n\n\n\nThe extended run\, spanning from late July into early August\, provides ample opportunity for audiences to experience the production\, while also reflecting confidence in its appeal and impact. This is not a one-night event or a limited engagement—it is a sustained presentation that invites repeat viewings and deeper appreciation. For those who value theatre that challenges\, resonates\, and lingers long after the performance concludes\, this is a production that demands attention. \n\n\n\nIn the context of New Jersey’s broader cultural identity\, Closer Than Ever represents a continued shift toward programming that prioritizes substance and artistry. It is part of a growing recognition that audiences are seeking more than passive entertainment—they are looking for experiences that reflect their own lives\, their own questions\, and their own complexities. Productions like this meet that demand with precision and integrity. \n\n\n\nAt the Sitnik Theatre\, where every detail is designed to support the performance\, Closer Than Ever will unfold as it was intended: up close\, unfiltered\, and deeply human. It is a reminder that some of the most powerful moments in live performance are not the loudest or the largest\, but the ones that feel the most real. \n\n\n\nAs Summerfest 2026 continues to shape the season\, this production stands out as a defining entry—one that captures the essence of what live theatre and music can achieve when they are allowed to speak directly\, honestly\, and without compromise.
URL:https://explorenewjersey.org/event/closer-than-ever/
LOCATION:Sitnik Theatre\, 715 Grand Ave\, Hackettstown\, New Jersey\, United States
CATEGORIES:Concerts,Music
ATTACH;FMTTYPE=image/avif:https://explorenewjersey.org/wp-content/uploads/2026/04/342ec2_a4399ceeeb0b4a11910bb20e578f24d5mv2.avif
ORGANIZER;CN="Centenary Stage Company":MAILTO:boxoffice@centenarystageco.org
END:VEVENT
BEGIN:VEVENT
DTSTART;TZID=America/New_York:20260806T190000
DTEND;TZID=America/New_York:20260809T233000
DTSTAMP:20260422T000024
CREATED:20260419T115405Z
LAST-MODIFIED:20260419T115408Z
UID:87067-1786042800-1786318200@explorenewjersey.org
SUMMARY:Change of Position
DESCRIPTION:“Change of Position” Arrives at New Jersey Repertory Company with a Bold\, Unflinching Portrait of Survival and Identity \n\n\n\n\n\n\n\n\n\nNew Jersey’s theatre scene continues to evolve as one of the most daring and artistically ambitious in the country\, and on July 30 at 7:00 PM\, that trajectory takes another compelling step forward with Change of Position at New Jersey Repertory Company in Long Branch. Presented at the company’s intimate performance space at 179 Broadway\, this production signals a continuation of the state’s commitment to new work that challenges audiences\, confronts difficult realities\, and elevates the standard of contemporary storytelling on stage. \n\n\n\nAs audiences increasingly seek theatre that is not only entertaining but deeply resonant\, productions like this reinforce why readers consistently turn to Explore New Jersey’s theatre coverage to stay informed about performances that matter. Change of Position is not designed for passive viewing. It is a work that invites engagement\, provokes reflection\, and demands attention through its unapologetic exploration of complex human circumstances. \n\n\n\nSet against the stark backdrop of a trailer park environment\, the narrative centers on a teenage girl navigating a life shaped by instability\, economic hardship\, and deeply complicated family dynamics. Her mother’s choices—earning a living through relationships with men tied directly to her daughter’s social world—create a volatile and emotionally charged foundation. From that starting point\, the story moves into even more challenging territory when one of those relationships introduces an unexpected and unsettling proposition\, pushing the narrative into a space where questions of agency\, morality\, and survival collide. \n\n\n\nWhat distinguishes Change of Position is not simply its subject matter\, but the precision with which it approaches it. This is a work that understands the weight of its themes and refuses to dilute them. Instead\, it leans into the discomfort\, allowing the audience to confront situations that are often overlooked or simplified in more conventional storytelling. The result is a production that feels immediate\, raw\, and undeniably relevant. \n\n\n\nNew Jersey Repertory Company has long established itself as a vital force in the development and presentation of new plays\, and this production continues that legacy. Known for its dedication to original works and its ability to bring them to life with clarity and purpose\, the company provides an environment where stories like Change of Position can be fully realized. The theatre’s intimate setting ensures that every moment lands with impact\, drawing the audience into the emotional core of the performance and eliminating any distance between observer and subject. \n\n\n\nThe July 30 performance\, priced at $65.00 including fees\, offers more than admission to a play—it provides entry into a conversation. This is theatre that operates as both art and examination\, using its platform to explore realities that are often difficult to articulate but impossible to ignore. In a cultural landscape where authenticity is increasingly valued\, productions like this stand out for their willingness to engage with truth\, no matter how uncomfortable that truth may be. \n\n\n\nFrom a performance standpoint\, the material demands a level of commitment and nuance that extends beyond standard interpretation. The characters exist in a space where vulnerability and resilience coexist\, requiring actors to navigate emotional terrain that is both complex and deeply human. The success of the production hinges on this balance\, and within the framework of New Jersey Repertory Company’s approach\, that balance is given the attention and care it requires. \n\n\n\nThematically\, Change of Position aligns with a broader movement within New Jersey theatre—one that prioritizes stories with depth\, relevance\, and a clear point of view. It reflects a growing understanding that audiences are not only willing but eager to engage with material that challenges them. This shift has positioned the state as a hub for thoughtful\, contemporary theatre\, where new works are not just presented but given the space to resonate. \n\n\n\nThe location in Long Branch further reinforces the accessibility and reach of this production. As coastal communities continue to develop their cultural offerings\, venues like New Jersey Repertory Company play a critical role in ensuring that high-caliber theatre is available beyond traditional urban centers. This geographic expansion is part of what makes the state’s arts scene so dynamic\, bringing meaningful performances to a wider and more diverse audience. \n\n\n\nOperationally\, the venue maintains a direct and audience-focused approach\, with clear access to ticketing\, directions\, and support through its box office. This level of accessibility ensures that the focus remains on the work itself\, allowing attendees to engage fully with the experience from the moment they arrive. \n\n\n\nWhat ultimately defines Change of Position is its refusal to simplify. It presents a world that is complicated\, often uncomfortable\, and deeply reflective of realities that exist beyond the stage. In doing so\, it reinforces the role of theatre as a space for exploration\, empathy\, and understanding. \n\n\n\nAs New Jersey continues to build its reputation as a destination for serious theatrical work\, productions like this serve as both anchor and catalyst. They demonstrate what is possible when creative vision is matched with a venue committed to excellence and an audience ready to engage. \n\n\n\nOn July 30\, the stage at New Jersey Repertory Company will host a story that does not look away\, does not soften its edges\, and does not settle for easy answers. It is precisely this kind of work that defines the strength of the state’s theatre scene and ensures that its voice continues to resonate far beyond its borders.
URL:https://explorenewjersey.org/event/change-of-position-2/
LOCATION:New Jersey Repertory Company\, 179 Broadway\, Long Branch\, New Jersey\, 07740\, United States
CATEGORIES:Theatre
ATTACH;FMTTYPE=image/jpeg:https://explorenewjersey.org/wp-content/uploads/2026/04/300x300_1773165870.jpg
ORGANIZER;CN="NJRep":MAILTO:boxoffice@njrep.org
END:VEVENT
BEGIN:VEVENT
DTSTART;TZID=America/New_York:20260807T000000
DTEND;TZID=America/New_York:20260809T235959
DTSTAMP:20260422T000024
CREATED:20260419T113855Z
LAST-MODIFIED:20260419T113858Z
UID:87059-1786060800-1786319999@explorenewjersey.org
SUMMARY:Young Performers Workshop Summer Festival of Shows
DESCRIPTION:Centenary Stage Company’s Young Performers Workshop Returns with Summer Festival of Shows\, Showcasing the Next Generation of New Jersey Theatre\n\n\n\n\n\n\n\n\n\nNew Jersey’s performing arts landscape continues to distinguish itself through a balance of established excellence and forward-looking development\, and nowhere is that more evident than in the return of the Young Performers Workshop Summer Festival of Shows at Centenary Stage Company. Scheduled for August 7 through August 9 at the Little Theatre\, located at 400 Jefferson Street\, this annual festival stands as one of the most important youth-driven theatrical events in the region—an immersive\, full-scale production experience that highlights both emerging talent and the enduring strength of New Jersey’s theatre community. \n\n\n\nAs audiences increasingly seek out meaningful cultural experiences across the state\, events like this reinforce why readers continue to rely on Explore New Jersey’s theatre coverage to stay informed on productions that carry both artistic and developmental significance. The Young Performers Workshop is not simply an educational program—it is a fully realized performance initiative that operates with the same rigor\, expectations\, and artistic ambition as professional theatre\, while simultaneously cultivating the next generation of performers. \n\n\n\nAt the center of this festival is a commitment to authenticity. Participants are not placed in simplified or scaled-down productions; instead\, they are given the opportunity to engage in full-scale musical theatre works that demand discipline\, collaboration\, and creative investment. From rehearsals through final performances\, the process mirrors the professional stage\, providing young artists with a comprehensive understanding of what it means to bring a production to life. \n\n\n\nWhile the specific production selections for this year’s festival remain to be announced\, that element of anticipation only reinforces the strength of the program itself. The Young Performers Workshop has built its reputation not on a single title or genre\, but on its ability to consistently deliver high-quality performances regardless of the material. Whether presenting classic musical theatre\, contemporary works\, or inventive reinterpretations\, the focus remains on execution\, storytelling\, and the development of each participant’s artistic voice. \n\n\n\nThe Little Theatre provides an ideal setting for this kind of work. Its intimate configuration ensures that every performance is experienced up close\, allowing audiences to fully engage with the energy\, commitment\, and individuality of each performer. This proximity enhances the impact of the productions\, creating an environment where the audience is not just observing\, but actively participating in the shared experience of live theatre. \n\n\n\nWhat sets the Young Performers Workshop apart is the depth of its approach. Participants are immersed in every aspect of the production process\, gaining exposure not only to performance\, but also to the collaborative structure that defines theatre as an art form. They learn to navigate rehearsal schedules\, interpret direction\, build character\, and contribute to an ensemble—all while developing the confidence and presence required to perform on stage. \n\n\n\nThis level of engagement produces results that are immediately visible in the performances themselves. Audiences attending the Summer Festival of Shows are not simply watching students—they are witnessing emerging artists who have been challenged to rise to a professional standard. The result is a series of productions that carry both the energy of youth and the discipline of serious theatrical work. \n\n\n\nWithin the broader context of New Jersey’s cultural identity\, the significance of programs like this cannot be overstated. The state has long been recognized for its contributions to the arts\, but its continued vitality depends on the cultivation of new talent. The Young Performers Workshop serves as a critical pipeline\, ensuring that the next generation of performers is not only prepared\, but inspired to continue pursuing the craft. \n\n\n\nThe festival’s three-day run creates a concentrated window in which audiences can experience this development firsthand. Each performance becomes part of a larger narrative—one that reflects the dedication of the participants\, the guidance of experienced instructors\, and the ongoing commitment of Centenary Stage Company to arts education and community engagement. It is a rare opportunity to witness the intersection of learning and performance at such a high level. \n\n\n\nThere is also an unmistakable sense of momentum surrounding the event. As New Jersey’s theatre scene continues to evolve\, there is a growing recognition that the most compelling productions are not always defined by scale or budget\, but by intention and execution. The Young Performers Workshop embodies this principle\, delivering work that is grounded in effort\, shaped by collaboration\, and elevated by the enthusiasm of those involved. \n\n\n\nFor families\, theatre enthusiasts\, and anyone invested in the future of the performing arts\, the Summer Festival of Shows represents an essential addition to the August calendar. It offers a chance to engage with theatre in a way that feels immediate and meaningful\, while also supporting a program that is actively shaping the next chapter of New Jersey’s artistic landscape. \n\n\n\nAs the curtain rises on this year’s festival\, what audiences will encounter is more than a series of performances—it is a reflection of what theatre can achieve when education and artistry are aligned. At the Little Theatre\, from August 7 through August 9\, the stage will belong to a new generation\, ready to step forward and define what comes next.
URL:https://explorenewjersey.org/event/young-performers-workshop-summer-festival-of-shows/
LOCATION:Sitnik Theatre\, 715 Grand Ave\, Hackettstown\, New Jersey\, United States
CATEGORIES:Theatre
ATTACH;FMTTYPE=image/avif:https://explorenewjersey.org/wp-content/uploads/2026/04/YPW-Group-Photo-1.avif
ORGANIZER;CN="Centenary Stage Company":MAILTO:boxoffice@centenarystageco.org
END:VEVENT
BEGIN:VEVENT
DTSTART;TZID=America/New_York:20260808T200000
DTEND;TZID=America/New_York:20260808T233000
DTSTAMP:20260422T000025
CREATED:20260212T151404Z
LAST-MODIFIED:20260212T151504Z
UID:80270-1786219200-1786231800@explorenewjersey.org
SUMMARY:Buddy Guy
DESCRIPTION:A Living Legend Returns to New Brunswick for a Once-in-a-Generation Night of Blues \n\n\n\n\n\n\n\n\n\nBuddy Guy Brings His Historic 90th Anniversary Tour to State Theatre New Jersey This August \n\n\n\nState Theatre New Jersey will welcome one of the most important and enduring figures in American music when Buddy Guy takes the stage in New Brunswick on Saturday\, August 8\, 2026\, delivering a landmark performance that is already shaping up to be one of the most significant concert events in New Jersey’s live music calendar. \n\n\n\nAt nearly 90 years old\, Buddy Guy is not simply continuing his career—he is actively expanding one of the most influential legacies in modern music. His appearance at State Theatre New Jersey comes as part of his national Buddy Guy 90 Tour\, a limited run of headline performances celebrating a lifetime spent shaping the sound\, attitude\, and emotional power of electric blues. \n\n\n\nThe New Brunswick stop places New Jersey directly on the map for one of the most historically meaningful tours currently crossing North America. The performance is scheduled to begin at 8:00 p.m.\, with tickets now available and pricing starting at $93\, including fees. \n\n\n\nFor generations of musicians and fans alike\, Buddy Guy represents the bridge between the roots of Southern blues and the explosive evolution of electric guitar that transformed popular music in the second half of the twentieth century. Long regarded as the architect of Chicago’s West Side blues sound\, his influence stretches far beyond blues itself\, helping define the vocabulary of rock\, funk\, and modern guitar-driven music. \n\n\n\nThe timing of this New Jersey performance adds even greater significance. In 2026\, Buddy Guy earned his ninth Grammy Award\, taking home Best Traditional Blues Album for Ain’t Done with the Blues\, a late-career triumph that reaffirmed his relevance and creative authority at a moment when most artists are long retired. The album’s success stands as a rare example of sustained artistic excellence across seven decades of recording and performance. \n\n\n\nFew artists in any genre can match the scope of recognition Buddy Guy has accumulated. Alongside his multiple Grammy wins\, his honors include a Lifetime Achievement Grammy Award\, dozens of Blues Music Awards\, the Billboard Century Award\, the Presidential National Medal of Arts\, and the Kennedy Center Honor. Rolling Stone has ranked him among the greatest guitarists in history\, a distinction that reflects not only technical mastery but also his singular ability to translate raw emotion through the instrument. \n\n\n\nYet accolades tell only part of the story. \n\n\n\nBorn in 1936 in rural Lettsworth\, Louisiana\, Buddy Guy’s earliest connection to music came through necessity and imagination. As a child\, he built his first guitar using wire and wood\, teaching himself the fundamentals long before formal instruction was accessible. In 1957\, he moved to Chicago\, a decision that would place him at the heart of one of the most fertile musical movements in American history. \n\n\n\nWithin a short time\, he became a key figure in the city’s thriving blues scene\, recording and performing alongside many of the genre’s most influential artists. His aggressive phrasing\, elastic bends\, searing tone\, and unpredictable stage presence helped reshape expectations of what blues guitar could be. What followed was not only a remarkable recording career\, but also decades of mentorship and inspiration for countless younger musicians who would later dominate rock and popular music worldwide. \n\n\n\nBuddy Guy’s role as a cultural torchbearer has only grown more visible in recent years. His memoir offered an unfiltered account of his journey from the Louisiana countryside to international stages\, while a wave of critically praised albums throughout the 2010s and 2020s reintroduced him to new audiences without compromising the grit and emotional honesty that defined his earliest work. \n\n\n\nHis most recent studio release\, Ain’t Done with the Blues\, stands as both a declaration and a celebration. Produced by longtime collaborator Tom Hambridge\, the album features a remarkable lineup of guest artists\, uniting multiple generations of blues\, rock\, and roots musicians in a project that feels more like a living conversation than a retrospective. The record’s lead tracks reflect the humor\, resilience\, and hard-earned wisdom that have become hallmarks of his late-career renaissance. \n\n\n\nReleased on his birthday and immediately embraced by critics and fans alike\, the album confirmed that Buddy Guy is not operating in legacy mode. He remains creatively restless\, emotionally direct\, and fully engaged with the present moment of American music. \n\n\n\nIn recent years\, he publicly scaled back from the grueling pace of extended global touring\, announcing a farewell to full-scale road life. But that shift never signaled a retreat from performing or recording. Instead\, it marked a transition toward carefully selected appearances that allow him to deliver his music at the highest possible level. The Buddy Guy 90 Tour reflects that philosophy—fewer dates\, greater focus\, and a renewed emphasis on the shared experience between artist and audience. \n\n\n\nThe New Brunswick performance will take place inside State Theatre New Jersey\, one of the state’s most respected and acoustically refined live performance venues. Known for hosting internationally recognized touring acts and culturally significant programming\, the theater provides a uniquely intimate setting for an artist whose career has filled stadiums\, festivals\, and historic concert halls around the world. \n\n\n\nFor New Jersey audiences\, the opportunity to experience Buddy Guy in this environment is exceptionally rare. His concerts are widely known for their spontaneity\, extended improvisation\, and direct interaction with the crowd. Even after decades on stage\, his performances remain unpredictable and emotionally charged\, balancing blistering guitar work with deeply personal storytelling drawn from his life\, his mentors\, and the communities that shaped him. \n\n\n\nThis appearance also arrives during a period of renewed interest in roots music\, live performance culture\, and intergenerational collaboration across the state. New Jersey’s live music landscape continues to expand across venues large and small\, connecting legacy performers with emerging artists and new audiences. Readers interested in the broader regional scene can explore more of New Jersey’s evolving music culture through Explore New Jersey’s music coverage\, which highlights the artists\, venues\, and creative movements shaping the state’s sound today. \n\n\n\nBeyond the technical brilliance and historical importance\, Buddy Guy’s enduring appeal lies in something far more human. His music speaks openly about survival\, loss\, perseverance\, humor\, and hope. It carries the voices of earlier blues pioneers who shaped him and the responsibility he continues to carry forward for the genre itself. \n\n\n\nAs he approaches his 90th year\, Buddy Guy remains one of the last living architects of electric blues—a direct link from the fields of rural Louisiana to the clubs of Chicago and onward to the world’s most prestigious stages. His upcoming performance at State Theatre New Jersey is more than a concert. It is a living chapter in American musical history\, unfolding in real time for New Jersey audiences. \n\n\n\nOn August 8\, 2026\, New Brunswick will host not just a legendary guitarist\, but a defining voice of American culture—still playing\, still creating\, and still proving that the blues is not a relic of the past\, but a living\, evolving force.
URL:https://explorenewjersey.org/event/buddy-guy/
LOCATION:State Theatre New Jersey\, 15 Livingston Avenue \, NJ\, New Brunswick\, NJ\, 08901\, United States
CATEGORIES:Concerts,Music
ATTACH;FMTTYPE=image/webp:https://explorenewjersey.org/wp-content/uploads/2026/02/26_08_08_buddyguy_1440x720-88b289fb4b.webp
ORGANIZER;CN="State Theatre New Jersey":MAILTO:Info@stnj.org
END:VEVENT
END:VCALENDAR