BEGIN:VCALENDAR
VERSION:2.0
PRODID:-//Explore New Jersey - ECPv6.15.20//NONSGML v1.0//EN
CALSCALE:GREGORIAN
METHOD:PUBLISH
X-ORIGINAL-URL:https://explorenewjersey.org
X-WR-CALDESC:Events for Explore New Jersey
REFRESH-INTERVAL;VALUE=DURATION:PT1H
X-Robots-Tag:noindex
X-PUBLISHED-TTL:PT1H
BEGIN:VTIMEZONE
TZID:America/New_York
BEGIN:DAYLIGHT
TZOFFSETFROM:-0500
TZOFFSETTO:-0400
TZNAME:EDT
DTSTART:20250309T070000
END:DAYLIGHT
BEGIN:STANDARD
TZOFFSETFROM:-0400
TZOFFSETTO:-0500
TZNAME:EST
DTSTART:20251102T060000
END:STANDARD
BEGIN:DAYLIGHT
TZOFFSETFROM:-0500
TZOFFSETTO:-0400
TZNAME:EDT
DTSTART:20260308T070000
END:DAYLIGHT
BEGIN:STANDARD
TZOFFSETFROM:-0400
TZOFFSETTO:-0500
TZNAME:EST
DTSTART:20261101T060000
END:STANDARD
BEGIN:DAYLIGHT
TZOFFSETFROM:-0500
TZOFFSETTO:-0400
TZNAME:EDT
DTSTART:20270314T070000
END:DAYLIGHT
BEGIN:STANDARD
TZOFFSETFROM:-0400
TZOFFSETTO:-0500
TZNAME:EST
DTSTART:20271107T060000
END:STANDARD
END:VTIMEZONE
BEGIN:VEVENT
DTSTART;TZID=America/New_York:20260620T190000
DTEND;TZID=America/New_York:20260620T233000
DTSTAMP:20260424T050109
CREATED:20251222T171333Z
LAST-MODIFIED:20251222T171347Z
UID:74008-1781982000-1781998200@explorenewjersey.org
SUMMARY:Evanescence 2026 World Tour with Spiritbox and Nova Twins
DESCRIPTION:Evanescence Brings 2026 World Tour to Camden with Spiritbox and Nova Twins \n\n\n\n\n\n\n\n\n\nClassic and modern rock fans will have a major night to look forward to as Evanescence brings its highly anticipated 2026 World Tour to the Freedom Mortgage Pavilion in Camden on Saturday\, June 20. The show\, beginning at 7:00 p.m.\, will feature the band’s signature blend of gothic rock and symphonic metal\, alongside support from rising acts Spiritbox and Nova Twins\, promising a full evening of high-energy performances. \n\n\n\nThe Freedom Mortgage Pavilion\, perched along the scenic Camden waterfront with views of the Philadelphia skyline\, has long been a premier venue for live music in New Jersey. Its expansive outdoor stage and seating options allow fans to experience every note of a band like Evanescence\, known for their dramatic melodies\, powerful vocals\, and theatrical live shows. \n\n\n\nEvanescence’s 2026 tour marks a continuation of their global resurgence\, fueled by both new material and the enduring popularity of hits like “Bring Me to Life” and “My Immortal.” Their music has consistently bridged rock\, metal\, and symphonic elements\, attracting generations of listeners and establishing the band as a staple of modern rock. \n\n\n\nJoining Evanescence on the bill are Spiritbox\, a Canadian metal group gaining attention for their innovative sound that blends heavy riffs with atmospheric layers\, and Nova Twins\, a British rock duo recognized for their energetic performances and genre-defying style. Together\, these acts provide a diverse musical experience that spans gothic\, metal\, and contemporary rock. \n\n\n\nFans attending the Camden stop will also have access to a variety of upgrades designed to enhance the concert experience. Options include lounge and deck access\, VIP club seating\, premier parking\, fast lane entry\, lawn chair and blanket rentals\, and even ferry service across the river\, giving attendees multiple ways to tailor the evening to their preferences. \n\n\n\nThis tour stop highlights Camden’s growing reputation as a hub for live music and entertainment\, drawing audiences from across New Jersey\, Philadelphia\, and beyond. Explore New Jersey regularly covers music events\, cultural happenings\, and live performances throughout the state\, offering readers insider details on concerts like this one and other notable events in the Garden State. \n\n\n\nWith Evanescence headlining\, Spiritbox and Nova Twins supporting\, and the Freedom Mortgage Pavilion providing the perfect setting\, June 20 is shaping up to be a landmark night for rock and metal fans in New Jersey\, combining powerful performances with a waterfront backdrop that makes Camden a must-visit destination for live music.
URL:https://explorenewjersey.org/event/evanescence-2026-world-tour/
LOCATION:Freedom Mortgage Pavilion\, 1 Harbour Blvd\, Camden\, New Jersey\, 08103\, United States
CATEGORIES:Concerts,Music
ATTACH;FMTTYPE=image/webp:https://explorenewjersey.org/wp-content/uploads/2025/12/47597ee7-9a3b-4fca-aec8-0edc61978b1c_TABLET_LANDSCAPE_LARGE_16_9-1.webp
ORGANIZER;CN="Live Nation Entertainment":MAILTO:https://www.livenation.com/
END:VEVENT
END:VCALENDAR