BEGIN:VCALENDAR
VERSION:2.0
PRODID:-//Explore New Jersey - ECPv6.15.20//NONSGML v1.0//EN
CALSCALE:GREGORIAN
METHOD:PUBLISH
X-ORIGINAL-URL:https://explorenewjersey.org
X-WR-CALDESC:Events for Explore New Jersey
REFRESH-INTERVAL;VALUE=DURATION:PT1H
X-Robots-Tag:noindex
X-PUBLISHED-TTL:PT1H
BEGIN:VTIMEZONE
TZID:America/New_York
BEGIN:DAYLIGHT
TZOFFSETFROM:-0500
TZOFFSETTO:-0400
TZNAME:EDT
DTSTART:20250309T070000
END:DAYLIGHT
BEGIN:STANDARD
TZOFFSETFROM:-0400
TZOFFSETTO:-0500
TZNAME:EST
DTSTART:20251102T060000
END:STANDARD
BEGIN:DAYLIGHT
TZOFFSETFROM:-0500
TZOFFSETTO:-0400
TZNAME:EDT
DTSTART:20260308T070000
END:DAYLIGHT
BEGIN:STANDARD
TZOFFSETFROM:-0400
TZOFFSETTO:-0500
TZNAME:EST
DTSTART:20261101T060000
END:STANDARD
BEGIN:DAYLIGHT
TZOFFSETFROM:-0500
TZOFFSETTO:-0400
TZNAME:EDT
DTSTART:20270314T070000
END:DAYLIGHT
BEGIN:STANDARD
TZOFFSETFROM:-0400
TZOFFSETTO:-0500
TZNAME:EST
DTSTART:20271107T060000
END:STANDARD
END:VTIMEZONE
BEGIN:VEVENT
DTSTART;TZID=America/New_York:20260502T200000
DTEND;TZID=America/New_York:20260531T233000
DTSTAMP:20260422T102504
CREATED:20260409T130507Z
LAST-MODIFIED:20260409T130511Z
UID:85735-1777752000-1780270200@explorenewjersey.org
SUMMARY:The 39 Steps
DESCRIPTION:“The 39 Steps” Ignites New Jersey Theatre This May with High-Speed Comedy\, Hitchcock Suspense\, and Virtuosic Stagecraft \n\n\n\n\n\n\n\n\n\nNew Jersey’s theatre scene continues to elevate its reputation as a destination for bold\, inventive\, and technically dazzling productions\, and this spring\, one of the most exhilarating entries on the calendar arrives with a blend of cinematic legacy and theatrical brilliance. Running from May 2 through May 31\, 2026\, The 39 Steps\, adapted by Patrick Barlow and directed by Steve Bell\, brings a masterclass in storytelling to the stage—transforming a classic Alfred Hitchcock thriller into a fast-paced\, laugh-out-loud theatrical spectacle. \n\n\n\nAs audiences across the state increasingly seek immersive\, high-quality live performance\, productions like this stand at the forefront of what defines modern theatre in New Jersey. Featured within Explore New Jersey’s expanding theatre coverage\, The 39 Steps exemplifies how the region continues to merge artistic ambition with audience-driven entertainment\, delivering experiences that are as technically impressive as they are irresistibly engaging. \n\n\n\nSet against the atmospheric backdrop of London in 1935\, the story follows Richard Hannay\, an ordinary man whose life is abruptly upended when he encounters a mysterious woman claiming to be a spy. What begins as an unexpected meeting quickly escalates into a dangerous chain of events when she is murdered\, leaving Hannay entangled in a conspiracy that stretches across the country. Branded a fugitive and pursued by both authorities and shadowy operatives tied to the enigmatic organization known as “The 39 Steps\,” Hannay is thrust into a relentless journey of survival\, deception\, and discovery. \n\n\n\nWhat distinguishes this production is not simply its narrative\, but the extraordinary theatrical mechanics used to bring it to life. In a feat of performance and precision\, four actors portray more than 150 characters\, seamlessly shifting roles\, accents\, and physicalities with remarkable agility. This approach transforms the stage into a dynamic\, ever-changing landscape\, where imagination becomes the primary tool of storytelling and every moment is infused with creative energy. \n\n\n\nCraig Ernest Woodward anchors the production as Hannay\, delivering a performance that balances charm\, urgency\, and comedic timing. His portrayal captures the character’s transformation from an unsuspecting everyman into a resourceful figure navigating increasingly absurd and perilous circumstances. NJ Pfautsch takes on multiple pivotal roles\, including Annabella\, Margaret\, and Pamela\, bringing distinct personalities and emotional nuance to each\, while maintaining the fluidity required for such rapid transitions. \n\n\n\nJoshua Switala and Paul Aiello\, serving as the production’s versatile “clowns\,” provide a masterclass in theatrical adaptability. Their ability to embody a wide range of characters—often within seconds—adds a layer of comedic brilliance that elevates the entire experience. Their performances are not merely supporting elements; they are integral to the production’s rhythm\, pacing\, and overall impact. \n\n\n\nDirector Steve Bell’s vision is central to the production’s success\, orchestrating a complex interplay of movement\, timing\, and visual storytelling. His approach embraces the inherent theatricality of the material\, leaning into its exaggerated style while maintaining a clear narrative throughline. The result is a production that feels both meticulously crafted and spontaneously alive\, capturing the essence of live theatre at its most engaging. \n\n\n\nThe creative team behind the scenes plays an equally critical role in shaping the experience. Jody Laufer’s set design provides a flexible framework that allows for rapid scene changes and imaginative staging\, while Allan Seward’s lighting design enhances the mood and momentum of each sequence. Tim Larsen’s sound design adds depth and atmosphere\, reinforcing the cinematic qualities of the story without overshadowing the live performance. \n\n\n\nCostume design by Lynne Lupfer\, along with the contributions of the costume crew\, ensures that each character transition is visually distinct and immediately recognizable\, despite the limited number of performers. The meticulous attention to detail across all technical elements—from set décor to props to hair and makeup—creates a cohesive aesthetic that supports the production’s ambitious scope. \n\n\n\nAt its core\, The 39 Steps is a celebration of storytelling in its purest form. It draws from multiple sources—a classic spy novel\, a legendary film\, and the irreverent humor associated with Monty Python—blending them into a singular theatrical experience that is both nostalgic and refreshingly original. This fusion of influences results in a production that appeals to a wide audience\, from fans of classic cinema to those seeking innovative live performance. \n\n\n\nThe comedic dimension of the show is particularly noteworthy. While the underlying narrative carries elements of suspense and intrigue\, the adaptation embraces humor as a driving force\, transforming moments of tension into opportunities for laughter. This balance ensures that the production remains accessible and entertaining\, even as it navigates complex staging and rapid character shifts. \n\n\n\nWithin the broader context of New Jersey’s theatre landscape\, The 39 Steps represents a continuation of a growing trend toward productions that prioritize creativity\, versatility\, and audience engagement. The state’s theatres are increasingly embracing works that challenge conventional formats\, offering performances that are as intellectually stimulating as they are visually and emotionally captivating. \n\n\n\nFor audiences\, this production offers more than a night at the theatre; it provides an opportunity to experience the full potential of live performance. The interplay between actors\, the immediacy of the storytelling\, and the ingenuity of the staging combine to create an environment where every moment feels unique and unrepeatable. \n\n\n\nAs the run progresses through May\, The 39 Steps is poised to become one of the standout theatrical events of the season\, drawing attention not only for its source material but for the exceptional execution that brings it to life. It reinforces the idea that theatre\, when approached with creativity and precision\, can transform familiar stories into entirely new experiences. \n\n\n\nIn a region that continues to define itself as a hub for cultural excellence\, productions like this serve as both a benchmark and an inspiration. They demonstrate that New Jersey’s theatre community is not only keeping pace with national trends but actively shaping them\, delivering performances that resonate with audiences and contribute to the ongoing evolution of the art form. \n\n\n\nWith its blend of suspense\, humor\, and technical mastery\, The 39 Steps stands as a testament to what can be achieved when storytelling\, performance\, and design converge at the highest level. It is a production that captures the imagination\, engages the senses\, and reaffirms the enduring power of live theatre.
URL:https://explorenewjersey.org/event/the-39-steps/
LOCATION:Bergen County Players\, 298 Kinderkamack Road\, Oradell\, New Jersey\, 07649\, United States
CATEGORIES:Theatre
ATTACH;FMTTYPE=image/jpeg:https://explorenewjersey.org/wp-content/uploads/2026/04/39-Steps-450X316.jpg
END:VEVENT
BEGIN:VEVENT
DTSTART;TZID=America/New_York:20260530T190000
DTEND;TZID=America/New_York:20260531T233000
DTSTAMP:20260422T102504
CREATED:20260402T140234Z
LAST-MODIFIED:20260402T141329Z
UID:84845-1780167600-1780270200@explorenewjersey.org
SUMMARY:Dunbar Repertory Company Presents Seven Guitars
DESCRIPTION:Dunbar Repertory Company Brings August Wilson’s Seven Guitars to Middletown Arts Center in a Powerful Celebration of American Theater and Cultural Legacy – Show’s are at 3PM & 8PM on Saturday and 4PM on Sunday! \n\n\n\n\n\n\n\n\n\nNew Jersey’s performing arts scene continues to deepen its cultural impact with productions that challenge\, inspire\, and resonate far beyond the stage\, and this spring\, the Dunbar Repertory Company delivers one of the most significant theatrical events of the season with its presentation of Seven Guitars at the Middletown Arts Center. Running May 23 through May 31\, 2026\, this production brings the work of one of America’s most important playwrights\, August Wilson\, into sharp focus\, offering audiences an experience that is as intellectually engaging as it is emotionally powerful. \n\n\n\nSet within the framework of New Jersey’s evolving theater landscape—regularly highlighted through the Explore New Jersey Theatre section—this production underscores the growing demand for work that not only entertains but also examines identity\, history\, and the complexities of the human experience. Seven Guitars stands as a defining example of that kind of theater\, blending lyrical storytelling with unflinching realism to create a narrative that remains deeply relevant decades after it was first written. \n\n\n\nThe play unfolds in Pittsburgh’s Hill District in 1948\, a setting that serves as both backdrop and character within the story. At its center is Floyd Barton\, a musician whose aspirations for success are as expansive as the obstacles that stand in his way. The narrative begins in the aftermath of his funeral\, immediately positioning the audience within a space of reflection and inevitability. Through a structure that weaves together present-day moments and flashbacks\, the story gradually reveals the relationships\, choices\, and systemic pressures that shape Floyd’s journey. \n\n\n\nDirector Mark Antonio Henderson approaches this material with a clear understanding of its weight and nuance\, guiding the production in a way that honors Wilson’s text while allowing the performers to fully inhabit the emotional and psychological depth of their characters. The result is a staging that feels both grounded and expansive\, capturing the intimacy of personal relationships while acknowledging the broader social forces at play. \n\n\n\nCentral to the play’s impact is its exploration of relationships—particularly between Floyd and Vera\, whose connection is marked by both love and tension\, and Hedley\, whose presence introduces a spiritual and philosophical dimension that challenges the audience’s perception of reality and fate. These interactions are not merely narrative devices; they are the foundation through which Wilson examines themes of ambition\, identity\, resilience\, and the enduring effects of systemic inequality. \n\n\n\nWhat distinguishes Seven Guitars within the canon of American theater is its language. Wilson’s writing is often described as poetic\, but that description only begins to capture its complexity. The dialogue moves with a rhythm that mirrors music itself\, creating a cadence that is both natural and elevated. This musicality is particularly fitting given the central role of Floyd as a musician\, reinforcing the idea that the play itself operates as a kind of composition—layered\, dynamic\, and deeply expressive. \n\n\n\nThe production’s schedule reflects a commitment to accessibility and audience engagement\, with multiple performances across two weekends\, including both matinee and evening showings. This structure allows a wide range of attendees to experience the production\, from dedicated theatergoers to those encountering Wilson’s work for the first time. The Middletown Arts Center\, located at 36 Church Street\, provides an intimate yet professional setting that enhances the immediacy of the performance\, ensuring that every moment is felt with clarity and intensity. \n\n\n\nThe Dunbar Repertory Company’s role in bringing this production to life cannot be overstated. Recognized throughout Central New Jersey as Monmouth County’s African American theater company\, the organization has built its reputation on a mission that extends beyond performance. Through mainstage productions\, literary readings\, and educational initiatives\, Dunbar is actively shaping how stories of cultural significance are presented and understood within the community. Their commitment to celebrating African American culture through live theater positions them as a vital contributor to the state’s artistic ecosystem. \n\n\n\nIn staging Seven Guitars\, the company continues that mission with a work that is both historically grounded and contemporarily relevant. August Wilson’s “Pittsburgh Cycle\,” of which this play is a part\, remains one of the most comprehensive explorations of the African American experience in the twentieth century. Each play within the cycle captures a different decade\, collectively forming a narrative that is both expansive and deeply personal. Wilson’s ability to translate lived experience into compelling drama has earned him numerous accolades\, including multiple Pulitzer Prizes\, and solidified his place as one of the most influential playwrights in American history. \n\n\n\nFor audiences\, this production offers more than an evening of theater—it provides an opportunity to engage with a story that reflects broader societal realities while maintaining a deeply human focus. The themes explored in Seven Guitars—dreams deferred\, the search for identity\, the weight of history\, and the resilience required to navigate systemic barriers—are as relevant today as they were in 1948. This enduring relevance is a testament to Wilson’s insight and to the continued importance of staging his work in contemporary settings. \n\n\n\nThe decision to present this play at the Middletown Arts Center further reinforces the venue’s role as a cultural anchor within the region. By hosting productions of this caliber\, the center continues to elevate its programming and attract audiences seeking meaningful\, high-quality artistic experiences. It also highlights the growing synergy between local theater companies and performance spaces\, creating a network that supports both artistic excellence and community engagement. \n\n\n\nTicketing for the production is structured to encourage both individual attendance and group participation\, with special pricing available for larger parties. This approach aligns with the broader goal of making theater accessible while fostering shared experiences that extend beyond the performance itself. The general admission format\, combined with the venue’s accommodating approach to accessibility\, ensures that all attendees can engage with the production comfortably and fully. \n\n\n\nAs New Jersey’s theater scene continues to expand\, productions like Seven Guitars serve as a benchmark for what local theater can achieve. They demonstrate that regional companies are capable of delivering work that is not only professionally executed but also culturally significant and intellectually rigorous. They also reinforce the idea that theater remains one of the most powerful mediums for storytelling\, capable of bridging gaps\, sparking dialogue\, and creating lasting impact. \n\n\n\nWith its combination of masterful writing\, thoughtful direction\, and a mission-driven production team\, Seven Guitars stands as one of the most compelling theatrical offerings in New Jersey this spring. It is a production that demands attention\, invites reflection\, and ultimately affirms the enduring power of live performance to illuminate the complexities of the human experience.
URL:https://explorenewjersey.org/event/august-wilsons-seven-guitars/
LOCATION:The Middletown Arts Center\, 36 Church Street\, NJ\, Middletown\, New Jersey\, 07748\, United States
CATEGORIES:Theatre
ATTACH;FMTTYPE=image/webp:https://explorenewjersey.org/wp-content/uploads/2026/04/Seven-Guitars_FB.jpg.webp
ORGANIZER;CN="The Middletown Arts Center":MAILTO:artscenter@middletownnj.org
END:VEVENT
BEGIN:VEVENT
DTSTART;TZID=America/New_York:20260531T200000
DTEND;TZID=America/New_York:20260531T233000
DTSTAMP:20260422T102504
CREATED:20260405T144346Z
LAST-MODIFIED:20260405T144357Z
UID:85218-1780257600-1780270200@explorenewjersey.org
SUMMARY:Star Wars: The Last Jedi in Concert with New Jersey Symphony
DESCRIPTION:Star Wars: The Last Jedi in Concert with New Jersey Symphony Brings Cinematic Power and Live Orchestra to State Theatre New Jersey \n\n\n\n\n\n\n\n\n\nNew Jersey’s live entertainment calendar reaches a cinematic and symphonic peak on Sunday\, May 31\, 2026\, as Star Wars: The Last Jedi in Concert arrives at State Theatre New Jersey for a 2:00 PM performance that merges blockbuster storytelling with the full force of live orchestral performance. Featuring the New Jersey Symphony under the direction of conductor Constantine Kitsopoulos\, this event transforms one of the most iconic modern film scores into a fully immersive\, large-scale concert experience that redefines how audiences engage with film and music. \n\n\n\nAt a time when live music programming across the state is increasingly focused on innovation and audience connection\, this performance stands as a definitive example of that evolution. By pairing a full-length cinematic presentation with a live orchestra performing the score in real time\, the event creates a dual-layered experience that is both visually and sonically expansive. This approach aligns with the broader trajectory highlighted across Explore New Jersey’s music coverage\, where the integration of disciplines is driving some of the most compelling programming in the region. \n\n\n\nThe Last Jedi\, a pivotal chapter in the Star Wars saga\, is defined not only by its narrative scope but also by its musical identity. The score\, composed within the legendary framework established across the franchise\, plays a central role in shaping the film’s emotional and thematic impact. Performed live by the New Jersey Symphony\, the music takes on a new dimension\, moving from background accompaniment to a fully realized\, front-and-center presence that amplifies every moment on screen. \n\n\n\nThe structure of the event is both ambitious and meticulously executed. As the film unfolds on the big screen\, the orchestra performs in perfect synchronization\, bringing each cue to life with precision and intensity. This level of coordination requires not only technical mastery but also a deep understanding of the film’s pacing and emotional arc. Under Kitsopoulos’ direction\, the performance becomes a seamless integration of cinema and concert\, where the boundaries between the two mediums effectively disappear. \n\n\n\nThe narrative of The Last Jedi provides a dynamic framework for this experience. The Resistance\, under relentless pursuit by the First Order\, faces a series of escalating challenges that drive the film’s tension and momentum. Rey’s journey to the remote planet Ahch-To in search of Luke Skywalker introduces a contemplative\, character-driven dimension\, while the parallel mission of Finn and Rose adds urgency and complexity to the unfolding story. The film’s climax on the stark\, visually striking planet of Crait delivers a powerful culmination that is elevated even further by the presence of a live orchestra. \n\n\n\nWhat distinguishes this presentation is not simply the scale of the production\, but the way it recontextualizes familiar material. For audiences who know the film\, the live performance offers a new perspective\, highlighting musical details that may have been less apparent in a traditional viewing. For those experiencing it for the first time\, the combination of visual and live auditory elements creates an entry point that is both immediate and impactful. In both cases\, the result is a deeper\, more engaged form of storytelling. \n\n\n\nThe New Jersey Symphony’s involvement is central to the success of the event. As one of the state’s leading cultural institutions\, the orchestra brings a level of expertise and artistic integrity that ensures the performance meets the highest standards. Their ability to navigate the complexities of a film score—balancing precision with expressive nuance—underscores the broader role of orchestras in contemporary programming. No longer confined to traditional repertoire\, ensembles like the New Jersey Symphony are increasingly engaging with film\, popular music\, and cross-disciplinary projects that expand their reach and relevance. \n\n\n\nThe venue itself\, State Theatre New Jersey\, provides an ideal setting for this type of production. Its scale and technical capabilities support the demands of both the cinematic and orchestral components\, while its design maintains a sense of connection between performers and audience. This balance is critical to the overall experience\, ensuring that the event feels both grand and accessible. \n\n\n\nFrom a broader cultural perspective\, Star Wars: The Last Jedi in Concert reflects the ongoing evolution of how audiences consume and experience media. As digital platforms continue to dominate\, live events must offer something distinct—something that cannot be replicated on a screen alone. This performance delivers precisely that\, creating a shared\, communal experience that combines the familiarity of a beloved film with the immediacy of live music. \n\n\n\nThe presentation\, licensed through Disney Concerts in association with major industry partners\, ensures that the production maintains the highest level of quality and authenticity. Every element\, from the film projection to the orchestral arrangement\, is designed to meet the expectations of both fans and newcomers\, resulting in an experience that is as polished as it is powerful. \n\n\n\nAs May 31 approaches\, anticipation continues to build around what promises to be one of the most significant events on New Jersey’s spring cultural calendar. This is not simply a screening or a concert—it is a convergence of art forms that highlights the potential of live performance to transform familiar narratives into something entirely new. \n\n\n\nFor audiences seeking a large-scale\, immersive experience that combines cinematic storytelling with the emotional depth of live orchestral music\, Star Wars: The Last Jedi in Concert offers a compelling and definitive answer. It is an event that captures the essence of modern entertainment while honoring the traditions that continue to shape it\, delivering a performance that resonates on both an artistic and experiential level.
URL:https://explorenewjersey.org/event/star-wars-the-last-jedi-in-concert-with-new-jersey-symphony-2/
LOCATION:State Theatre New Jersey\, 15 Livingston Avenue \, NJ\, New Brunswick\, NJ\, 08901\, United States
CATEGORIES:Film & TV,Music
ATTACH;FMTTYPE=image/webp:https://explorenewjersey.org/wp-content/uploads/2026/04/26_05_31_starwars1_1440x720-e7a4237f58.webp
ORGANIZER;CN="State Theatre New Jersey":MAILTO:Info@stnj.org
END:VEVENT
END:VCALENDAR