BEGIN:VCALENDAR
VERSION:2.0
PRODID:-//Explore New Jersey - ECPv6.15.20//NONSGML v1.0//EN
CALSCALE:GREGORIAN
METHOD:PUBLISH
X-WR-CALNAME:Explore New Jersey
X-ORIGINAL-URL:https://explorenewjersey.org
X-WR-CALDESC:Events for Explore New Jersey
REFRESH-INTERVAL;VALUE=DURATION:PT1H
X-Robots-Tag:noindex
X-PUBLISHED-TTL:PT1H
BEGIN:VTIMEZONE
TZID:America/New_York
BEGIN:DAYLIGHT
TZOFFSETFROM:-0500
TZOFFSETTO:-0400
TZNAME:EDT
DTSTART:20250309T070000
END:DAYLIGHT
BEGIN:STANDARD
TZOFFSETFROM:-0400
TZOFFSETTO:-0500
TZNAME:EST
DTSTART:20251102T060000
END:STANDARD
BEGIN:DAYLIGHT
TZOFFSETFROM:-0500
TZOFFSETTO:-0400
TZNAME:EDT
DTSTART:20260308T070000
END:DAYLIGHT
BEGIN:STANDARD
TZOFFSETFROM:-0400
TZOFFSETTO:-0500
TZNAME:EST
DTSTART:20261101T060000
END:STANDARD
BEGIN:DAYLIGHT
TZOFFSETFROM:-0500
TZOFFSETTO:-0400
TZNAME:EDT
DTSTART:20270314T070000
END:DAYLIGHT
BEGIN:STANDARD
TZOFFSETFROM:-0400
TZOFFSETTO:-0500
TZNAME:EST
DTSTART:20271107T060000
END:STANDARD
END:VTIMEZONE
BEGIN:VEVENT
DTSTART;TZID=America/New_York:20260502T200000
DTEND;TZID=America/New_York:20260531T233000
DTSTAMP:20260425T100104
CREATED:20260409T130507Z
LAST-MODIFIED:20260409T130511Z
UID:85735-1777752000-1780270200@explorenewjersey.org
SUMMARY:The 39 Steps
DESCRIPTION:“The 39 Steps” Ignites New Jersey Theatre This May with High-Speed Comedy\, Hitchcock Suspense\, and Virtuosic Stagecraft \n\n\n\n\n\n\n\n\n\nNew Jersey’s theatre scene continues to elevate its reputation as a destination for bold\, inventive\, and technically dazzling productions\, and this spring\, one of the most exhilarating entries on the calendar arrives with a blend of cinematic legacy and theatrical brilliance. Running from May 2 through May 31\, 2026\, The 39 Steps\, adapted by Patrick Barlow and directed by Steve Bell\, brings a masterclass in storytelling to the stage—transforming a classic Alfred Hitchcock thriller into a fast-paced\, laugh-out-loud theatrical spectacle. \n\n\n\nAs audiences across the state increasingly seek immersive\, high-quality live performance\, productions like this stand at the forefront of what defines modern theatre in New Jersey. Featured within Explore New Jersey’s expanding theatre coverage\, The 39 Steps exemplifies how the region continues to merge artistic ambition with audience-driven entertainment\, delivering experiences that are as technically impressive as they are irresistibly engaging. \n\n\n\nSet against the atmospheric backdrop of London in 1935\, the story follows Richard Hannay\, an ordinary man whose life is abruptly upended when he encounters a mysterious woman claiming to be a spy. What begins as an unexpected meeting quickly escalates into a dangerous chain of events when she is murdered\, leaving Hannay entangled in a conspiracy that stretches across the country. Branded a fugitive and pursued by both authorities and shadowy operatives tied to the enigmatic organization known as “The 39 Steps\,” Hannay is thrust into a relentless journey of survival\, deception\, and discovery. \n\n\n\nWhat distinguishes this production is not simply its narrative\, but the extraordinary theatrical mechanics used to bring it to life. In a feat of performance and precision\, four actors portray more than 150 characters\, seamlessly shifting roles\, accents\, and physicalities with remarkable agility. This approach transforms the stage into a dynamic\, ever-changing landscape\, where imagination becomes the primary tool of storytelling and every moment is infused with creative energy. \n\n\n\nCraig Ernest Woodward anchors the production as Hannay\, delivering a performance that balances charm\, urgency\, and comedic timing. His portrayal captures the character’s transformation from an unsuspecting everyman into a resourceful figure navigating increasingly absurd and perilous circumstances. NJ Pfautsch takes on multiple pivotal roles\, including Annabella\, Margaret\, and Pamela\, bringing distinct personalities and emotional nuance to each\, while maintaining the fluidity required for such rapid transitions. \n\n\n\nJoshua Switala and Paul Aiello\, serving as the production’s versatile “clowns\,” provide a masterclass in theatrical adaptability. Their ability to embody a wide range of characters—often within seconds—adds a layer of comedic brilliance that elevates the entire experience. Their performances are not merely supporting elements; they are integral to the production’s rhythm\, pacing\, and overall impact. \n\n\n\nDirector Steve Bell’s vision is central to the production’s success\, orchestrating a complex interplay of movement\, timing\, and visual storytelling. His approach embraces the inherent theatricality of the material\, leaning into its exaggerated style while maintaining a clear narrative throughline. The result is a production that feels both meticulously crafted and spontaneously alive\, capturing the essence of live theatre at its most engaging. \n\n\n\nThe creative team behind the scenes plays an equally critical role in shaping the experience. Jody Laufer’s set design provides a flexible framework that allows for rapid scene changes and imaginative staging\, while Allan Seward’s lighting design enhances the mood and momentum of each sequence. Tim Larsen’s sound design adds depth and atmosphere\, reinforcing the cinematic qualities of the story without overshadowing the live performance. \n\n\n\nCostume design by Lynne Lupfer\, along with the contributions of the costume crew\, ensures that each character transition is visually distinct and immediately recognizable\, despite the limited number of performers. The meticulous attention to detail across all technical elements—from set décor to props to hair and makeup—creates a cohesive aesthetic that supports the production’s ambitious scope. \n\n\n\nAt its core\, The 39 Steps is a celebration of storytelling in its purest form. It draws from multiple sources—a classic spy novel\, a legendary film\, and the irreverent humor associated with Monty Python—blending them into a singular theatrical experience that is both nostalgic and refreshingly original. This fusion of influences results in a production that appeals to a wide audience\, from fans of classic cinema to those seeking innovative live performance. \n\n\n\nThe comedic dimension of the show is particularly noteworthy. While the underlying narrative carries elements of suspense and intrigue\, the adaptation embraces humor as a driving force\, transforming moments of tension into opportunities for laughter. This balance ensures that the production remains accessible and entertaining\, even as it navigates complex staging and rapid character shifts. \n\n\n\nWithin the broader context of New Jersey’s theatre landscape\, The 39 Steps represents a continuation of a growing trend toward productions that prioritize creativity\, versatility\, and audience engagement. The state’s theatres are increasingly embracing works that challenge conventional formats\, offering performances that are as intellectually stimulating as they are visually and emotionally captivating. \n\n\n\nFor audiences\, this production offers more than a night at the theatre; it provides an opportunity to experience the full potential of live performance. The interplay between actors\, the immediacy of the storytelling\, and the ingenuity of the staging combine to create an environment where every moment feels unique and unrepeatable. \n\n\n\nAs the run progresses through May\, The 39 Steps is poised to become one of the standout theatrical events of the season\, drawing attention not only for its source material but for the exceptional execution that brings it to life. It reinforces the idea that theatre\, when approached with creativity and precision\, can transform familiar stories into entirely new experiences. \n\n\n\nIn a region that continues to define itself as a hub for cultural excellence\, productions like this serve as both a benchmark and an inspiration. They demonstrate that New Jersey’s theatre community is not only keeping pace with national trends but actively shaping them\, delivering performances that resonate with audiences and contribute to the ongoing evolution of the art form. \n\n\n\nWith its blend of suspense\, humor\, and technical mastery\, The 39 Steps stands as a testament to what can be achieved when storytelling\, performance\, and design converge at the highest level. It is a production that captures the imagination\, engages the senses\, and reaffirms the enduring power of live theatre.
URL:https://explorenewjersey.org/event/the-39-steps/
LOCATION:Bergen County Players\, 298 Kinderkamack Road\, Oradell\, New Jersey\, 07649\, United States
CATEGORIES:Theatre
ATTACH;FMTTYPE=image/jpeg:https://explorenewjersey.org/wp-content/uploads/2026/04/39-Steps-450X316.jpg
END:VEVENT
BEGIN:VEVENT
DTSTART;TZID=America/New_York:20260506T200000
DTEND;TZID=America/New_York:20260531T233000
DTSTAMP:20260425T100104
CREATED:20260423T140001Z
LAST-MODIFIED:20260423T140009Z
UID:87735-1778097600-1780270200@explorenewjersey.org
SUMMARY:Mrs. Christie
DESCRIPTION:“Mrs. Christie” at McCarter Theatre Center Reimagines a Century-Old Mystery Through a Contemporary Lens of Identity\, Obsession\, and Reinvention \n\n\n\n\n\n\n\n\n\nNew Jersey’s theatre season continues to assert its national relevance with the arrival of Mrs. Christie\, a compelling new production opening May 6 and running through May 31\, 2026\, at the Berlind Theatre inside McCarter Theatre Center. Written by Heidi Armbruster and directed by Donya K. Washington\, the play brings one of the most enduring literary mysteries of the 20th century into sharp contemporary focus\, transforming historical intrigue into a layered exploration of personal identity\, creative legacy\, and the tension between public narrative and private truth. \n\n\n\nAt the center of the story is a moment that has fascinated historians\, readers\, and cultural observers for nearly a century: in 1926\, Agatha Christie—already a rising literary force—vanished without explanation\, triggering a nationwide search and an international media frenzy. Eleven days later\, she reappeared under circumstances that have never been fully clarified. The disappearance has resisted definitive interpretation\, existing instead as an open-ended question that continues to invite speculation. Rather than attempting to solve the mystery in a conventional sense\, Mrs. Christie reframes it\, using it as a narrative entry point into a deeper investigation of selfhood\, reinvention\, and the spaces between fact and perception. \n\n\n\nThe play operates across parallel timelines\, a structural choice that allows the past and present to inform one another in real time. In the contemporary storyline\, a devoted Christie enthusiast named Lucy travels to the author’s estate\, drawn by a fascination that borders on obsession. Her discovery of an unpublished diary—written in Christie’s own hand—introduces a narrative device that bridges eras while challenging assumptions about authorship\, memory\, and truth. Lucy’s determination to “crack the case” becomes less about uncovering a single answer and more about confronting the ways in which stories are constructed\, preserved\, and interpreted. \n\n\n\nThis dual narrative structure is not merely a stylistic choice; it is central to the play’s thematic architecture. By juxtaposing the historical disappearance with a modern quest for understanding\, Armbruster creates a dialogue between two forms of inquiry: the external search for facts and the internal process of self-discovery. The result is a work that operates simultaneously as a mystery\, a character study\, and a meditation on the act of storytelling itself. \n\n\n\nThe line\, “Disappear for a little while. There’s no crime in that\,” functions as both thematic anchor and interpretive lens. Within the context of the play\, disappearance is not framed as absence\, but as transformation—a deliberate withdrawal that allows for reflection\, recalibration\, and ultimately\, redefinition. This perspective aligns the historical event with contemporary questions about identity\, particularly in a cultural moment where public visibility and personal authenticity are often in tension. \n\n\n\nDirector Donya K. Washington’s involvement signals a production approach that prioritizes clarity of vision and emotional precision. Known for her ability to navigate complex narratives with a focus on character and structure\, Washington brings a disciplined interpretive framework to the material. Her direction is expected to emphasize the interplay between timelines\, ensuring that transitions are not only seamless but meaningful\, reinforcing the connections that bind the two narratives together. \n\n\n\nThe Berlind Theatre provides an environment well suited to this type of work. Its scale allows for intimacy without sacrificing production value\, creating a space where nuanced performances and detailed staging can be fully realized. This setting enhances the play’s focus on character and dialogue\, allowing audiences to engage closely with the material while still experiencing the full scope of its design elements. \n\n\n\nFrom a writing standpoint\, Armbruster’s approach reflects a careful balance between historical reference and creative interpretation. Rather than relying on established narratives about Christie’s disappearance\, she constructs a framework that invites audiences to reconsider the event through a contemporary lens. The inclusion of Lucy as a central figure allows for a modern point of entry\, making the material accessible while maintaining its complexity. This balance is critical in a production that seeks to engage both dedicated theatre audiences and those drawn by the cultural significance of the subject matter. \n\n\n\nThe broader context of the production further underscores its significance. As highlighted throughout Explore New Jersey’s Theatre coverage\, the state’s performing arts institutions are increasingly presenting work that bridges historical narrative with contemporary relevance. Mrs. Christie exemplifies this trend\, offering a production that is both rooted in a specific moment in time and responsive to current conversations about identity\, authorship\, and the nature of truth. \n\n\n\nAudience engagement with the play is likely to extend beyond the performance itself. The unresolved nature of Christie’s disappearance has long encouraged debate and interpretation\, and this production is positioned to continue that tradition. By presenting multiple perspectives and resisting definitive answers\, the play invites viewers to participate in the interpretive process\, forming their own conclusions based on the evidence and themes presented on stage. \n\n\n\nAt the same time\, the production’s focus on personal transformation adds a dimension that transcends the historical narrative. Lucy’s journey mirrors\, in many ways\, the broader human experience of searching for meaning within incomplete or ambiguous information. Her engagement with Christie’s story becomes a reflection of her own\, illustrating how the act of investigation can lead to unexpected forms of self-awareness. \n\n\n\nThis layered approach is what ultimately distinguishes Mrs. Christie within the current theatre landscape. It is not content to revisit a well-known mystery; it seeks to redefine its significance\, using it as a vehicle for exploring questions that remain relevant across generations. The interplay between past and present\, fact and interpretation\, public narrative and private experience creates a dynamic that resonates on multiple levels. \n\n\n\nAs the production opens in Princeton\, it does so within a theatre ecosystem that continues to expand its reach and ambition. McCarter Theatre Center’s commitment to presenting new work alongside established voices positions it as a key player in shaping the region’s cultural identity. Mrs. Christie contributes to that mission by offering a production that is both intellectually engaging and emotionally resonant\, reinforcing the role of theatre as a space for exploration\, reflection\, and connection. \n\n\n\nRunning from May 6 through May 31\, the play represents a significant moment in the 2026 season\, not only for McCarter but for New Jersey’s broader performing arts community. It brings together a compelling narrative\, a strong creative team\, and a subject that continues to captivate audiences nearly a century after it first unfolded. In doing so\, it affirms the enduring power of theatre to revisit the past while illuminating the present\, creating experiences that are as thought-provoking as they are memorable.
URL:https://explorenewjersey.org/event/mrs-christie/
LOCATION:McCarter Theatre Center\, 91 University Place\, Princeton\, NJ\, Princeton\, New Jersey\, 08540\, United States
CATEGORIES:Theatre
ATTACH;FMTTYPE=image/jpeg:https://explorenewjersey.org/wp-content/uploads/2026/04/MrsChristie-EVENTS-1080x720-1-.jpg
END:VEVENT
BEGIN:VEVENT
DTSTART;TZID=America/New_York:20260523T190000
DTEND;TZID=America/New_York:20260524T233000
DTSTAMP:20260425T100104
CREATED:20260402T140620Z
LAST-MODIFIED:20260402T140927Z
UID:84848-1779562800-1779665400@explorenewjersey.org
SUMMARY:Dunbar Repertory Company Presents Seven Guitars
DESCRIPTION:Dunbar Repertory Company Brings August Wilson’s Seven Guitars to Middletown Arts Center in a Powerful Celebration of American Theater and Cultural Legacy – Show’s are at 3PM & 8PM on Saturday and 4PM on Sunday! \n\n\n\n\n\n\n\n\n\nNew Jersey’s performing arts scene continues to deepen its cultural impact with productions that challenge\, inspire\, and resonate far beyond the stage\, and this spring\, the Dunbar Repertory Company delivers one of the most significant theatrical events of the season with its presentation of Seven Guitars at the Middletown Arts Center. Running May 23 through May 31\, 2026\, this production brings the work of one of America’s most important playwrights\, August Wilson\, into sharp focus\, offering audiences an experience that is as intellectually engaging as it is emotionally powerful. \n\n\n\nSet within the framework of New Jersey’s evolving theater landscape—regularly highlighted through the Explore New Jersey Theatre section—this production underscores the growing demand for work that not only entertains but also examines identity\, history\, and the complexities of the human experience. Seven Guitars stands as a defining example of that kind of theater\, blending lyrical storytelling with unflinching realism to create a narrative that remains deeply relevant decades after it was first written. \n\n\n\nThe play unfolds in Pittsburgh’s Hill District in 1948\, a setting that serves as both backdrop and character within the story. At its center is Floyd Barton\, a musician whose aspirations for success are as expansive as the obstacles that stand in his way. The narrative begins in the aftermath of his funeral\, immediately positioning the audience within a space of reflection and inevitability. Through a structure that weaves together present-day moments and flashbacks\, the story gradually reveals the relationships\, choices\, and systemic pressures that shape Floyd’s journey. \n\n\n\nDirector Mark Antonio Henderson approaches this material with a clear understanding of its weight and nuance\, guiding the production in a way that honors Wilson’s text while allowing the performers to fully inhabit the emotional and psychological depth of their characters. The result is a staging that feels both grounded and expansive\, capturing the intimacy of personal relationships while acknowledging the broader social forces at play. \n\n\n\nCentral to the play’s impact is its exploration of relationships—particularly between Floyd and Vera\, whose connection is marked by both love and tension\, and Hedley\, whose presence introduces a spiritual and philosophical dimension that challenges the audience’s perception of reality and fate. These interactions are not merely narrative devices; they are the foundation through which Wilson examines themes of ambition\, identity\, resilience\, and the enduring effects of systemic inequality. \n\n\n\nWhat distinguishes Seven Guitars within the canon of American theater is its language. Wilson’s writing is often described as poetic\, but that description only begins to capture its complexity. The dialogue moves with a rhythm that mirrors music itself\, creating a cadence that is both natural and elevated. This musicality is particularly fitting given the central role of Floyd as a musician\, reinforcing the idea that the play itself operates as a kind of composition—layered\, dynamic\, and deeply expressive. \n\n\n\nThe production’s schedule reflects a commitment to accessibility and audience engagement\, with multiple performances across two weekends\, including both matinee and evening showings. This structure allows a wide range of attendees to experience the production\, from dedicated theatergoers to those encountering Wilson’s work for the first time. The Middletown Arts Center\, located at 36 Church Street\, provides an intimate yet professional setting that enhances the immediacy of the performance\, ensuring that every moment is felt with clarity and intensity. \n\n\n\nThe Dunbar Repertory Company’s role in bringing this production to life cannot be overstated. Recognized throughout Central New Jersey as Monmouth County’s African American theater company\, the organization has built its reputation on a mission that extends beyond performance. Through mainstage productions\, literary readings\, and educational initiatives\, Dunbar is actively shaping how stories of cultural significance are presented and understood within the community. Their commitment to celebrating African American culture through live theater positions them as a vital contributor to the state’s artistic ecosystem. \n\n\n\nIn staging Seven Guitars\, the company continues that mission with a work that is both historically grounded and contemporarily relevant. August Wilson’s “Pittsburgh Cycle\,” of which this play is a part\, remains one of the most comprehensive explorations of the African American experience in the twentieth century. Each play within the cycle captures a different decade\, collectively forming a narrative that is both expansive and deeply personal. Wilson’s ability to translate lived experience into compelling drama has earned him numerous accolades\, including multiple Pulitzer Prizes\, and solidified his place as one of the most influential playwrights in American history. \n\n\n\nFor audiences\, this production offers more than an evening of theater—it provides an opportunity to engage with a story that reflects broader societal realities while maintaining a deeply human focus. The themes explored in Seven Guitars—dreams deferred\, the search for identity\, the weight of history\, and the resilience required to navigate systemic barriers—are as relevant today as they were in 1948. This enduring relevance is a testament to Wilson’s insight and to the continued importance of staging his work in contemporary settings. \n\n\n\nThe decision to present this play at the Middletown Arts Center further reinforces the venue’s role as a cultural anchor within the region. By hosting productions of this caliber\, the center continues to elevate its programming and attract audiences seeking meaningful\, high-quality artistic experiences. It also highlights the growing synergy between local theater companies and performance spaces\, creating a network that supports both artistic excellence and community engagement. \n\n\n\nTicketing for the production is structured to encourage both individual attendance and group participation\, with special pricing available for larger parties. This approach aligns with the broader goal of making theater accessible while fostering shared experiences that extend beyond the performance itself. The general admission format\, combined with the venue’s accommodating approach to accessibility\, ensures that all attendees can engage with the production comfortably and fully. \n\n\n\nAs New Jersey’s theater scene continues to expand\, productions like Seven Guitars serve as a benchmark for what local theater can achieve. They demonstrate that regional companies are capable of delivering work that is not only professionally executed but also culturally significant and intellectually rigorous. They also reinforce the idea that theater remains one of the most powerful mediums for storytelling\, capable of bridging gaps\, sparking dialogue\, and creating lasting impact. \n\n\n\nWith its combination of masterful writing\, thoughtful direction\, and a mission-driven production team\, Seven Guitars stands as one of the most compelling theatrical offerings in New Jersey this spring. It is a production that demands attention\, invites reflection\, and ultimately affirms the enduring power of live performance to illuminate the complexities of the human experience.
URL:https://explorenewjersey.org/event/dunbar-repertory-company-presents-seven-guitars/
LOCATION:The Middletown Arts Center\, 36 Church Street\, NJ\, Middletown\, New Jersey\, 07748\, United States
CATEGORIES:Theatre
ATTACH;FMTTYPE=image/webp:https://explorenewjersey.org/wp-content/uploads/2026/04/Seven-Guitars_FB.jpg.webp
ORGANIZER;CN="The Middletown Arts Center":MAILTO:artscenter@middletownnj.org
END:VEVENT
END:VCALENDAR