BEGIN:VCALENDAR
VERSION:2.0
PRODID:-//Explore New Jersey - ECPv6.15.20//NONSGML v1.0//EN
CALSCALE:GREGORIAN
METHOD:PUBLISH
X-ORIGINAL-URL:https://explorenewjersey.org
X-WR-CALDESC:Events for Explore New Jersey
REFRESH-INTERVAL;VALUE=DURATION:PT1H
X-Robots-Tag:noindex
X-PUBLISHED-TTL:PT1H
BEGIN:VTIMEZONE
TZID:America/New_York
BEGIN:DAYLIGHT
TZOFFSETFROM:-0500
TZOFFSETTO:-0400
TZNAME:EDT
DTSTART:20250309T070000
END:DAYLIGHT
BEGIN:STANDARD
TZOFFSETFROM:-0400
TZOFFSETTO:-0500
TZNAME:EST
DTSTART:20251102T060000
END:STANDARD
BEGIN:DAYLIGHT
TZOFFSETFROM:-0500
TZOFFSETTO:-0400
TZNAME:EDT
DTSTART:20260308T070000
END:DAYLIGHT
BEGIN:STANDARD
TZOFFSETFROM:-0400
TZOFFSETTO:-0500
TZNAME:EST
DTSTART:20261101T060000
END:STANDARD
BEGIN:DAYLIGHT
TZOFFSETFROM:-0500
TZOFFSETTO:-0400
TZNAME:EDT
DTSTART:20270314T070000
END:DAYLIGHT
BEGIN:STANDARD
TZOFFSETFROM:-0400
TZOFFSETTO:-0500
TZNAME:EST
DTSTART:20271107T060000
END:STANDARD
END:VTIMEZONE
BEGIN:VEVENT
DTSTART;TZID=America/New_York:20260502T200000
DTEND;TZID=America/New_York:20260531T233000
DTSTAMP:20260422T102348
CREATED:20260409T130507Z
LAST-MODIFIED:20260409T130511Z
UID:85735-1777752000-1780270200@explorenewjersey.org
SUMMARY:The 39 Steps
DESCRIPTION:“The 39 Steps” Ignites New Jersey Theatre This May with High-Speed Comedy\, Hitchcock Suspense\, and Virtuosic Stagecraft \n\n\n\n\n\n\n\n\n\nNew Jersey’s theatre scene continues to elevate its reputation as a destination for bold\, inventive\, and technically dazzling productions\, and this spring\, one of the most exhilarating entries on the calendar arrives with a blend of cinematic legacy and theatrical brilliance. Running from May 2 through May 31\, 2026\, The 39 Steps\, adapted by Patrick Barlow and directed by Steve Bell\, brings a masterclass in storytelling to the stage—transforming a classic Alfred Hitchcock thriller into a fast-paced\, laugh-out-loud theatrical spectacle. \n\n\n\nAs audiences across the state increasingly seek immersive\, high-quality live performance\, productions like this stand at the forefront of what defines modern theatre in New Jersey. Featured within Explore New Jersey’s expanding theatre coverage\, The 39 Steps exemplifies how the region continues to merge artistic ambition with audience-driven entertainment\, delivering experiences that are as technically impressive as they are irresistibly engaging. \n\n\n\nSet against the atmospheric backdrop of London in 1935\, the story follows Richard Hannay\, an ordinary man whose life is abruptly upended when he encounters a mysterious woman claiming to be a spy. What begins as an unexpected meeting quickly escalates into a dangerous chain of events when she is murdered\, leaving Hannay entangled in a conspiracy that stretches across the country. Branded a fugitive and pursued by both authorities and shadowy operatives tied to the enigmatic organization known as “The 39 Steps\,” Hannay is thrust into a relentless journey of survival\, deception\, and discovery. \n\n\n\nWhat distinguishes this production is not simply its narrative\, but the extraordinary theatrical mechanics used to bring it to life. In a feat of performance and precision\, four actors portray more than 150 characters\, seamlessly shifting roles\, accents\, and physicalities with remarkable agility. This approach transforms the stage into a dynamic\, ever-changing landscape\, where imagination becomes the primary tool of storytelling and every moment is infused with creative energy. \n\n\n\nCraig Ernest Woodward anchors the production as Hannay\, delivering a performance that balances charm\, urgency\, and comedic timing. His portrayal captures the character’s transformation from an unsuspecting everyman into a resourceful figure navigating increasingly absurd and perilous circumstances. NJ Pfautsch takes on multiple pivotal roles\, including Annabella\, Margaret\, and Pamela\, bringing distinct personalities and emotional nuance to each\, while maintaining the fluidity required for such rapid transitions. \n\n\n\nJoshua Switala and Paul Aiello\, serving as the production’s versatile “clowns\,” provide a masterclass in theatrical adaptability. Their ability to embody a wide range of characters—often within seconds—adds a layer of comedic brilliance that elevates the entire experience. Their performances are not merely supporting elements; they are integral to the production’s rhythm\, pacing\, and overall impact. \n\n\n\nDirector Steve Bell’s vision is central to the production’s success\, orchestrating a complex interplay of movement\, timing\, and visual storytelling. His approach embraces the inherent theatricality of the material\, leaning into its exaggerated style while maintaining a clear narrative throughline. The result is a production that feels both meticulously crafted and spontaneously alive\, capturing the essence of live theatre at its most engaging. \n\n\n\nThe creative team behind the scenes plays an equally critical role in shaping the experience. Jody Laufer’s set design provides a flexible framework that allows for rapid scene changes and imaginative staging\, while Allan Seward’s lighting design enhances the mood and momentum of each sequence. Tim Larsen’s sound design adds depth and atmosphere\, reinforcing the cinematic qualities of the story without overshadowing the live performance. \n\n\n\nCostume design by Lynne Lupfer\, along with the contributions of the costume crew\, ensures that each character transition is visually distinct and immediately recognizable\, despite the limited number of performers. The meticulous attention to detail across all technical elements—from set décor to props to hair and makeup—creates a cohesive aesthetic that supports the production’s ambitious scope. \n\n\n\nAt its core\, The 39 Steps is a celebration of storytelling in its purest form. It draws from multiple sources—a classic spy novel\, a legendary film\, and the irreverent humor associated with Monty Python—blending them into a singular theatrical experience that is both nostalgic and refreshingly original. This fusion of influences results in a production that appeals to a wide audience\, from fans of classic cinema to those seeking innovative live performance. \n\n\n\nThe comedic dimension of the show is particularly noteworthy. While the underlying narrative carries elements of suspense and intrigue\, the adaptation embraces humor as a driving force\, transforming moments of tension into opportunities for laughter. This balance ensures that the production remains accessible and entertaining\, even as it navigates complex staging and rapid character shifts. \n\n\n\nWithin the broader context of New Jersey’s theatre landscape\, The 39 Steps represents a continuation of a growing trend toward productions that prioritize creativity\, versatility\, and audience engagement. The state’s theatres are increasingly embracing works that challenge conventional formats\, offering performances that are as intellectually stimulating as they are visually and emotionally captivating. \n\n\n\nFor audiences\, this production offers more than a night at the theatre; it provides an opportunity to experience the full potential of live performance. The interplay between actors\, the immediacy of the storytelling\, and the ingenuity of the staging combine to create an environment where every moment feels unique and unrepeatable. \n\n\n\nAs the run progresses through May\, The 39 Steps is poised to become one of the standout theatrical events of the season\, drawing attention not only for its source material but for the exceptional execution that brings it to life. It reinforces the idea that theatre\, when approached with creativity and precision\, can transform familiar stories into entirely new experiences. \n\n\n\nIn a region that continues to define itself as a hub for cultural excellence\, productions like this serve as both a benchmark and an inspiration. They demonstrate that New Jersey’s theatre community is not only keeping pace with national trends but actively shaping them\, delivering performances that resonate with audiences and contribute to the ongoing evolution of the art form. \n\n\n\nWith its blend of suspense\, humor\, and technical mastery\, The 39 Steps stands as a testament to what can be achieved when storytelling\, performance\, and design converge at the highest level. It is a production that captures the imagination\, engages the senses\, and reaffirms the enduring power of live theatre.
URL:https://explorenewjersey.org/event/the-39-steps/
LOCATION:Bergen County Players\, 298 Kinderkamack Road\, Oradell\, New Jersey\, 07649\, United States
CATEGORIES:Theatre
ATTACH;FMTTYPE=image/jpeg:https://explorenewjersey.org/wp-content/uploads/2026/04/39-Steps-450X316.jpg
END:VEVENT
BEGIN:VEVENT
DTSTART;TZID=America/New_York:20260513T120000
DTEND;TZID=America/New_York:20260513T150000
DTSTAMP:20260422T102348
CREATED:20260407T114602Z
LAST-MODIFIED:20260407T114608Z
UID:85384-1778673600-1778684400@explorenewjersey.org
SUMMARY:Stories of a Lifetime Writing Workshop for Seniors Ages 55+ Second Session
DESCRIPTION:Stories of a Lifetime Returns to UCPAC with Expanded Second Session\, Elevating Senior Voices Through Live Storytelling and Performance\n\n\n\n\n\n\n\n\n\nNew Jersey’s performing arts landscape continues to broaden not only in scale but in purpose\, and this spring\, the Union County Performing Arts Center (UCPAC) reinforces that momentum with the return of Stories of a Lifetime\, a six-week in-person writing workshop designed specifically for seniors age 55 and older. Due to strong demand\, a second session has been added\, running weekly from April 15 through May 13\, 2026\, with a culminating live performance on May 17. This initiative represents a focused investment in community-driven storytelling\, aligning with the broader expansion of inclusive and participatory programming highlighted across Explore New Jersey’s theatre coverage. \n\n\n\nStructured as a continuous six-week experience rather than a series of independent sessions\, Stories of a Lifetime is built around progression\, not introduction. Participants commit to a guided creative process that develops over time\, allowing for depth\, refinement\, and narrative cohesion. Each weekly session\, held from noon to 3 PM\, introduces thematic prompts and structured discussion designed to unlock personal narratives while maintaining a clear framework for development. The emphasis is not on casual writing exercises but on constructing meaningful\, performance-ready material grounded in lived experience. \n\n\n\nThe workshop’s methodology reflects a disciplined approach to storytelling. Participants are guided through the mechanics of narrative construction\, including voice development\, character perspective\, structural pacing\, and the integration of emotional stakes. This is supported by experienced instructors who provide direct feedback and strategic guidance\, ensuring that each piece evolves with intention rather than remaining in a draft state. The result is a body of work that carries both personal authenticity and technical clarity\, positioning participants not simply as contributors\, but as storytellers with a defined narrative voice. \n\n\n\nA defining element of the program is its culmination in a live performance on May 17\, from 4 PM to 6 PM. This final presentation transforms the workshop from a private creative exercise into a public theatrical event. Professional actors collaborate with participants to bring each piece to life on stage\, creating a layered performance dynamic where original writing is translated into live interpretation. This integration of writing and performance is central to the program’s structure\, reinforcing the idea that storytelling exists not only on the page but within a shared audience experience. \n\n\n\nThe decision to focus on seniors age 55 and older is both intentional and strategically aligned with the evolving priorities of New Jersey’s arts programming. This demographic represents a significant reservoir of lived experience\, often underrepresented in traditional performance spaces. Stories of a Lifetime addresses that gap by providing a platform that values depth of perspective and personal history\, allowing participants to engage with the creative process in a way that is both structured and accessible. The workshop also fosters community connection\, creating an environment where participants engage with one another’s stories\, building a collective narrative that reflects a wide range of experiences and viewpoints. \n\n\n\nUCPAC’s role as host venue further reinforces the program’s significance within the state’s cultural infrastructure. Known for balancing professional productions with community-focused initiatives\, the venue provides a setting that supports both the developmental and performance aspects of the workshop. Its facilities accommodate small-group instruction as well as staged presentations\, allowing the program to transition seamlessly from workshop environment to live performance setting. \n\n\n\nThe free admission model\, with registration required\, ensures that access remains a central component of the program’s design. By removing financial barriers while maintaining a structured enrollment process\, the workshop is able to attract participants who are committed to the full six-week experience. This approach also ensures continuity within the group\, allowing relationships and collaborative dynamics to develop over the duration of the program. With limited spots available\, the structure emphasizes quality of engagement over volume\, maintaining an environment that supports focused creative work. \n\n\n\nFeedback from previous participants underscores the program’s impact. Many describe the workshop as a catalyst for unlocking stories that had remained unspoken\, providing both the tools and the confidence to articulate personal narratives. Others highlight the role of the group environment in fostering connection\, emphasizing that the process of sharing and listening becomes as significant as the writing itself. These outcomes are not incidental—they are the result of a program designed to balance creative exploration with disciplined structure. \n\n\n\nWithin the broader context of New Jersey’s performing arts ecosystem\, Stories of a Lifetime represents a clear evolution in how programming is conceived and delivered. As reflected across Explore New Jersey’s theatre platform\, there is an increasing emphasis on initiatives that extend beyond traditional audience models\, inviting participation and creating pathways for new voices to enter the performance space. This workshop exemplifies that shift\, demonstrating how institutions can integrate community engagement with artistic development in a way that produces tangible\, performance-ready outcomes. \n\n\n\nFrom April through May\, participants will move through a process that is both introspective and collaborative\, culminating in a live event that reflects not only individual stories but a collective creative journey. Stories of a Lifetime is positioned not simply as a workshop\, but as a structured narrative experience—one that captures the depth of personal history\, refines it through disciplined writing\, and ultimately brings it to the stage in a form that is both authentic and theatrically realized. \n\n\n\nWed. April 15 – Noon – 3 PMWed. April 22- Noon – 3 PMWed. April 29 – Noon – 3 PMWed. May 6 – Noon – 3 PMWed. May 13 – Noon – 3 PMSun. May 17 – 4 PM – 6 PM (Performance) \n\n\n\nFree In-Person Workshop – Registration Required
URL:https://explorenewjersey.org/event/stories-of-a-lifetime-writing-workshop-for-seniors-ages-55-second-session-4/
LOCATION:Union County Performing Arts Center (UCPAC)\, 1601 Irving St.\, Rahway\, NJ\, 07065\, United States
CATEGORIES:Theatre
ATTACH;FMTTYPE=image/webp:https://explorenewjersey.org/wp-content/uploads/2026/04/STORIES-OF-A-LIFETIME-1280-x-720-px-1-1.webp
END:VEVENT
BEGIN:VEVENT
DTSTART;TZID=America/New_York:20260513T140000
DTEND;TZID=America/New_York:20260513T200000
DTSTAMP:20260422T102348
CREATED:20260405T120536Z
LAST-MODIFIED:20260405T120554Z
UID:85185-1778680800-1778702400@explorenewjersey.org
SUMMARY:Film: Water Lilies by Monet - The Magic of Water and Light
DESCRIPTION:Monet on Screen in New Jersey: “Water Lilies by Monet” Transforms Film into a Living Canvas of Light\, Art\, and Legacy – Two Screenings at 2:00 PM and 7:00 PM \n\n\n\n\n\n\n\n\n\nNew Jersey’s film programming continues to expand beyond traditional screenings into immersive cultural experiences\, and on Wednesday\, May 13\, 2026\, that evolution is brought into sharp focus with Water Lilies by Monet\, presented in two showtimes at 2:00 PM and 7:00 PM. With a runtime of 94 minutes\, this cinematic event is not simply a documentary—it is a visually rich\, intellectually driven exploration of one of the most influential artists in history\, delivered through a format that merges film\, fine art\, and global cultural storytelling into a single\, cohesive experience. \n\n\n\nAt its core\, Water Lilies by Monet is a journey into the mind and method of Claude Monet\, the pioneering force behind Impressionism whose work reshaped the trajectory of modern art. Rather than approaching Monet through a conventional historical lens\, the film constructs a sensory narrative—one that mirrors the artist’s own obsession with capturing fleeting moments of light\, reflection\, and movement. It is an experience designed not just to inform\, but to immerse\, allowing audiences to engage with Monet’s work in a way that feels immediate\, expansive\, and deeply resonant. \n\n\n\nThe film’s structure is anchored in access. Guided by leading Monet scholars\, it offers an exclusive visual tour of the institutions that house the most significant collections of his water lilies series\, including the Musée Marmottan Monet\, the Musée d’Orsay\, and the monumental panels at L’Orangerie. These locations are not presented as static backdrops but as living environments\, each contributing to a broader understanding of how Monet’s work evolved and how it continues to be interpreted. The journey culminates at Giverny\, Monet’s home and gardens\, where his fascination with water lilies began and where the boundaries between art and environment dissolve entirely. \n\n\n\nWhat distinguishes this film from standard art documentaries is its emphasis on experience over explanation. Monet’s work\, defined by its focus on light and atmosphere\, is inherently difficult to translate into words alone. By leveraging cinematic techniques—movement\, framing\, and pacing—the film recreates the conditions under which Monet’s paintings are best understood. The viewer is not simply observing the artwork; they are placed within its context\, experiencing the interplay of water\, sky\, and reflection that defines the series. \n\n\n\nThis approach aligns seamlessly with the broader direction of New Jersey’s film and cultural programming\, where curated events are increasingly designed to bridge disciplines and deepen engagement. As reflected across Explore New Jersey’s film and TV coverage\, there is a clear emphasis on presentations that combine artistic excellence with intellectual depth\, creating experiences that resonate across multiple audiences. Water Lilies by Monet exemplifies this model\, offering a program that appeals equally to art enthusiasts\, film lovers\, and those seeking a more immersive cultural encounter. \n\n\n\nMonet’s significance within the history of art cannot be overstated. At the turn of the 20th century\, his work challenged established conventions\, rejecting rigid formality in favor of perception\, movement\, and the transient qualities of light. The water lilies series\, in particular\, represents the culmination of this philosophy—a body of work that moves beyond representation into abstraction\, anticipating many of the developments that would define modern art in the decades to follow. By focusing on this series\, the film captures not only Monet’s technical mastery but also his willingness to push the boundaries of what painting could achieve. \n\n\n\nThe dual showtimes on May 13 reflect both the demand for and accessibility of this type of programming. With ticket pricing set at $18 for general admission and $15 for members\, the event is positioned to reach a wide audience while maintaining the quality and integrity of the presentation. The inclusion of a standard service fee aligns with industry norms\, and box office support ensures a straightforward purchasing process. This balance between accessibility and excellence is a defining feature of New Jersey’s current cultural landscape\, where high-level programming is made available to a broad and diverse audience. \n\n\n\nFrom a broader perspective\, events like Water Lilies by Monet signal a shift in how film is being utilized within the arts ecosystem. No longer confined to narrative storytelling\, cinema is increasingly serving as a medium for exploration\, education\, and cross-disciplinary engagement. By bringing the world’s most significant artworks into a cinematic context\, this film expands access in a way that is both practical and profound\, allowing audiences to experience masterpieces that might otherwise remain geographically out of reach. \n\n\n\nThe significance of this event is further amplified by its timing within New Jersey’s spring cultural calendar. As audiences seek experiences that offer both depth and inspiration\, this screening provides a rare opportunity to engage with one of the foundational figures of modern art through a format that feels both contemporary and timeless. It is a reminder that the intersection of film and art is not only possible but essential\, creating new pathways for understanding and appreciation. \n\n\n\nAs May 13 approaches\, Water Lilies by Monet stands as one of the most compelling film events in New Jersey’s 2026 lineup. It offers a journey that is as much about perception as it is about history\, inviting audiences to see—not just the paintings themselves\, but the ideas and obsessions that brought them into being. In doing so\, it transforms a film screening into a fully realized cultural experience\, one that reflects the evolving role of cinema in capturing and conveying the essence of artistic innovation.
URL:https://explorenewjersey.org/event/water-lilies-by-monet/
LOCATION:Bickford Theatre at Morris Museum\, 6 Normandy Heights Road \, NJ\, Morristown\, New Jersey\, 07960\, United States
CATEGORIES:Film & TV
ATTACH;FMTTYPE=image/jpeg:https://explorenewjersey.org/wp-content/uploads/2026/04/MonetWaterLilies_desktop-515x400-1.jpg
ORGANIZER;CN="The Morris Museum":MAILTO:info@morrismuseum.org
END:VEVENT
END:VCALENDAR