BEGIN:VCALENDAR
VERSION:2.0
PRODID:-//Explore New Jersey - ECPv6.15.20//NONSGML v1.0//EN
CALSCALE:GREGORIAN
METHOD:PUBLISH
X-WR-CALNAME:Explore New Jersey
X-ORIGINAL-URL:https://explorenewjersey.org
X-WR-CALDESC:Events for Explore New Jersey
REFRESH-INTERVAL;VALUE=DURATION:PT1H
X-Robots-Tag:noindex
X-PUBLISHED-TTL:PT1H
BEGIN:VTIMEZONE
TZID:America/New_York
BEGIN:DAYLIGHT
TZOFFSETFROM:-0500
TZOFFSETTO:-0400
TZNAME:EDT
DTSTART:20250309T070000
END:DAYLIGHT
BEGIN:STANDARD
TZOFFSETFROM:-0400
TZOFFSETTO:-0500
TZNAME:EST
DTSTART:20251102T060000
END:STANDARD
BEGIN:DAYLIGHT
TZOFFSETFROM:-0500
TZOFFSETTO:-0400
TZNAME:EDT
DTSTART:20260308T070000
END:DAYLIGHT
BEGIN:STANDARD
TZOFFSETFROM:-0400
TZOFFSETTO:-0500
TZNAME:EST
DTSTART:20261101T060000
END:STANDARD
BEGIN:DAYLIGHT
TZOFFSETFROM:-0500
TZOFFSETTO:-0400
TZNAME:EDT
DTSTART:20270314T070000
END:DAYLIGHT
BEGIN:STANDARD
TZOFFSETFROM:-0400
TZOFFSETTO:-0500
TZNAME:EST
DTSTART:20271107T060000
END:STANDARD
END:VTIMEZONE
BEGIN:VEVENT
DTSTART;TZID=America/New_York:20260422T120000
DTEND;TZID=America/New_York:20260422T150000
DTSTAMP:20260422T075107
CREATED:20260407T114427Z
LAST-MODIFIED:20260407T114431Z
UID:85381-1776859200-1776870000@explorenewjersey.org
SUMMARY:Stories of a Lifetime Writing Workshop for Seniors Ages 55+ Second Session
DESCRIPTION:Stories of a Lifetime Returns to UCPAC with Expanded Second Session\, Elevating Senior Voices Through Live Storytelling and Performance\n\n\n\n\n\n\n\n\n\nNew Jersey’s performing arts landscape continues to broaden not only in scale but in purpose\, and this spring\, the Union County Performing Arts Center (UCPAC) reinforces that momentum with the return of Stories of a Lifetime\, a six-week in-person writing workshop designed specifically for seniors age 55 and older. Due to strong demand\, a second session has been added\, running weekly from April 15 through May 13\, 2026\, with a culminating live performance on May 17. This initiative represents a focused investment in community-driven storytelling\, aligning with the broader expansion of inclusive and participatory programming highlighted across Explore New Jersey’s theatre coverage. \n\n\n\nStructured as a continuous six-week experience rather than a series of independent sessions\, Stories of a Lifetime is built around progression\, not introduction. Participants commit to a guided creative process that develops over time\, allowing for depth\, refinement\, and narrative cohesion. Each weekly session\, held from noon to 3 PM\, introduces thematic prompts and structured discussion designed to unlock personal narratives while maintaining a clear framework for development. The emphasis is not on casual writing exercises but on constructing meaningful\, performance-ready material grounded in lived experience. \n\n\n\nThe workshop’s methodology reflects a disciplined approach to storytelling. Participants are guided through the mechanics of narrative construction\, including voice development\, character perspective\, structural pacing\, and the integration of emotional stakes. This is supported by experienced instructors who provide direct feedback and strategic guidance\, ensuring that each piece evolves with intention rather than remaining in a draft state. The result is a body of work that carries both personal authenticity and technical clarity\, positioning participants not simply as contributors\, but as storytellers with a defined narrative voice. \n\n\n\nA defining element of the program is its culmination in a live performance on May 17\, from 4 PM to 6 PM. This final presentation transforms the workshop from a private creative exercise into a public theatrical event. Professional actors collaborate with participants to bring each piece to life on stage\, creating a layered performance dynamic where original writing is translated into live interpretation. This integration of writing and performance is central to the program’s structure\, reinforcing the idea that storytelling exists not only on the page but within a shared audience experience. \n\n\n\nThe decision to focus on seniors age 55 and older is both intentional and strategically aligned with the evolving priorities of New Jersey’s arts programming. This demographic represents a significant reservoir of lived experience\, often underrepresented in traditional performance spaces. Stories of a Lifetime addresses that gap by providing a platform that values depth of perspective and personal history\, allowing participants to engage with the creative process in a way that is both structured and accessible. The workshop also fosters community connection\, creating an environment where participants engage with one another’s stories\, building a collective narrative that reflects a wide range of experiences and viewpoints. \n\n\n\nUCPAC’s role as host venue further reinforces the program’s significance within the state’s cultural infrastructure. Known for balancing professional productions with community-focused initiatives\, the venue provides a setting that supports both the developmental and performance aspects of the workshop. Its facilities accommodate small-group instruction as well as staged presentations\, allowing the program to transition seamlessly from workshop environment to live performance setting. \n\n\n\nThe free admission model\, with registration required\, ensures that access remains a central component of the program’s design. By removing financial barriers while maintaining a structured enrollment process\, the workshop is able to attract participants who are committed to the full six-week experience. This approach also ensures continuity within the group\, allowing relationships and collaborative dynamics to develop over the duration of the program. With limited spots available\, the structure emphasizes quality of engagement over volume\, maintaining an environment that supports focused creative work. \n\n\n\nFeedback from previous participants underscores the program’s impact. Many describe the workshop as a catalyst for unlocking stories that had remained unspoken\, providing both the tools and the confidence to articulate personal narratives. Others highlight the role of the group environment in fostering connection\, emphasizing that the process of sharing and listening becomes as significant as the writing itself. These outcomes are not incidental—they are the result of a program designed to balance creative exploration with disciplined structure. \n\n\n\nWithin the broader context of New Jersey’s performing arts ecosystem\, Stories of a Lifetime represents a clear evolution in how programming is conceived and delivered. As reflected across Explore New Jersey’s theatre platform\, there is an increasing emphasis on initiatives that extend beyond traditional audience models\, inviting participation and creating pathways for new voices to enter the performance space. This workshop exemplifies that shift\, demonstrating how institutions can integrate community engagement with artistic development in a way that produces tangible\, performance-ready outcomes. \n\n\n\nFrom April through May\, participants will move through a process that is both introspective and collaborative\, culminating in a live event that reflects not only individual stories but a collective creative journey. Stories of a Lifetime is positioned not simply as a workshop\, but as a structured narrative experience—one that captures the depth of personal history\, refines it through disciplined writing\, and ultimately brings it to the stage in a form that is both authentic and theatrically realized. \n\n\n\nWed. April 15 – Noon – 3 PMWed. April 22- Noon – 3 PMWed. April 29 – Noon – 3 PMWed. May 6 – Noon – 3 PMWed. May 13 – Noon – 3 PMSun. May 17 – 4 PM – 6 PM (Performance) \n\n\n\nFree In-Person Workshop – Registration Required
URL:https://explorenewjersey.org/event/stories-of-a-lifetime-writing-workshop-for-seniors-ages-55-second-session/
LOCATION:Union County Performing Arts Center (UCPAC)\, 1601 Irving St.\, Rahway\, NJ\, 07065\, United States
CATEGORIES:Theatre
ATTACH;FMTTYPE=image/webp:https://explorenewjersey.org/wp-content/uploads/2026/04/STORIES-OF-A-LIFETIME-1280-x-720-px-1-1.webp
END:VEVENT
BEGIN:VEVENT
DTSTART;TZID=America/New_York:20260422T140000
DTEND;TZID=America/New_York:20260422T160000
DTSTAMP:20260422T075107
CREATED:20260405T111317Z
LAST-MODIFIED:20260405T111327Z
UID:85171-1776866400-1776873600@explorenewjersey.org
SUMMARY:Film: Basquiat
DESCRIPTION:Basquiat Returns to the Big Screen in New Jersey: A Defining Cinematic Experience Anchoring Art\, Film\, and Cultural Legacy \n\n\n\n\n\n\n\n\n\nNew Jersey’s film and cultural programming continues to operate at a level of depth and intention that places it firmly within the national conversation\, and on Wednesday\, April 22\, 2026\, that commitment is brought into sharp focus with a special screening of Basquiat at 2:00 PM. More than a film presentation\, this event represents a layered cultural experience—one that bridges cinema\, visual art\, and critical dialogue while reinforcing the state’s growing role as a destination for meaningful\, curated film programming. \n\n\n\nDirected by Julian Schnabel\, Basquiat stands apart from conventional biographical storytelling. Rather than constructing a linear narrative\, the film immerses audiences in the fragmented\, electric world of 1980s downtown Manhattan\, capturing the energy\, volatility\, and artistic revolution that defined the era. At its center is Jean-Michel Basquiat\, portrayed with striking depth by Jeffrey Wright in his first leading role\, whose performance anchors the film with both intensity and vulnerability. The portrayal does not attempt to simplify or sanitize Basquiat’s life; instead\, it presents a complex portrait of an artist navigating the intersecting pressures of sudden fame\, systemic racism\, creative identity\, and personal struggle. \n\n\n\nWhat makes this particular screening especially significant is its presentation format. The film is shown in Schnabel’s own black-and-white remastering\, a visual reinterpretation that transforms the viewing experience into something more contemplative and texturally rich. The absence of color shifts the focus toward composition\, movement\, and emotional resonance\, allowing audiences to engage with the material in a way that feels both immediate and reflective. It is a deliberate artistic choice that aligns with the film’s overall approach—less about documenting a life and more about evoking its essence. \n\n\n\nThe film’s ensemble cast further deepens its impact\, most notably through David Bowie’s portrayal of Andy Warhol. Bowie’s performance is not merely an impression but a nuanced embodiment that captures Warhol’s presence within the art world while also highlighting his relationship with Basquiat. Their dynamic becomes a central thread within the film\, reflecting broader themes of mentorship\, influence\, and the shifting power structures within the art scene of the time. \n\n\n\nThis screening is also uniquely positioned within a broader cultural framework. Selected by film historian and educator Gerard Amsellem in response to the exhibition Iconic: Kathleen Gilje Repaints Art History\, the event extends beyond the screen into a larger conversation about art\, reinterpretation\, and legacy. Amsellem’s involvement is not incidental; it is integral to the experience. Following the screening\, he will lead a moderated Q&A\, offering audiences an opportunity to engage directly with the film’s themes and contextual significance. \n\n\n\nAmsellem’s background reinforces the depth of this engagement. As an artist\, filmmaker\, and educator\, he has dedicated his career to advancing film as a serious artistic medium. His work spans short films\, educational initiatives\, and ongoing independent projects\, all rooted in a philosophy that emphasizes accessibility and intellectual rigor. His production company\, New Waves Productions\, operates with a clear mission: to elevate cinema as an art form while ensuring that high-quality film remains accessible to a broad audience. His presence at this event transforms the screening from a passive viewing into an active dialogue\, where interpretation and insight become part of the experience. \n\n\n\nFrom a programming standpoint\, this event reflects a broader trend within New Jersey’s cultural institutions—one that prioritizes curated\, interdisciplinary experiences over isolated presentations. The integration of film\, visual art\, and academic discussion creates a multidimensional environment that appeals to a diverse audience\, from cinephiles and art historians to students and casual attendees seeking a deeper engagement with the material. This approach is increasingly evident across Explore New Jersey’s film and TV coverage\, where events are designed not only to entertain but to inform and inspire. \n\n\n\nAccessibility remains a key component of the event’s structure. With ticket pricing set at $18 for general admission and $15 for members\, the screening is positioned to reach a wide audience without compromising the quality of the experience. The inclusion of a modest handling fee aligns with industry standards\, while box office support ensures that purchasing remains straightforward. This balance between accessibility and excellence is a defining characteristic of New Jersey’s current cultural programming\, reflecting a commitment to both inclusivity and artistic integrity. \n\n\n\nThe choice of Basquiat as the centerpiece of this event is particularly resonant in today’s cultural climate. The film’s exploration of identity\, authorship\, and the commodification of art remains as relevant now as it was at the time of its release. Basquiat’s journey—from graffiti artist to internationally recognized figure—continues to serve as both inspiration and caution\, highlighting the opportunities and challenges that come with visibility in the art world. The film does not offer easy answers; instead\, it invites viewers to grapple with these complexities\, making it an ideal subject for post-screening discussion. \n\n\n\nIn the context of New Jersey’s evolving cultural identity\, events like this signal a clear direction. The state is no longer simply a peripheral player in the arts landscape; it is actively shaping conversations and creating platforms for meaningful engagement. By hosting screenings that combine cinematic excellence with intellectual discourse\, New Jersey is positioning itself as a hub for thoughtful\, high-impact cultural experiences. \n\n\n\nAs April 22 approaches\, this screening of Basquiat stands out as a defining entry in the state’s spring cultural calendar. It offers more than a film—it delivers an immersive encounter with art\, history\, and the enduring question of what it means to create under the pressures of recognition and expectation. For audiences seeking a film experience that extends beyond the screen and into a broader cultural dialogue\, this event represents a rare and compelling opportunity to engage with one of the most influential artistic narratives of the modern era.
URL:https://explorenewjersey.org/event/film-basquiat/
LOCATION:Bickford Theatre at Morris Museum\, 6 Normandy Heights Road \, NJ\, Morristown\, New Jersey\, 07960\, United States
ATTACH;FMTTYPE=image/jpeg:https://explorenewjersey.org/wp-content/uploads/2026/04/Basquiat-Desktop-2-515x400-1.jpg
ORGANIZER;CN="The Morris Museum":MAILTO:info@morrismuseum.org
END:VEVENT
END:VCALENDAR