BEGIN:VCALENDAR
VERSION:2.0
PRODID:-//Explore New Jersey - ECPv6.15.20//NONSGML v1.0//EN
CALSCALE:GREGORIAN
METHOD:PUBLISH
X-WR-CALNAME:Explore New Jersey
X-ORIGINAL-URL:https://explorenewjersey.org
X-WR-CALDESC:Events for Explore New Jersey
REFRESH-INTERVAL;VALUE=DURATION:PT1H
X-Robots-Tag:noindex
X-PUBLISHED-TTL:PT1H
BEGIN:VTIMEZONE
TZID:America/New_York
BEGIN:DAYLIGHT
TZOFFSETFROM:-0500
TZOFFSETTO:-0400
TZNAME:EDT
DTSTART:20250309T070000
END:DAYLIGHT
BEGIN:STANDARD
TZOFFSETFROM:-0400
TZOFFSETTO:-0500
TZNAME:EST
DTSTART:20251102T060000
END:STANDARD
BEGIN:DAYLIGHT
TZOFFSETFROM:-0500
TZOFFSETTO:-0400
TZNAME:EDT
DTSTART:20260308T070000
END:DAYLIGHT
BEGIN:STANDARD
TZOFFSETFROM:-0400
TZOFFSETTO:-0500
TZNAME:EST
DTSTART:20261101T060000
END:STANDARD
BEGIN:DAYLIGHT
TZOFFSETFROM:-0500
TZOFFSETTO:-0400
TZNAME:EDT
DTSTART:20270314T070000
END:DAYLIGHT
BEGIN:STANDARD
TZOFFSETFROM:-0400
TZOFFSETTO:-0500
TZNAME:EST
DTSTART:20271107T060000
END:STANDARD
END:VTIMEZONE
BEGIN:VEVENT
DTSTART;TZID=America/New_York:20260226T000000
DTEND;TZID=America/New_York:20260226T000000
DTSTAMP:20260421T155149
CREATED:20250808T185937Z
LAST-MODIFIED:20250808T200852Z
UID:51821-1772064000-1772064000@explorenewjersey.org
SUMMARY:New Jersey Symphony: Beethoven’s Fifth Symphony
DESCRIPTION:The internationally-acclaimed conductor Markus Stenz strives to make all of his concerts “as stirring\, powerful\, clear\, and moving as possible.” With Stenz on the New Jersey Symphony podium\, here is music to inspire: from the joy of Puts’ Contact\, which won a 2023 GRAMMY with Xian Zhang conducting\, to the drama and triumph of Beethoven’s iconic Fifth Symphony.
URL:https://explorenewjersey.org/event/new-jersey-symphony-beethovens-fifth-symphony/
LOCATION:NJ
CATEGORIES:Concerts,Music
ATTACH;FMTTYPE=image/jpeg:https://explorenewjersey.org/wp-content/uploads/2025/08/NJS_Time-For-Three_thumb-519x600-GanLa1.jpg
END:VEVENT
END:VCALENDAR