BEGIN:VCALENDAR
VERSION:2.0
PRODID:-//Explore New Jersey - ECPv6.15.20//NONSGML v1.0//EN
CALSCALE:GREGORIAN
METHOD:PUBLISH
X-ORIGINAL-URL:https://explorenewjersey.org
X-WR-CALDESC:Events for Explore New Jersey
REFRESH-INTERVAL;VALUE=DURATION:PT1H
X-Robots-Tag:noindex
X-PUBLISHED-TTL:PT1H
BEGIN:VTIMEZONE
TZID:America/New_York
BEGIN:DAYLIGHT
TZOFFSETFROM:-0500
TZOFFSETTO:-0400
TZNAME:EDT
DTSTART:20250309T070000
END:DAYLIGHT
BEGIN:STANDARD
TZOFFSETFROM:-0400
TZOFFSETTO:-0500
TZNAME:EST
DTSTART:20251102T060000
END:STANDARD
BEGIN:DAYLIGHT
TZOFFSETFROM:-0500
TZOFFSETTO:-0400
TZNAME:EDT
DTSTART:20260308T070000
END:DAYLIGHT
BEGIN:STANDARD
TZOFFSETFROM:-0400
TZOFFSETTO:-0500
TZNAME:EST
DTSTART:20261101T060000
END:STANDARD
BEGIN:DAYLIGHT
TZOFFSETFROM:-0500
TZOFFSETTO:-0400
TZNAME:EDT
DTSTART:20270314T070000
END:DAYLIGHT
BEGIN:STANDARD
TZOFFSETFROM:-0400
TZOFFSETTO:-0500
TZNAME:EST
DTSTART:20271107T060000
END:STANDARD
END:VTIMEZONE
BEGIN:VEVENT
DTSTART;TZID=America/New_York:20260117T170000
DTEND;TZID=America/New_York:20260125T233000
DTSTAMP:20260425T190611
CREATED:20250808T190412Z
LAST-MODIFIED:20251001T155852Z
UID:51878-1768669200-1769383800@explorenewjersey.org
SUMMARY:A Little Shakespeare: The Tempest
DESCRIPTION:The Forest of Arden is full of possibilities! Banished by her uncle and disguised as a boy\, Rosalind and her beloved cousin Celia journey into the woods and discover new friends\, love letters\, music\, and ultimately\, themselves. Director Noelle Marion (last season’s A Little Shakespeare: The Tempest) returns to helm this lively frolic through the forest. Now in its 13th year\, A Little Shakespeare engages young artists with the work of the Bard in an adaptation directed and designed by professional artists\, and performed and supported backstage by high school students. \nSingle ticket onsale to be announced.
URL:https://explorenewjersey.org/event/a-little-shakespeare-the-tempest/
LOCATION:Two River Theater\, 21 Bridge Avenue\, Red Bank\, New Jersey\, 07701\, United States
CATEGORIES:Theatre
ATTACH;FMTTYPE=image/png:https://explorenewjersey.org/wp-content/uploads/2025/08/4-3-1800x524-Z73mzR.png
END:VEVENT
BEGIN:VEVENT
DTSTART;TZID=America/New_York:20260122T000000
DTEND;TZID=America/New_York:20260122T000000
DTSTAMP:20260425T190611
CREATED:20250728T132801Z
LAST-MODIFIED:20250728T161642Z
UID:48955-1769040000-1769040000@explorenewjersey.org
SUMMARY:Lettuce Cook World Tour
DESCRIPTION:The album\, Cook\, isn’t just a nod to Lettuce’s musical heat; it’s an invitation to join the band at the table\, where funk\, soul\, jazz\, rock\, and hip-hop come together in one rich\, flavorful dish.\nReleased on their own Lettuce Records label\, the band’s next studio album offers a menu of delights that marks a band exploring new sonic territory. For these six life-long partners\, the new songs feel like a nourishing meal that entices all of your senses. Like 2019’s Elevate\, 2020’s Resonate and 2022’s Unify\, before it\, Cook was recorded at Colorado Sound just outside East Coast transplants Deitch\, Smirnoff\, and Bloom’s adopted home of Denver\, where they gathered in one room to work on the new material. Ryan Zoidis did a masterful job mixing the final results with longtime Grammy-nominated engineer Jesse O’Brien. On the new album\, Lettuce has expanded its ever-widening musical palette again. Coming off tours with both rap icon GZA of Wu-Tang Clan and and reggae legend Ziggy Marley while earlier in this year releasing the live album and concert film ‘Lettuce with the Colorado Symphony’ capturing over 90 minutes of collaborative symphonic arrangements with the Colorado Symphony\n“This record is a little more three-dimensional than our past albums\,” added Deitch. “It shows a lot more sides to the band\, exploring further depths of production and arrangements.”\nOne can hear the Wu-Tang Clan vibe on “Storm’s Coming\,” which could well be a lost track from (36 Chambers)\, while working with an orchestra can be traced in the epic cinematic score of the closing “Ghost of Yest\,” which Deitch terms\, “a cool tune that has symphonic influences.” Listening to hard-to-categorize\, multi-genre bands from around the world also impacted the sessions for Cook\, which reflects the global outreach that led Lettuce to put out the recently re-released Live in Tokyo back in 2004. Touring plans for Cook include a return trip to Japan as well as dates in Europe and Australia. “Hearing music from different countries has broadened our creative outlook\,” admitted Deitch.\nStill\, there’s a generous dose of Lettuce’s patented funk\, paying tribute to the great James Brown and his JB’s on the slow-heater groove\, “Clav It Your Way\,” marked by composer Ryan “Zoid” Zoidis’ cool\, laid-back but funky saxophone\, the classic Lettuce tune of “Gold Tooth” and a pair of spirited homages to mentors like Tower of Power (“Keep On\,” with a co-writing credit for the band leader and original member of TOP\, Emilio Castillo). On “The Mac\,” the band pays tribute to the great JB sax player Maceo Parker\, with whom the band had the honor of collaborating with several years back. Ace bassist Erick “Jesus” Coomes describes the theme of his opening\, “fresh\, super-vibey” “Grewt Up” as “Now is the time to be good to each other without the need to be recognized for it.” New York Knicks fan Adam “Shmeeans” Smirnoff’s dramatic\, “The Matador” combines the drama of the bullring with legendary announcer Walt Frazier’s patented call of “Matador defense” – letting someone attack the hoop with no resistance – boasting an urban feel harking back to Creed Taylor’s CTI and the ‘70s New York-based salsa label Fania. “It’s like something that should be the soundtrack to a ‘70s cop show\,” says Nigel Hall\, who takes center stage with vocals and organ on the band’s cover of one-time Five Stairsteps member Keni Burke’s 1982 R&B hit\, “Risin’ to the Top.” “I first heard that song as a kid\,” explained Hall. “I learned about the original through hip-hop. I always wanted to sing it\, and now I get the chance.”\n“Breathe” is described by Deitch as “a chill\, hip-hop-flavored joint\,” which begins with the sound of crickets\, while horn player Eric “Benny” Bloom credited the song for allowing him “to think of all the possibilities my future holds if I just listen to myself and… BREATHE.” The title track is “a wild and crazy funk tune written at a party in Denver\,” according to Deitch\, while Bloom called it\, “a hip little banger of a song to put a stank face on.”\nThe band also recently announced the launch of Lettuce Red Crush and Orange Crush wine brands with Aquila Cellars\, as well as a recipe book of pairings to be included with the vinyl album and in digital form. The wine was brought to life by Bloom and Zoidis’ wine distribution company\, Benny & Zoid Selections who made it accessible to purchase nationwide online.\n“Music and food are very related\,” said Deitch. “Use the wrong ingredients in either and you can ruin the sound and the meal.”\nWith Cook\, it appears Lettuce has the right recipe for success… both musically and organizationally. “This is the best team we’ve ever had\,” said Deitch of his current management. “We feel like the world is our oyster. Our concepts and ideas can really come to fruition now with our infrastructure. It’s beautiful to be in a headspace of feeling this fresh. It’s the start of a brand-new era for us.”
URL:https://explorenewjersey.org/event/lettuce-cook-world-tour/
LOCATION:The Wellmont Theater\, 5 Seymour St\, Montclair\, NJ\, 07042\, United States
CATEGORIES:Concerts,Music
ATTACH;FMTTYPE=image/jpeg:https://explorenewjersey.org/wp-content/uploads/2025/07/Lettuce_300x464-4q8Tuh.jpg
END:VEVENT
END:VCALENDAR