BEGIN:VCALENDAR
VERSION:2.0
PRODID:-//Explore New Jersey - ECPv6.15.20//NONSGML v1.0//EN
CALSCALE:GREGORIAN
METHOD:PUBLISH
X-WR-CALNAME:Explore New Jersey
X-ORIGINAL-URL:https://explorenewjersey.org
X-WR-CALDESC:Events for Explore New Jersey
REFRESH-INTERVAL;VALUE=DURATION:PT1H
X-Robots-Tag:noindex
X-PUBLISHED-TTL:PT1H
BEGIN:VTIMEZONE
TZID:America/New_York
BEGIN:DAYLIGHT
TZOFFSETFROM:-0500
TZOFFSETTO:-0400
TZNAME:EDT
DTSTART:20250309T070000
END:DAYLIGHT
BEGIN:STANDARD
TZOFFSETFROM:-0400
TZOFFSETTO:-0500
TZNAME:EST
DTSTART:20251102T060000
END:STANDARD
BEGIN:DAYLIGHT
TZOFFSETFROM:-0500
TZOFFSETTO:-0400
TZNAME:EDT
DTSTART:20260308T070000
END:DAYLIGHT
BEGIN:STANDARD
TZOFFSETFROM:-0400
TZOFFSETTO:-0500
TZNAME:EST
DTSTART:20261101T060000
END:STANDARD
BEGIN:DAYLIGHT
TZOFFSETFROM:-0500
TZOFFSETTO:-0400
TZNAME:EDT
DTSTART:20270314T070000
END:DAYLIGHT
BEGIN:STANDARD
TZOFFSETFROM:-0400
TZOFFSETTO:-0500
TZNAME:EST
DTSTART:20271107T060000
END:STANDARD
END:VTIMEZONE
BEGIN:VEVENT
DTSTART;TZID=America/New_York:20260110T190000
DTEND;TZID=America/New_York:20260118T233000
DTSTAMP:20260425T113223
CREATED:20260116T212654Z
LAST-MODIFIED:20260116T212739Z
UID:77296-1768071600-1768779000@explorenewjersey.org
SUMMARY:Seascape
DESCRIPTION:Edward Albee’s Seascape Brings Provocative Theater to Oradell This January \n\n\n\n\n\n\n\n\n\nBergen County theatergoers have a rare opportunity to experience the Pulitzer Prize-winning work of Edward Albee as the Bergen County Players present Seascape at the Little Firehouse Theatre in Oradell\, New Jersey. Running for a brief but compelling engagement from January 10 through January 18\, 2026\, this production promises to immerse audiences in a thought-provoking blend of humor\, philosophical reflection\, and theatrical innovation. \n\n\n\nThe remaining performances as of Friday\, January 16\, include Friday evening at 8:00 PM\, accompanied by a special Q&A session with the Executive Director of the Edward F. Albee Foundation\, as well as shows on Saturday\, January 17 at 8:00 PM and Sunday\, January 18 at 2:00 PM. Tickets are available through the Bergen County Players’ online portal\, providing easy access for those eager to secure seats for this intimate and intellectually stimulating production. \n\n\n\nAlbee’s Seascape explores the human experience through an inventive lens\, fusing absurdist comedy with poignant existential reflection. The story follows Nancy and Charlie\, a middle-aged couple who have recently retired and are enjoying a quiet afternoon on an empty beach. Their mundane conversation about the routines and uncertainties of life is interrupted in a startlingly imaginative turn when two human-sized\, articulate lizards emerge from the ocean. What begins as a surreal encounter quickly evolves into a meditation on communication\, evolution\, and the search for meaning\, as the human and lizard “couples” attempt to bridge the gap between their vastly different perspectives. \n\n\n\nThe production at the Little Firehouse Theatre emphasizes the subtle interplay between dialogue\, timing\, and character nuance. The intimate setting of the venue enhances audience engagement\, allowing every expression\, pause\, and line to resonate more deeply than in a larger performance space. The cast brings Albee’s intricate characters to life with precision\, capturing the delicate balance of humor\, discomfort\, and philosophical inquiry that defines the play. \n\n\n\nAudiences attending this run will not only witness a landmark work of American theater but also have the chance to engage with the broader cultural context surrounding Albee’s legacy. The Friday Q&A session provides unique insight into the playwright’s intentions\, the nuances of absurdist theater\, and the enduring relevance of themes such as human connection and societal evolution. \n\n\n\nFor those who enjoy combining theatrical experiences with other cultural outings\, Oradell and the surrounding Bergen County area offer a variety of attractions that complement a night at the theater\, from local dining to interactive workshops in the arts. Visitors may also explore other offerings in the region’s thriving theatre scene\, connecting live performance with a broader appreciation of creativity and storytelling in New Jersey. \n\n\n\nSeascape is an essential experience for theater enthusiasts\, students of drama\, and anyone intrigued by Albee’s distinctive voice and the challenges of understanding the world from multiple viewpoints. Whether attending for the intellectual richness\, the humor\, or the rare opportunity to see a Pulitzer Prize-winning play performed locally\, this Bergen County Players production offers a memorable and impactful evening that highlights the enduring power of live theater. \n\n\n\nThe Little Firehouse Theatre is located at 298 Kinderkamack Road in Oradell\, NJ 07649. Attendees are encouraged to reserve tickets in advance due to limited seating for this limited engagement of Albee’s celebrated work.
URL:https://explorenewjersey.org/event/edward-albees-seascape/
LOCATION:Little Firehouse Theatre\, 298 Kinderkamack Rd\, Oradell\, New Jersey\, 07649\, United States
CATEGORIES:Theatre
ATTACH;FMTTYPE=image/jpeg:https://explorenewjersey.org/wp-content/uploads/2026/01/Seascape-450X316.jpg
END:VEVENT
BEGIN:VEVENT
DTSTART;TZID=America/New_York:20260115T170000
DTEND;TZID=America/New_York:20260117T233000
DTSTAMP:20260425T113223
CREATED:20251121T163514Z
LAST-MODIFIED:20251121T163531Z
UID:69620-1768496400-1768692600@explorenewjersey.org
SUMMARY:Edward Albee’s 'At Home at the Zoo'
DESCRIPTION:Ruth Stage Brings Edward Albee’s “At Home at the Zoo” to Life at the Jersey Shore Arts Center \n\n\n\n\n\n\n\n\n\nThe Jersey Shore Arts Center is set to welcome theater lovers this winter as Ruth Stage presents Edward Albee’s At Home at the Zoo\, a rare opportunity to experience the playwright’s groundbreaking work in its full\, two-act form. Running January 15-17\, 2025\, this production combines Albee’s 1959 classic The Zoo Story with its long-awaited prequel\, Homelife\, written nearly half a century later\, creating a complete portrait of the characters and themes that have made Albee a titan of American theater. \n\n\n\nAlbee envisioned the two plays as a single\, full-length work to give greater depth to the character of Peter\, who in the original The Zoo Story served largely as a “backboard” for the more dynamic Jerry. The combined play explores isolation\, loneliness\, miscommunication\, and the raw\, sometimes animalistic instincts that shape human behavior\, giving audiences a chance to dive deep into both the psychological and emotional currents of Albee’s world. \n\n\n\nThe first act\, Homelife\, introduces Peter\, a comfortably affluent publishing executive\, and his wife\, Ann\, in their Upper East Side apartment. Ann articulates a quiet dissatisfaction with their ordered and predictable lives\, seeking a spark of disorder to awaken something dormant in their relationship. This act provides insight into Peter’s inner detachment and the marital stagnation that sets the stage for the shocking events to follow. \n\n\n\nThe second act\, The Zoo Story\, transports audiences to a Central Park bench where Peter encounters Jerry\, an isolated and desperate man whose desire for connection takes a disturbing turn. Jerry’s conversation begins with the famous line\, “I’ve been to the zoo\,” and escalates into a chilling examination of alienation\, societal barriers\, and the desperate need for human interaction. The act builds to a harrowing climax\, illuminating the play’s exploration of violence\, vulnerability\, and the extremes of human longing. \n\n\n\nRuth Stage is renowned for delivering performances that are both thought-provoking and deeply engaging\, and this production promises to immerse audiences in the intensity of Albee’s writing. The intimate setting of the Jersey Shore Arts Center allows for a uniquely up-close theatrical experience\, where every line and gesture carries emotional weight and resonance. \n\n\n\nFor those looking to explore the broader landscape of performing arts in New Jersey\, the theatre guide on Explore New Jersey provides an extensive overview of upcoming plays\, performances\, and cultural events\, making it easier than ever to plan a night out immersed in the state’s vibrant arts scene. \n\n\n\nRuth Stage’s At Home at the Zoo offers a rare opportunity to witness a fully realized Albee masterpiece\, combining the dramatic intensity of The Zoo Story with the character depth of Homelife. Whether you are a devoted fan of Albee’s work or encountering it for the first time\, this performance promises a profound and unforgettable theatrical experience that challenges\, engages\, and resonates long after the curtain falls.
URL:https://explorenewjersey.org/event/edward-albees-at-home-at-the-zoo/
LOCATION:Jersey Shore Arts Center\, 66 South Main Street\, Ocean Grove\, New Jersey\, 07756\, United States
CATEGORIES:Theatre
ATTACH;FMTTYPE=image/jpeg:https://explorenewjersey.org/wp-content/uploads/2025/11/ruth-Nov20-1.jpg
END:VEVENT
BEGIN:VEVENT
DTSTART;TZID=America/New_York:20260117T153000
DTEND;TZID=America/New_York:20260117T233000
DTSTAMP:20260425T113223
CREATED:20260117T151148Z
LAST-MODIFIED:20260117T151203Z
UID:77394-1768663800-1768692600@explorenewjersey.org
SUMMARY:Light of Day Winterfest 2026
DESCRIPTION:Celebrating Music and Mission: Light of Day WinterFest 2026 Returns to the Count Basie Center \n\n\n\n\n\n\n\n\n\nAs January unfolds across New Jersey\, the annual Light of Day WinterFest prepares to transform the Count Basie Center’s Hackensack Meridian Health Theatre into a vibrant hub of music\, camaraderie\, and philanthropy. The 2026 Main Event\, “Bob’s Birthday Bash\,” scheduled for Saturday\, January 17 at 6:30 p.m.\, promises an evening that celebrates not only legendary performances but also the ongoing fight against Parkinson’s disease and related neurodegenerative illnesses. Over the years\, Light of Day has grown from a small\, local birthday fundraiser into a globally recognized festival\, showcasing how the universal power of music can fuel hope\, awareness\, and action. \n\n\n\nThe 2026 lineup is a testament to the festival’s rich history of blending iconic acts with rising stars. Headliners include Johnny Rzeznik of the Goo Goo Dolls\, alongside Willie Nile\, Joe Grushecky & The Houserockers with special guest Gary U.S. Bonds\, Dramarama\, Fantastic Cat\, James Maddock\, Remember Jones\, Williams Honor\, and Joe D’Urso & Stone Caravan. Additional performances will feature Amanda Cross & Derek Cruz\, Matt & Eryn O’Ree\, Miss Emily\, and other special guests to be announced closer to the event. Each act contributes to the festival’s enduring mission: to raise both funds and awareness for Parkinson’s disease\, ALS\, and Progressive Supranuclear Palsy while creating unforgettable musical experiences. \n\n\n\nTickets are structured to offer multiple ways for fans to experience WinterFest. The On-Stage FestPass package provides an intimate front-row experience with exclusive access to a private cash bar\, a coveted “Swag Bag\,” and admission to all WinterFest events in Asbury Park and Monmouth County from January 15–18. Platinum\, Gold\, Silver\, and Bronze packages offer reserved seating throughout the theater\, with options to combine access to multiple festival events or focus solely on the Main Event. Super Saver tickets provide affordable options for those wishing to enjoy the performances from the upper balcony. Each package balances access\, exclusivity\, and value\, catering to music enthusiasts with varying preferences and budgets. \n\n\n\nBeyond the music\, WinterFest embodies a deeper purpose. Over its 26-year history\, the Light of Day Foundation has raised approximately $7 million for research\, patient care\, and advocacy related to Parkinson’s disease and associated disorders. The festival’s roots trace back to 1998\, when Bob Benjamin\, a veteran artist manager diagnosed with Parkinson’s\, celebrated his 40th birthday with a small Red Bank gathering. That intimate event\, featuring local musicians\, sparked a movement that has since grown into a multi-day festival spanning New Jersey and beyond\, including performances in Europe and international venues where a portion of proceeds supports local Parkinson’s organizations. \n\n\n\nThe festival’s legacy is punctuated by unforgettable collaborations. Bruce Springsteen’s surprise appearances with Joe Grushecky & The Houserockers\, alongside performances by legends such as Southside Johnny Lyon\, Darlene Love\, Michael J. Fox\, Max Weinberg\, Lucinda Williams\, and Ed Kowalczyk\, have cemented WinterFest as an event where music and mission intersect. The festival continues to provide a platform for both established and emerging artists\, celebrating the cultural richness of the region while contributing to a cause with global significance. Fans interested in exploring the roots of this vibrant scene can discover more through Explore New Jersey’s coverage of local music and community traditions\, which highlights the ways artists and audiences come together to foster cultural and philanthropic growth. \n\n\n\nIn addition to performances\, WinterFest emphasizes accessibility and community engagement. From curated “Swag Bags” to premium seating and behind-the-scenes experiences\, the festival ensures attendees feel connected not only to the music but to the ongoing mission. Each ticket purchased\, each song performed\, and every audience member present reinforces a collective commitment to combat neurodegenerative disease through research\, support\, and awareness. \n\n\n\nAs Light of Day WinterFest 2026 approaches\, the stage is set for a celebration that is both exhilarating and purposeful. From the soaring vocals of Johnny Rzeznik to the soulful rhythms of Willie Nile\, every note contributes to a larger symphony of hope. The festival remains a shining example of how music can transcend entertainment\, serving as a conduit for healing\, community\, and lasting impact\, ensuring that Bob Benjamin’s vision continues to resonate in New Jersey and around the world.
URL:https://explorenewjersey.org/event/light-of-day-winterfest-2026/
LOCATION:Count Basie Center for the Arts\, 99 Monmouth Street\, Red Bank\, New Jersey\, 07701\, United States
CATEGORIES:Concerts,Music
ATTACH;FMTTYPE=image/jpeg:https://explorenewjersey.org/wp-content/uploads/2026/01/2026-01-17-Light-of-Day-Winterfest-HMHT-EVENT-3-1024x538-1.jpg
ORGANIZER;CN="Count Basie Center for the Arts":MAILTO:boxoffice@thebasie.org
END:VEVENT
BEGIN:VEVENT
DTSTART;TZID=America/New_York:20260117T170000
DTEND;TZID=America/New_York:20260125T233000
DTSTAMP:20260425T113223
CREATED:20250808T190412Z
LAST-MODIFIED:20251001T155852Z
UID:51878-1768669200-1769383800@explorenewjersey.org
SUMMARY:A Little Shakespeare: The Tempest
DESCRIPTION:The Forest of Arden is full of possibilities! Banished by her uncle and disguised as a boy\, Rosalind and her beloved cousin Celia journey into the woods and discover new friends\, love letters\, music\, and ultimately\, themselves. Director Noelle Marion (last season’s A Little Shakespeare: The Tempest) returns to helm this lively frolic through the forest. Now in its 13th year\, A Little Shakespeare engages young artists with the work of the Bard in an adaptation directed and designed by professional artists\, and performed and supported backstage by high school students. \nSingle ticket onsale to be announced.
URL:https://explorenewjersey.org/event/a-little-shakespeare-the-tempest/
LOCATION:Two River Theater\, 21 Bridge Avenue\, Red Bank\, New Jersey\, 07701\, United States
CATEGORIES:Theatre
ATTACH;FMTTYPE=image/png:https://explorenewjersey.org/wp-content/uploads/2025/08/4-3-1800x524-Z73mzR.png
END:VEVENT
BEGIN:VEVENT
DTSTART;TZID=America/New_York:20260117T173000
DTEND;TZID=America/New_York:20260117T233000
DTSTAMP:20260425T113223
CREATED:20251023T170021Z
LAST-MODIFIED:20251023T170026Z
UID:64941-1768671000-1768692600@explorenewjersey.org
SUMMARY:The Warped Tour Band
DESCRIPTION:The Warped Tour Band Brings High-Energy Punk and Rock to Starland Ballroom \n\n\n\n\n\n\n\n\n\nPunk rock enthusiasts and alternative music fans have a date to mark on their calendars as The Warped Tour Band takes over Starland Ballroom in Sayreville on Saturday\, January 17\, 2026. Known for their electrifying performances that capture the spirit of the iconic Vans Warped Tour\, the band promises a night packed with high-energy hits\, crowd favorites\, and a lively atmosphere that pays homage to one of the most influential touring festivals in modern rock history. \n\n\n\nThe Warped Tour Band is a curated lineup of musicians who have been part of the legendary Warped Tour circuit\, bringing together the best of punk\, pop-punk\, ska\, and alternative rock. Fans can expect a setlist loaded with anthems from bands that helped define the scene over the past decades\, delivered with the raw energy and passion that the festival was known for. The live performance will feature a mix of guitar-driven hooks\, driving rhythms\, and sing-along choruses\, recreating the feel of a summer Warped Tour show in a winter setting. \n\n\n\nPresale tickets will be available Thursday\, October 23\, from 10 a.m. to 10 p.m. ET using the code JERSEY\, giving dedicated fans early access to secure their spots. General tickets go on sale Friday\, October 24 at 10 a.m.\, and given the band’s reputation for delivering explosive performances\, early purchase is recommended. Starland Ballroom\, with its spacious floor and acclaimed acoustics\, offers the perfect venue to experience the intensity of a full-scale punk rock show while remaining up close to the stage. \n\n\n\nIn addition to the music\, the event is expected to bring together the community of New Jersey rock fans\, many of whom grew up following the Warped Tour across the country. The performance provides a nostalgic experience for longtime fans while introducing new audiences to the genre’s enduring energy and cultural impact. Attendees can anticipate mosh pits\, crowd interaction\, and the infectious enthusiasm that has kept Warped Tour music alive in fan communities for decades. \n\n\n\nFor more information on ticket availability and show updates\, visit Explore New Jersey’s music coverage. The January 17 performance at Starland Ballroom is set to be a standout night for fans of punk and alternative rock\, offering a full-throttle celebration of a festival that shaped a generation of music lovers.
URL:https://explorenewjersey.org/event/the-warped-tour-band/
LOCATION:Starland Ballroom\, 570 Jernee Mill Rd\, Sayreville\, New Jersey\, 08872\, United States
CATEGORIES:Concerts,Music
ATTACH;FMTTYPE=image/jpeg:https://explorenewjersey.org/wp-content/uploads/2025/10/the-warped-tour-band-tickets_01-17-26_17_68f656ce9d512.jpg
END:VEVENT
END:VCALENDAR