BEGIN:VCALENDAR
VERSION:2.0
PRODID:-//Explore New Jersey - ECPv6.15.20//NONSGML v1.0//EN
CALSCALE:GREGORIAN
METHOD:PUBLISH
X-WR-CALNAME:Explore New Jersey
X-ORIGINAL-URL:https://explorenewjersey.org
X-WR-CALDESC:Events for Explore New Jersey
REFRESH-INTERVAL;VALUE=DURATION:PT1H
X-Robots-Tag:noindex
X-PUBLISHED-TTL:PT1H
BEGIN:VTIMEZONE
TZID:America/New_York
BEGIN:DAYLIGHT
TZOFFSETFROM:-0500
TZOFFSETTO:-0400
TZNAME:EDT
DTSTART:20250309T070000
END:DAYLIGHT
BEGIN:STANDARD
TZOFFSETFROM:-0400
TZOFFSETTO:-0500
TZNAME:EST
DTSTART:20251102T060000
END:STANDARD
BEGIN:DAYLIGHT
TZOFFSETFROM:-0500
TZOFFSETTO:-0400
TZNAME:EDT
DTSTART:20260308T070000
END:DAYLIGHT
BEGIN:STANDARD
TZOFFSETFROM:-0400
TZOFFSETTO:-0500
TZNAME:EST
DTSTART:20261101T060000
END:STANDARD
BEGIN:DAYLIGHT
TZOFFSETFROM:-0500
TZOFFSETTO:-0400
TZNAME:EDT
DTSTART:20270314T070000
END:DAYLIGHT
BEGIN:STANDARD
TZOFFSETFROM:-0400
TZOFFSETTO:-0500
TZNAME:EST
DTSTART:20271107T060000
END:STANDARD
END:VTIMEZONE
BEGIN:VEVENT
DTSTART;TZID=America/New_York:20260103T000000
DTEND;TZID=America/New_York:20260103T000000
DTSTAMP:20260419T211240
CREATED:20250806T143739Z
LAST-MODIFIED:20250808T201207Z
UID:51090-1767398400-1767398400@explorenewjersey.org
SUMMARY:Giants vs. Cowboys
DESCRIPTION:Giants vs. Cowboys \nThis game will be held on either Saturday\, January 3 or Sunday\, January 4. \nDate and time to be confirmed by the NFL at a later date in the season.
URL:https://explorenewjersey.org/event/giants-vs-cowboys/
LOCATION:New Jersey
CATEGORIES:Football,Sports
ATTACH;FMTTYPE=image/png:https://explorenewjersey.org/wp-content/uploads/2025/08/v_cowboys-Z8jzNk.png
END:VEVENT
BEGIN:VEVENT
DTSTART;TZID=America/New_York:20260103T000000
DTEND;TZID=America/New_York:20260103T000000
DTSTAMP:20260419T211240
CREATED:20250808T185753Z
LAST-MODIFIED:20250808T200853Z
UID:51794-1767398400-1767398400@explorenewjersey.org
SUMMARY:Magic Rocks starring Illusionist Leon Etienne
DESCRIPTION:You’ve seen him on America’s Got Talent\, Jimmy Fallon\, Masters of Illusion\, and Penn & Teller: Fool Us! This family–friendly spectacular starring illusionist Leon Etienne features incredible illusions\, award-winning sleight of hand and hilarious comedy. This show is an immersive experience that brings joy\, laughter and wonder when the world needs it most!
URL:https://explorenewjersey.org/event/magic-rocks-starring-illusionist-leon-etienne/
LOCATION:New Jersey
CATEGORIES:Concerts,Music
ATTACH;FMTTYPE=image/jpeg:https://explorenewjersey.org/wp-content/uploads/2025/08/MagicRocks_thumb-519x600-JOWYxa.jpg
END:VEVENT
END:VCALENDAR