BEGIN:VCALENDAR
VERSION:2.0
PRODID:-//Explore New Jersey - ECPv6.15.20//NONSGML v1.0//EN
CALSCALE:GREGORIAN
METHOD:PUBLISH
X-ORIGINAL-URL:https://explorenewjersey.org
X-WR-CALDESC:Events for Explore New Jersey
REFRESH-INTERVAL;VALUE=DURATION:PT1H
X-Robots-Tag:noindex
X-PUBLISHED-TTL:PT1H
BEGIN:VTIMEZONE
TZID:America/New_York
BEGIN:DAYLIGHT
TZOFFSETFROM:-0500
TZOFFSETTO:-0400
TZNAME:EDT
DTSTART:20240310T070000
END:DAYLIGHT
BEGIN:STANDARD
TZOFFSETFROM:-0400
TZOFFSETTO:-0500
TZNAME:EST
DTSTART:20241103T060000
END:STANDARD
BEGIN:DAYLIGHT
TZOFFSETFROM:-0500
TZOFFSETTO:-0400
TZNAME:EDT
DTSTART:20250309T070000
END:DAYLIGHT
BEGIN:STANDARD
TZOFFSETFROM:-0400
TZOFFSETTO:-0500
TZNAME:EST
DTSTART:20251102T060000
END:STANDARD
BEGIN:DAYLIGHT
TZOFFSETFROM:-0500
TZOFFSETTO:-0400
TZNAME:EDT
DTSTART:20260308T070000
END:DAYLIGHT
BEGIN:STANDARD
TZOFFSETFROM:-0400
TZOFFSETTO:-0500
TZNAME:EST
DTSTART:20261101T060000
END:STANDARD
END:VTIMEZONE
BEGIN:VEVENT
DTSTART;TZID=America/New_York:20251231T000000
DTEND;TZID=America/New_York:20251231T000000
DTSTAMP:20260422T051518
CREATED:20250724T134948Z
LAST-MODIFIED:20250728T124453Z
UID:47651-1767139200-1767139200@explorenewjersey.org
SUMMARY:Salute to Vienna New Year's Concert
DESCRIPTION:Strauss Symphony of America\nNir Kabaretti\, conductor (Vienna)\nRebecca Nelsen\, soprano (Vienna)\nThomas Weinhappel\, baritone (Vienna)\nFeaturing dancers from\nEuropaballet St. Pölten (Austria) and\nInternational Champion Ballroom Dancers\nCelebrating 30 years in North America\, Salute to Vienna New Year’s Concert returns to New Brunswick for a dazzling anniversary season. This beloved annual tradition is an unmissable addition to every music-lover’s holiday wish list. At the heart of Salute to Vienna is the richly festive\, romantic\, and soul-stirring music of Johann Strauss\, Jr. Mark the 200th anniversary of the famed composer’s birth with a selection of soaring overtures\, arias\, and duets that capture the essence of Vienna’s Golden Age\, including “The Blue Danube” waltz. With a charming expert in Viennese music at the conductor’s podium\, Strauss’ timeless music bursts to life in performances by some of Europe’s finest singers\, internationally acclaimed dancers\, and a full orchestra. With elegant costumes\, bright floral designs\, and even a joke or two from the conductor\, this cherished tradition is the perfect way to waltz into the new year. Artists subject to change without notice.
URL:https://explorenewjersey.org/event/salute-to-vienna-new-years-concert/
LOCATION:State Theatre New Jersey\, 15 Livingston Avenue \, NJ\, New Brunswick\, NJ\, 08901\, United States
CATEGORIES:Concerts
ATTACH;FMTTYPE=image/jpeg:https://explorenewjersey.org/wp-content/uploads/2025/07/25_12_31_salutetovienna615x395-fac368d66d-RRUHES.jpg
END:VEVENT
BEGIN:VEVENT
DTSTART;TZID=America/New_York:20251231T000000
DTEND;TZID=America/New_York:20251231T000000
DTSTAMP:20260422T051518
CREATED:20250724T135504Z
LAST-MODIFIED:20250728T124648Z
UID:47713-1767139200-1767139200@explorenewjersey.org
SUMMARY:FJ - Tribute To Foreigner and Journey
DESCRIPTION:Prepare for a New Year’s Eve celebration like no other with an electrifying tribute to two iconic rock bands! brings the best of both worlds\, with powerhouse vocalist Constantine Maroulis () leading the charge. Sing along to timeless hits in a high-energy show that will have you dancing and rocking out all night.
URL:https://explorenewjersey.org/event/fj-tribute-to-foreigner-and-journey/
LOCATION:Algonquin Arts Theatre\, 60 Abe Voorhees Dr\, Manasquan\, 08736\, United States
CATEGORIES:Concerts
ATTACH;FMTTYPE=image/webp:https://explorenewjersey.org/wp-content/uploads/2025/07/FJ-MT5stY.tmp_.webp
END:VEVENT
END:VCALENDAR