BEGIN:VCALENDAR
VERSION:2.0
PRODID:-//Explore New Jersey - ECPv6.15.20//NONSGML v1.0//EN
CALSCALE:GREGORIAN
METHOD:PUBLISH
X-ORIGINAL-URL:https://explorenewjersey.org
X-WR-CALDESC:Events for Explore New Jersey
REFRESH-INTERVAL;VALUE=DURATION:PT1H
X-Robots-Tag:noindex
X-PUBLISHED-TTL:PT1H
BEGIN:VTIMEZONE
TZID:America/New_York
BEGIN:DAYLIGHT
TZOFFSETFROM:-0500
TZOFFSETTO:-0400
TZNAME:EDT
DTSTART:20240310T070000
END:DAYLIGHT
BEGIN:STANDARD
TZOFFSETFROM:-0400
TZOFFSETTO:-0500
TZNAME:EST
DTSTART:20241103T060000
END:STANDARD
BEGIN:DAYLIGHT
TZOFFSETFROM:-0500
TZOFFSETTO:-0400
TZNAME:EDT
DTSTART:20250309T070000
END:DAYLIGHT
BEGIN:STANDARD
TZOFFSETFROM:-0400
TZOFFSETTO:-0500
TZNAME:EST
DTSTART:20251102T060000
END:STANDARD
BEGIN:DAYLIGHT
TZOFFSETFROM:-0500
TZOFFSETTO:-0400
TZNAME:EDT
DTSTART:20260308T070000
END:DAYLIGHT
BEGIN:STANDARD
TZOFFSETFROM:-0400
TZOFFSETTO:-0500
TZNAME:EST
DTSTART:20261101T060000
END:STANDARD
END:VTIMEZONE
BEGIN:VEVENT
DTSTART;TZID=America/New_York:20251218T200000
DTEND;TZID=America/New_York:20251221T233000
DTSTAMP:20260420T042137
CREATED:20250724T134947Z
LAST-MODIFIED:20251211T182911Z
UID:47650-1766088000-1766359800@explorenewjersey.org
SUMMARY:American Repertory Ballet with a Live Orchestra & Choir Presents The Nutcracker
DESCRIPTION:Experience the Magic of the Holidays with American Repertory Ballet’s Nutcracker in New Jersey \n\n\n\n\n\n\n\n\n\nThe holiday season in New Jersey comes alive with the return of the American Repertory Ballet’s (ARB) cherished annual performance of The Nutcracker\, a celebration of music\, dance\, and festive wonder that has captivated audiences for six decades. This year\, families can experience the only ARB Nutcracker shows featuring a live orchestra and choir\, enhancing Tchaikovsky’s iconic score with the richness and energy of live performance. With more than 100 talented dancers bringing the story to life\, ARB’s production remains a signature holiday tradition for the region. \n\n\n\nAudiences are invited to follow Clara and her Nutcracker Prince as they embark on an unforgettable adventure. The tale unfolds with daring battles against larger-than-life mice\, heroic toy soldiers\, and a journey through a whirlwind of dancing snowflakes to the enchanting Land of Sweets. Each scene is elevated by ARB’s signature choreography\, blending technical precision with expressive artistry\, ensuring a performance that captivates both children and adults. \n\n\n\nARB’s The Nutcracker has earned its place as one of the nation’s longest-running productions\, maintaining continuity for 60 years while evolving to reflect both classical ballet excellence and modern theatrical flair. The addition of a live orchestra and choir in select performances offers audiences an immersive experience\, where the music resonates with unparalleled vitality\, complementing the dancers’ intricate movements and the vibrant holiday sets. \n\n\n\nThis production is not just a performance; it is a holiday event designed to create lasting family memories. Attendees can expect dazzling costumes\, elaborate stage design\, and an atmosphere that captures the joy and wonder of the season. It is an ideal outing for multigenerational families\, schools\, and community groups seeking a festive cultural experience in New Jersey. \n\n\n\nTickets to ARB’s Nutcracker performances offer a gateway into a world where imagination\, music\, and dance intertwine. The combination of high-caliber dancers\, live orchestral music\, and a story steeped in tradition makes this production a highlight of the holiday season in the region. Families looking to immerse themselves in the magic of ballet\, celebrate a long-standing artistic tradition\, and enjoy a memorable holiday outing will find ARB’s The Nutcracker an unmissable experience. \n\n\n\nFor those seeking additional information about show dates\, tickets\, and seasonal events in New Jersey’s performing arts scene\, Explore New Jersey’s theatre section provides comprehensive coverage\, spotlighting the state’s premier ballet\, theatre\, and cultural performances. \n\n\n\nThis season\, let the American Repertory Ballet’s Nutcracker transport you and your loved ones into a world of holiday enchantment\, where classic music\, breathtaking dance\, and festive storytelling come together to create a timeless celebration of the season.
URL:https://explorenewjersey.org/event/american-repertory-ballets-nutcracker/
LOCATION:State Theatre New Jersey\, 15 Livingston Avenue \, NJ\, New Brunswick\, NJ\, 08901\, United States
CATEGORIES:Theatre
ATTACH;FMTTYPE=image/jpeg:https://explorenewjersey.org/wp-content/uploads/2025/07/6a13150d-ce44-417b-8679-d4a033b95eaa.jpeg
ORGANIZER;CN="State Theatre New Jersey":MAILTO:Info@stnj.org
END:VEVENT
BEGIN:VEVENT
DTSTART;TZID=America/New_York:20251221T150000
DTEND;TZID=America/New_York:20251221T183000
DTSTAMP:20260420T042137
CREATED:20251117T222340Z
LAST-MODIFIED:20251117T222353Z
UID:69124-1766329200-1766341800@explorenewjersey.org
SUMMARY:The Masterwork Chorus - Handel’s Messiah
DESCRIPTION:Experience the Holidays with Masterwork Chorus’ Full-Orchestra Performance of Handel’s Messiah \n\n\n\n\n\n\n\n\n\nNew Jersey music lovers have a rare opportunity to experience one of the season’s most iconic works when the Masterwork Chorus presents Handel’s Messiah on Sunday\, December 21 at 3:00 p.m. at the Concert Hall at Drew University. Under the expert direction of Music Director Martin Sedek\, this full-orchestra performance promises to deliver the grandeur\, precision\, and emotional depth that has made this masterpiece a cornerstone of holiday tradition. \n\n\n\nThis performance is among the few complete renditions of Handel’s Messiah presented in the state\, offering audiences the chance to hear every movement in its full orchestral and choral glory. The evening features the chorus performing alongside four acclaimed soloists\, whose expressive interpretations bring the dramatic narrative of the work to life. The synergy of choir\, orchestra\, and soloists creates a rich\, immersive experience that showcases the power and majesty of one of the most celebrated works in classical music. \n\n\n\nFor those seeking a more luxurious experience\, patrons seated in the Golden Circle will enjoy a pre-concert champagne reception\, providing a festive way to celebrate the season before the performance begins. This adds an extra layer of elegance and community engagement\, making the event as much a social occasion as a musical one. \n\n\n\nThe Masterwork Chorus has long been recognized for its artistic excellence and commitment to New Jersey audiences. Their holiday concerts are celebrated not just for technical mastery but for their ability to evoke emotion and connect with listeners on a profound level. The ensemble’s dedication ensures that every performance—especially one of this scale—maintains the highest musical standards while remaining accessible and inspiring to audiences of all ages. \n\n\n\nFor residents and visitors looking to explore more seasonal music offerings throughout the state\, New Jersey’s vibrant cultural scene is brimming with opportunities. From intimate choral performances to large-scale orchestral presentations\, the Garden State offers countless ways to enjoy live music this holiday season. Interested attendees can explore additional performances and events through the music scene to discover new ensembles\, seasonal concerts\, and festive programs across New Jersey. \n\n\n\nWhether you are a longtime fan of Handel or experiencing Messiah for the first time\, the Masterwork Chorus performance at Drew University promises to be a highlight of the holiday season. Combining orchestral richness\, choral brilliance\, and a festive atmosphere\, this concert offers an unforgettable celebration of music\, tradition\, and the spirit of the holidays in New Jersey.
URL:https://explorenewjersey.org/event/the-masterwork-chorus-handels-messiah/
LOCATION:The Concert Hall at Drew University\, 36 Madison Avenue\, Madison\, New Jersey\, 07940\, United States
CATEGORIES:Concerts,Music
ATTACH;FMTTYPE=image/jpeg:https://explorenewjersey.org/wp-content/uploads/2025/11/Messiah-Concert-Logo-2024-Square-gold-back.jpeg
END:VEVENT
BEGIN:VEVENT
DTSTART;TZID=America/New_York:20251221T200000
DTEND;TZID=America/New_York:20251221T233000
DTSTAMP:20260420T042137
CREATED:20251204T175229Z
LAST-MODIFIED:20251204T175303Z
UID:71198-1766347200-1766359800@explorenewjersey.org
SUMMARY:Elf\, The Musical
DESCRIPTION:Surflight Theatre Brings Holiday Magic Back with “Elf\, The Musical” \n\n\n\n\n\n\n\n\n\nSurflight Theatre in Beach Haven is once again spreading holiday cheer as it presents the beloved production “Elf\, The Musical”\, returning for the first time since 2018. Opening on November 29\, 2025\, the show will run through December 21\, offering families and theatergoers an immersive seasonal experience filled with laughter\, music\, and festive spirit. For those exploring New Jersey’s vibrant performing arts scene\, Explore New Jersey’s Theatre coverage highlights productions like this that bring communities together through storytelling and song. \n\n\n\nAdapted from the 2003 hit film\, “Elf\, The Musical” features a dynamic score by Matthew Sklar and Chad Beguelin\, with a book adapted by Bob Martin and Thomas Meehan. The story follows Buddy\, a human raised among elves at the North Pole\, as he journeys to New York City to find his biological father and discover his true identity. The show combines humor\, heart\, and holiday wonder\, making it an ideal choice for audiences of all ages looking to celebrate the season in style. \n\n\n\nSurflight Theatre’s production stands out for its high-energy performances and family-friendly staging. The cast brings the characters to life with infectious enthusiasm\, while creative set designs and festive costumes transport the audience directly into Buddy’s whimsical world. Special attention has been given to musical numbers\, ensuring that the lively choreography and memorable tunes create an engaging experience for theatergoers from the first note to the final curtain. \n\n\n\nThe return of “Elf\, The Musical” marks a significant moment for Surflight Theatre\, which has long been a hub for regional arts and holiday entertainment. With its sandy Beach Haven location and dedication to professional-quality productions\, the theater provides both locals and visitors with a unique venue where the magic of live performance is combined with the festive atmosphere of the Jersey Shore during the holiday season. \n\n\n\nTickets are available for performances throughout December\, and the production promises to deliver the same joyous energy that made the show a fan favorite in previous years. From its clever humor to its heartwarming message about family\, identity\, and the spirit of giving\, “Elf\, The Musical” at Surflight Theatre is a must-see for anyone seeking a holiday experience that blends professional theater with seasonal fun. \n\n\n\nFor families\, friends\, and visitors planning a memorable outing\, this production exemplifies the best of New Jersey’s holiday theatre offerings\, showcasing how local stages continue to bring beloved stories to life in engaging and creative ways.
URL:https://explorenewjersey.org/event/elf-the-musical-2/
LOCATION:Surflight Theatre\, 201 Engleside Ave.\, Beach Haven\, New Jersey\, United States
CATEGORIES:Theatre
ATTACH;FMTTYPE=image/webp:https://explorenewjersey.org/wp-content/uploads/2025/12/ELF_LOGO_300dpi.webp
END:VEVENT
END:VCALENDAR