BEGIN:VCALENDAR
VERSION:2.0
PRODID:-//Explore New Jersey - ECPv6.15.20//NONSGML v1.0//EN
CALSCALE:GREGORIAN
METHOD:PUBLISH
X-ORIGINAL-URL:https://explorenewjersey.org
X-WR-CALDESC:Events for Explore New Jersey
REFRESH-INTERVAL;VALUE=DURATION:PT1H
X-Robots-Tag:noindex
X-PUBLISHED-TTL:PT1H
BEGIN:VTIMEZONE
TZID:America/New_York
BEGIN:DAYLIGHT
TZOFFSETFROM:-0500
TZOFFSETTO:-0400
TZNAME:EDT
DTSTART:20240310T070000
END:DAYLIGHT
BEGIN:STANDARD
TZOFFSETFROM:-0400
TZOFFSETTO:-0500
TZNAME:EST
DTSTART:20241103T060000
END:STANDARD
BEGIN:DAYLIGHT
TZOFFSETFROM:-0500
TZOFFSETTO:-0400
TZNAME:EDT
DTSTART:20250309T070000
END:DAYLIGHT
BEGIN:STANDARD
TZOFFSETFROM:-0400
TZOFFSETTO:-0500
TZNAME:EST
DTSTART:20251102T060000
END:STANDARD
BEGIN:DAYLIGHT
TZOFFSETFROM:-0500
TZOFFSETTO:-0400
TZNAME:EDT
DTSTART:20260308T070000
END:DAYLIGHT
BEGIN:STANDARD
TZOFFSETFROM:-0400
TZOFFSETTO:-0500
TZNAME:EST
DTSTART:20261101T060000
END:STANDARD
END:VTIMEZONE
BEGIN:VEVENT
DTSTART;TZID=America/New_York:20251218T163000
DTEND;TZID=America/New_York:20251218T233000
DTSTAMP:20260420T085627
CREATED:20250919T133345Z
LAST-MODIFIED:20251001T182506Z
UID:59717-1766075400-1766100600@explorenewjersey.org
SUMMARY:An American Celtic Christmas featuring Jamison
DESCRIPTION:An American Celtic Christmas featuring Jamison at the Levoy Theatre \n\n\n\n\n\n\n\n\n\nDate & Time: Thursday\, December 18\, 2025 | 7:30 PM (Doors open at 6:30 PM)Location: Levoy Theatre\, New JerseyTicket Prices: $65 / $55 / $45Tickets on Sale: Public sale begins Wednesday\, September 17\, 2025 at 10:00 AM and runs through December 18\, 2025\, 9:30 PMSeating Chart: Available online \n\n\n\nPhiladelphia’s beloved Celtic rock band JAMISON returns to the Levoy Theatre for the 15th annual An American Celtic Christmas\, a high-energy holiday celebration combining traditional Irish music\, festive favorites\, and stunning Irish dance performances. The show also features special guest appearances by John Byrne\, Raymond Coleman\, Callie Pirog\, and other talented performers\, delivering a vibrant and unforgettable experience that captures the joy and spirit of the season. \n\n\n\nCelebrate the holidays with family and friends at this lively New Jersey tradition\, where world-class music and dance come together for a magical night of Celtic cheer. \n\n\n\nLearn more about the show here and explore Jamison’s music here.
URL:https://explorenewjersey.org/event/an-american-celtic-christmas-featuring-jamison/
LOCATION:The Levoy Theatre\, 130 N High Street\, Millville\, NJ\, 08332\, United States
CATEGORIES:Concerts,Music,Theatre
ATTACH;FMTTYPE=image/jpeg:https://explorenewjersey.org/wp-content/uploads/2025/09/ACC2025_WebSocial_1080x1080.jpg
ORGANIZER;CN="The Levoy Theatre Preservation Society":MAILTO:info@levoy.net
END:VEVENT
BEGIN:VEVENT
DTSTART;TZID=America/New_York:20251218T200000
DTEND;TZID=America/New_York:20251219T233000
DTSTAMP:20260420T085627
CREATED:20251213T131029Z
LAST-MODIFIED:20251213T131044Z
UID:73067-1766088000-1766187000@explorenewjersey.org
SUMMARY:The Smithereens with special guest vocalist John Cowsill
DESCRIPTION:New Jersey Rock Royalty Returns to Red Bank as The Smithereens Take the Vogel Stage \n\n\n\n\n\n\n\n\n\nFew bands are as inseparable from New Jersey’s musical identity as The Smithereens\, and this fall the Garden State rock institution brings its storied catalog back home with a special performance at the Vogel at the Basie Center Campus in Red Bank. Doors open at 7 p.m.\, with the show beginning at 8 p.m.\, promising an evening steeped in power pop history\, ringing guitars\, and songs that have soundtracked decades of American rock radio. \n\n\n\nFormed in Carteret in 1980\, The Smithereens emerged at a time when sharp songwriting and classic influences were colliding with modern edge. Pat DiNizio\, Jim Babjak\, Mike Mesaros\, and Dennis Diken crafted a sound that drew heavily from the melodic sophistication of the British Invasion while retaining the grit and immediacy of American garage rock. That balance became their signature\, earning the band a loyal following well beyond New Jersey and placing them firmly in the national conversation by the mid-1980s. \n\n\n\nTheir ascent accelerated with the release of Especially for You in 1986\, an album that produced enduring staples like “Blood and Roses” and “Behind the Wall of Sleep.” Those songs\, driven by chiming guitars and emotionally direct lyrics\, helped define an era of alternative-leaning rock that still felt rooted in classic songcraft. Subsequent releases\, including Green Thoughts and 11\, expanded their reach even further\, yielding hits such as “Only a Memory\,” “A Girl Like You\,” and “Too Much Passion.” During that period\, The Smithereens became fixtures on MTV and college radio while sharing stages with artists ranging from Tom Petty and Lou Reed to The Pretenders. \n\n\n\nLive performance has always been central to the band’s reputation\, and that reputation has only grown with time. Their shows are known for muscular arrangements\, tight harmonies\, and an unpretentious connection with the audience. Alongside their original work\, the band has also paid homage to its influences through full-album tributes to icons like The Beatles and The Who\, reinforcing their place within the broader lineage of classic and alternative rock. \n\n\n\nAfter the passing of Pat DiNizio in 2017\, Babjak\, Mesaros\, and Diken chose not to close the book on the band’s legacy. Instead\, they moved forward with purpose\, honoring their longtime frontman by keeping the music alive onstage. In recent years\, that approach has included collaborations with respected guest vocalists\, among them John Cowsill\, whose résumé includes both The Cowsills and a long tenure with The Beach Boys. His presence adds a fresh dynamic while remaining faithful to the spirit of the songs fans know by heart. Other guest vocalists have included Robin Wilson of Gin Blossoms and Marshall Crenshaw\, underscoring the band’s wide-ranging influence across generations of rock artists. \n\n\n\nThe Smithereens’ recorded legacy continues to evolve as well. Their most recent release\, The Lost Album\, brings previously unheard sessions featuring DiNizio to light\, offering fans a deeper look into the band’s creative history and reaffirming the timeless quality of their songwriting. \n\n\n\nSet against the intimate yet refined atmosphere of the Vogel\, this Red Bank performance is more than just a concert. It is a home-state celebration of a band that helped shape modern American rock while never losing its New Jersey roots. For longtime listeners and newcomers alike\, it is an opportunity to experience a living chapter of the state’s rich musical story\, one that remains an essential part of the broader New Jersey music scene highlighted throughout Explore New Jersey’s coverage of live music and artists.
URL:https://explorenewjersey.org/event/the-smithereens-with-john-cowsill/
LOCATION:The Vogel\, 99 Monmouth St\, Red Bank\, New Jersey\, 07701\, United States
CATEGORIES:Concerts,Music
ATTACH;FMTTYPE=image/jpeg:https://explorenewjersey.org/wp-content/uploads/2025/12/2025-12-19-The-Smithereens-VOGEL-EVENT-1024x538-1.jpg
ORGANIZER;CN="Count Basie Center for the Arts":MAILTO:boxoffice@thebasie.org
END:VEVENT
BEGIN:VEVENT
DTSTART;TZID=America/New_York:20251218T200000
DTEND;TZID=America/New_York:20251221T233000
DTSTAMP:20260420T085627
CREATED:20250724T134947Z
LAST-MODIFIED:20251211T182911Z
UID:47650-1766088000-1766359800@explorenewjersey.org
SUMMARY:American Repertory Ballet with a Live Orchestra & Choir Presents The Nutcracker
DESCRIPTION:Experience the Magic of the Holidays with American Repertory Ballet’s Nutcracker in New Jersey \n\n\n\n\n\n\n\n\n\nThe holiday season in New Jersey comes alive with the return of the American Repertory Ballet’s (ARB) cherished annual performance of The Nutcracker\, a celebration of music\, dance\, and festive wonder that has captivated audiences for six decades. This year\, families can experience the only ARB Nutcracker shows featuring a live orchestra and choir\, enhancing Tchaikovsky’s iconic score with the richness and energy of live performance. With more than 100 talented dancers bringing the story to life\, ARB’s production remains a signature holiday tradition for the region. \n\n\n\nAudiences are invited to follow Clara and her Nutcracker Prince as they embark on an unforgettable adventure. The tale unfolds with daring battles against larger-than-life mice\, heroic toy soldiers\, and a journey through a whirlwind of dancing snowflakes to the enchanting Land of Sweets. Each scene is elevated by ARB’s signature choreography\, blending technical precision with expressive artistry\, ensuring a performance that captivates both children and adults. \n\n\n\nARB’s The Nutcracker has earned its place as one of the nation’s longest-running productions\, maintaining continuity for 60 years while evolving to reflect both classical ballet excellence and modern theatrical flair. The addition of a live orchestra and choir in select performances offers audiences an immersive experience\, where the music resonates with unparalleled vitality\, complementing the dancers’ intricate movements and the vibrant holiday sets. \n\n\n\nThis production is not just a performance; it is a holiday event designed to create lasting family memories. Attendees can expect dazzling costumes\, elaborate stage design\, and an atmosphere that captures the joy and wonder of the season. It is an ideal outing for multigenerational families\, schools\, and community groups seeking a festive cultural experience in New Jersey. \n\n\n\nTickets to ARB’s Nutcracker performances offer a gateway into a world where imagination\, music\, and dance intertwine. The combination of high-caliber dancers\, live orchestral music\, and a story steeped in tradition makes this production a highlight of the holiday season in the region. Families looking to immerse themselves in the magic of ballet\, celebrate a long-standing artistic tradition\, and enjoy a memorable holiday outing will find ARB’s The Nutcracker an unmissable experience. \n\n\n\nFor those seeking additional information about show dates\, tickets\, and seasonal events in New Jersey’s performing arts scene\, Explore New Jersey’s theatre section provides comprehensive coverage\, spotlighting the state’s premier ballet\, theatre\, and cultural performances. \n\n\n\nThis season\, let the American Repertory Ballet’s Nutcracker transport you and your loved ones into a world of holiday enchantment\, where classic music\, breathtaking dance\, and festive storytelling come together to create a timeless celebration of the season.
URL:https://explorenewjersey.org/event/american-repertory-ballets-nutcracker/
LOCATION:State Theatre New Jersey\, 15 Livingston Avenue \, NJ\, New Brunswick\, NJ\, 08901\, United States
CATEGORIES:Theatre
ATTACH;FMTTYPE=image/jpeg:https://explorenewjersey.org/wp-content/uploads/2025/07/6a13150d-ce44-417b-8679-d4a033b95eaa.jpeg
ORGANIZER;CN="State Theatre New Jersey":MAILTO:Info@stnj.org
END:VEVENT
BEGIN:VEVENT
DTSTART;TZID=America/New_York:20251219T000000
DTEND;TZID=America/New_York:20251219T000000
DTSTAMP:20260420T085627
CREATED:20250728T133133Z
LAST-MODIFIED:20250728T150428Z
UID:49087-1766102400-1766102400@explorenewjersey.org
SUMMARY:Broadway for the Holidays 5
DESCRIPTION:It’s another year of the rousing review that celebrates the most wonderful time of the year: Broadway for the Holidays 5! Returning by popular demand\, this festive extravaganza brings the magic of Broadway to the holiday season like never before. Join OCC students and community members for a journey through the beloved songs and timeless classics that capture the spirit of the holidays. From heartwarming ballads to toe-tapping showstoppers\, Broadway for the Holidays 5 promises an unforgettable musical experience for the whole family.\nPerformances\nFriday\, December 12\, 2025 7:30 PM\nSaturday\, December 13\, 2025 2:00 PM\nSaturday\, December 13\, 2025 7:30 PM\nSunday\, December 14\, 2025 2:00 PM\nFriday\, December 19\, 2025 7:30 PM\nSaturday\, December 20\, 2025 2:00 PM\nSaturday\, December 20\, 2025 7:30 PM\nSunday\, December 21\, 2025 2:00 PM\nCast\nCheck back soon\nProduction Crew\nCheck back soon\nAbout the OCC Repertory Theater Company\nUnder the direction of Performing Arts Program Chair Paul Chalakani\, the mission of the OCC/REP is to create opportunities for college and community participation in various rich and diverse theatrical experiences. The Company seeks to engage\, entertain\, inspire\, and educate to enhance the cultural life of Ocean County College and the surrounding communities. The OCC/REP provides OCC students\, faculty\, staff\, and residents of neighboring communities the opportunity to attend and/or participate in quality performances of theatrical works – musicals and plays\, classical and modern\, traditional and experimental\, through a well-balanced theatrical season. Additionally\, the OCC/REP provides an environment for students of our performing arts program to apply what they are learning in a collaborative and encouraging format. The OCC/REP celebrates the power of the theatre to illuminate and mirror the human experience.\nThe OCC Repertory Theatre Company is funded\, in part\, by the Ocean County College Foundation.
URL:https://explorenewjersey.org/event/broadway-for-the-holidays-5-4/
LOCATION:New Jersey
CATEGORIES:Theatre
ATTACH;FMTTYPE=image/jpeg:https://explorenewjersey.org/wp-content/uploads/2025/07/Bway-for-the-Holidays-5-nm6XPB.jpg
END:VEVENT
END:VCALENDAR