BEGIN:VCALENDAR
VERSION:2.0
PRODID:-//Explore New Jersey - ECPv6.15.20//NONSGML v1.0//EN
CALSCALE:GREGORIAN
METHOD:PUBLISH
X-ORIGINAL-URL:https://explorenewjersey.org
X-WR-CALDESC:Events for Explore New Jersey
REFRESH-INTERVAL;VALUE=DURATION:PT1H
X-Robots-Tag:noindex
X-PUBLISHED-TTL:PT1H
BEGIN:VTIMEZONE
TZID:America/New_York
BEGIN:DAYLIGHT
TZOFFSETFROM:-0500
TZOFFSETTO:-0400
TZNAME:EDT
DTSTART:20240310T070000
END:DAYLIGHT
BEGIN:STANDARD
TZOFFSETFROM:-0400
TZOFFSETTO:-0500
TZNAME:EST
DTSTART:20241103T060000
END:STANDARD
BEGIN:DAYLIGHT
TZOFFSETFROM:-0500
TZOFFSETTO:-0400
TZNAME:EDT
DTSTART:20250309T070000
END:DAYLIGHT
BEGIN:STANDARD
TZOFFSETFROM:-0400
TZOFFSETTO:-0500
TZNAME:EST
DTSTART:20251102T060000
END:STANDARD
BEGIN:DAYLIGHT
TZOFFSETFROM:-0500
TZOFFSETTO:-0400
TZNAME:EDT
DTSTART:20260308T070000
END:DAYLIGHT
BEGIN:STANDARD
TZOFFSETFROM:-0400
TZOFFSETTO:-0500
TZNAME:EST
DTSTART:20261101T060000
END:STANDARD
END:VTIMEZONE
BEGIN:VEVENT
DTSTART;TZID=America/New_York:20251218T000000
DTEND;TZID=America/New_York:20251218T000000
DTSTAMP:20260420T042153
CREATED:20250728T132615Z
LAST-MODIFIED:20250728T151004Z
UID:48887-1766016000-1766016000@explorenewjersey.org
SUMMARY:The Maccabeats
DESCRIPTION:The Maccabeats have entertained and inspired hundreds of audiences worldwide\, from Alabama to New Zealand and everywhere in between. Using nothing more than the unadulterated human voice\, a clean-cut presentation\, and a little Jewish humor\, this unique group of singers connects with fans of all backgrounds and ages. Originally formed in 2007 as Yeshiva University’s student vocal group\, the Maccabeats have recently emerged as both Jewish music and a cappella phenomena\, with a large fanbase\, more than 20 million views on YouTube\, numerous TV appearances\, and proven success with four albums\, 2010′s Voices From The Heights\, 2012′s Out Of The Box\, 2014′s One Day More and 2015′s A Maccabeats Hanukkah. Though the Maccabeats aren’t your grandfather’s synagogue choir\, their ideology and identity play an important part in what they do. Strongly committed to the philosophy of Torah u-Madda\, the integration of traditional and secular wisdom\, the Maccabeats perform an eclectic array of Jewish\, American\, and Israeli songs. Their breakthrough piece\, Lecha Dodi\, is the epitome of this synthesis\, combining some of the most beloved words of Jewish liturgy with Leonard Cohen’s meaningful and melodic Hallelujah.
URL:https://explorenewjersey.org/event/the-maccabeats/
LOCATION:New Jersey
CATEGORIES:Concerts,Music
ATTACH;FMTTYPE=image/jpeg:https://explorenewjersey.org/wp-content/uploads/2025/07/The-Maccabeats-840-68ae784220-1p4OsF.jpg
END:VEVENT
END:VCALENDAR