BEGIN:VCALENDAR
VERSION:2.0
PRODID:-//Explore New Jersey - ECPv6.15.20//NONSGML v1.0//EN
CALSCALE:GREGORIAN
METHOD:PUBLISH
X-WR-CALNAME:Explore New Jersey
X-ORIGINAL-URL:https://explorenewjersey.org
X-WR-CALDESC:Events for Explore New Jersey
REFRESH-INTERVAL;VALUE=DURATION:PT1H
X-Robots-Tag:noindex
X-PUBLISHED-TTL:PT1H
BEGIN:VTIMEZONE
TZID:America/New_York
BEGIN:DAYLIGHT
TZOFFSETFROM:-0500
TZOFFSETTO:-0400
TZNAME:EDT
DTSTART:20240310T070000
END:DAYLIGHT
BEGIN:STANDARD
TZOFFSETFROM:-0400
TZOFFSETTO:-0500
TZNAME:EST
DTSTART:20241103T060000
END:STANDARD
BEGIN:DAYLIGHT
TZOFFSETFROM:-0500
TZOFFSETTO:-0400
TZNAME:EDT
DTSTART:20250309T070000
END:DAYLIGHT
BEGIN:STANDARD
TZOFFSETFROM:-0400
TZOFFSETTO:-0500
TZNAME:EST
DTSTART:20251102T060000
END:STANDARD
BEGIN:DAYLIGHT
TZOFFSETFROM:-0500
TZOFFSETTO:-0400
TZNAME:EDT
DTSTART:20260308T070000
END:DAYLIGHT
BEGIN:STANDARD
TZOFFSETFROM:-0400
TZOFFSETTO:-0500
TZNAME:EST
DTSTART:20261101T060000
END:STANDARD
END:VTIMEZONE
BEGIN:VEVENT
DTSTART;TZID=America/New_York:20251210T173000
DTEND;TZID=America/New_York:20251211T233000
DTSTAMP:20260420T085526
CREATED:20250915T112328Z
LAST-MODIFIED:20250915T112342Z
UID:58494-1765387800-1765495800@explorenewjersey.org
SUMMARY:Turing
DESCRIPTION:Turing: A Groundbreaking Opera at NJCU’s Center for the Arts \n\n\n\n\n\n\n\n\n\n📍 Margaret Williams Theatre\, Jersey City\, NJ📅 December 10–11\, 2025 \n\n\n\nDon’t miss this captivating opera\, Turing\, which takes you into the life of one of history’s most brilliant and tragic figures—Alan Turing. Presented by NJCU’s Center for the Arts\, this innovative production features music by William Antoniou and a libretto by Eamonn Farrell\, with direction by Marc G. Dalio. \n\n\n\n🎟️ Ticket Information:\n\n\n\n\nGeneral Admission: $25\n\n\n\nStudents & Seniors: $15\n\n\n\n\n\n\n\n\n📆 Performance Schedule\n\n\n\n\nThursday\, December 10\, 2025 – 7:30 PM\n\n\n\nFriday\, December 11\, 2025 – 7:30 PM\n\n\n\n\n\n\n\n\n🧠 About the Opera\n\n\n\nTuring is a haunting and powerful exploration of the life and legacy of Alan Turing\, the visionary mathematician whose work laid the foundation for modern computing and artificial intelligence. Set against the backdrop of World War II\, the opera portrays Turing’s pioneering work in cryptography\, where he created a machine that could decode critical German intelligence. \n\n\n\nThe opera also delves into Turing’s personal struggles\, including the tragic end of his engagement to a fellow cryptanalyst and the brief affair that led to his conviction for homosexual acts—ultimately leading to his untimely death. The opera’s digital format is a tribute to Turing’s groundbreaking vision for the future of machines and artificial intelligence. \n\n\n\nOriginally commissioned and performed by the National Opera of Greece\, Turing has since evolved into a cutting-edge production that will make its area premiere at NJCU. This expanded version features a collaboration between NJCU students and professional performers\, ensuring a truly unique experience for all audiences. \n\n\n\n\n\n\n\n🔗 Stay Connected\n\n\n\nStay up to date with NJCU’s incredible lineup of musical and theatrical performances. Follow us on Instagram and Facebook for the latest news\, previews\, and event details.
URL:https://explorenewjersey.org/event/turing/
LOCATION:Margaret Williams Theatre\, 2039 Kennedy Blvd\, Jersey City\, New Jersey\, 07305\, United States
CATEGORIES:Music,Theatre
ATTACH;FMTTYPE=image/jpeg:https://explorenewjersey.org/wp-content/uploads/2025/09/Turing.jpg
END:VEVENT
BEGIN:VEVENT
DTSTART;TZID=America/New_York:20251212T000000
DTEND;TZID=America/New_York:20251212T000000
DTSTAMP:20260420T085526
CREATED:20250728T125322Z
LAST-MODIFIED:20250728T150800Z
UID:48508-1765497600-1765497600@explorenewjersey.org
SUMMARY:Frontiers: The Ultimate Journey Tribute Band
DESCRIPTION:Frontiers is the world’s number one tribute to Journey. These five talented\, skilled\, renowned NYC area musicians recreate the music of Journey to perfection\, note for note – every nuance\, every iconic riff\, all the feels. Frontiers covers all the greatest hits of Journey\, taking you back to the late 70’s during Journey’s magical inception with Gregg Rolie and Neal Schon\, and to the 80’s with Steve Perry and Jonathan Cain\, when Journey’s timeless\, chart topping hits such as Open Arms\, Separate Ways\, Send Her My Love\, Faithfully\, Stone in Love\, Don’t Stop Believing\, Who’s Crying Now\, Anyway You Want It\, and many others ruled the airwaves. When both Steve Perry and Neal Schon proclaim to the world via Twitter that Frontiers is their favorite Journey tribute band\, you know you’re in for an authentic\, unmatched\, amazing experience.
URL:https://explorenewjersey.org/event/frontiers-the-ultimate-journey-tribute-band/
LOCATION:Count Basie Center for the Arts\, 99 Monmouth Street\, Red Bank\, New Jersey\, 07701\, United States
CATEGORIES:Concerts,Music
ATTACH;FMTTYPE=image/jpeg:https://explorenewjersey.org/wp-content/uploads/2025/07/2025-12-12-Frontiers-VOGEL-PREVIEW-jbm2ny.jpg
END:VEVENT
BEGIN:VEVENT
DTSTART;TZID=America/New_York:20251212T000000
DTEND;TZID=America/New_York:20251212T000000
DTSTAMP:20260420T085526
CREATED:20250728T132602Z
LAST-MODIFIED:20250728T151004Z
UID:48879-1765497600-1765497600@explorenewjersey.org
SUMMARY:JR De Guzman: Boyfriend Material
DESCRIPTION:Born in the Philippines and raised in California\, JR De Guzman began performing comedy while working as a music teacher\, which he quickly learned just meant teaching Taylor Swift songs to teenagers. He has entertained all over the world\, having performed for Stand-Up Tokyo and ROR Comedy in Japan\, the Jokers Ball in Indonesia\, the Badaboom Comedy Series in Amsterdam\, and countless other international shows. JR was the winner Stand-up NBC in 2016 & named as a prestigious “New Face” at Just for Laughs 2017. His quarter hour special on The Comedy Lineup is available on Netflix\, and he was named one of Variety’s Ten Comics to watch 2022. Catch him on tour in a city near you!
URL:https://explorenewjersey.org/event/jr-de-guzman-boyfriend-material/
LOCATION:New Jersey
CATEGORIES:Concerts,Music
ATTACH;FMTTYPE=image/jpeg:https://explorenewjersey.org/wp-content/uploads/2025/07/JR-De-Guzman-840-4701fdc33e-AGjejl.jpg
END:VEVENT
BEGIN:VEVENT
DTSTART;TZID=America/New_York:20251212T000000
DTEND;TZID=America/New_York:20251212T000000
DTSTAMP:20260420T085526
CREATED:20250728T132759Z
LAST-MODIFIED:20250728T161642Z
UID:48954-1765497600-1765497600@explorenewjersey.org
SUMMARY:Foreigner 4: The Deluxe Tour with Lou…
DESCRIPTION:As a frontrunner to the 50th Anniversary for Rock & Roll Hall of Famers FOREIGNER\, the band is excited to announce the September 12\, 2025 release of extensive super deluxe editions of its 1981 smash multi-Platinum album 4.\nRecorded at the famed Electric Lady Studios in New York City alongside respected music producer Mutt Lange (Def Leppard\, AC/DC)\, FOREIGNER 4 Deluxe Editions will be available in black vinyl and various other formats on September 12 via Rhino. The release will encompass newly remastered Stereo and ATMOS versions\, and a five-disc CD/Blu-ray package that includes a booklet containing over 60 exclusive photos\, five previously unreleased songs\, 14 early and alternate versions of various songs\, 15 instrumentals\, and 15 live performances from across the globe\, spanning the band’s 1981 and 1982 “4” World Tour. The digital deluxe release will also contain alternate versions\, instrumentals\, and live performances from the era\, including a previously unfinished track from the original F4 recording sessions that features the original band with a newly written and recorded verse by Lou Gramm. As the first single off of the project\, “Fool If You Love Him” is available today digitally.\nOriginally released July 2\, 1981\, 4 spent more weeks at #1 on the Billboard charts than any artist in the history of Atlantic Records\, including AC/DC\, The Rolling Stones and Led Zeppelin\, and went on to sell more than ten million albums worldwide. 4 is certified 6x Platinum in the U.S. (RIAA)\, 4x Platinum in Canada (Music Canada)\, Platinum in Australia (ARIA) and Germany (BVMI)\, and Gold in 7 additional countries. It spawned three Billboard Hot 100 singles: “Waiting For A Girl Like You”\, “Urgent”\, and “Juke Box Hero.” “Foreigner 4”\, as it’s often referred to\, is the fourth studio album by the legendary British-American rock band released during a time of transition as they famously went from six members to four.\nReleased in 1977\, FOREIGNER‘s debut album produced the hits “Feels Like The First Time\,” “Cold As Ice” and “Long\, Long Way From Home.” The albums Double Vision and Head Games followed with more hits including “Hot Blooded”\, “Blue Morning\, Blue Day” and “Dirty White Boy”. Then came “Urgent\,” “Juke Box Hero” and “Waiting For A Girl Like You.” Those songs helped give FOREIGNER‘s next album\, 4\, its impressive 10-week run at #1 on the Billboard chart. At the zenith of ‘80s sound\, FOREIGNER‘s fifth album\, Agent Provacateur\, gave the world the incredible #1 global hit\,” I Want To Know What Love Is.” This musical milestone followed the record-breaking song “Waiting For A Girl Like You.”
URL:https://explorenewjersey.org/event/foreigner-4-the-deluxe-tour-with-lou-2/
LOCATION:The Wellmont Theater\, 5 Seymour St\, Montclair\, NJ\, 07042\, United States
CATEGORIES:Concerts,Music
ATTACH;FMTTYPE=image/jpeg:https://explorenewjersey.org/wp-content/uploads/2025/07/Foreigner_300x464-bdmvtQ.jpg
END:VEVENT
BEGIN:VEVENT
DTSTART;TZID=America/New_York:20251212T000000
DTEND;TZID=America/New_York:20251212T000000
DTSTAMP:20260420T085526
CREATED:20250728T133115Z
LAST-MODIFIED:20250728T150429Z
UID:49077-1765497600-1765497600@explorenewjersey.org
SUMMARY:Broadway for the Holidays 5
DESCRIPTION:It’s another year of the rousing review that celebrates the most wonderful time of the year: Broadway for the Holidays 5! Returning by popular demand\, this festive extravaganza brings the magic of Broadway to the holiday season like never before. Join OCC students and community members for a journey through the beloved songs and timeless classics that capture the spirit of the holidays. From heartwarming ballads to toe-tapping showstoppers\, Broadway for the Holidays 5 promises an unforgettable musical experience for the whole family.\nPerformances\nFriday\, December 12\, 2025 7:30 PM\nSaturday\, December 13\, 2025 2:00 PM\nSaturday\, December 13\, 2025 7:30 PM\nSunday\, December 14\, 2025 2:00 PM\nFriday\, December 19\, 2025 7:30 PM\nSaturday\, December 20\, 2025 2:00 PM\nSaturday\, December 20\, 2025 7:30 PM\nSunday\, December 21\, 2025 2:00 PM\nCast\nCheck back soon\nProduction Crew\nCheck back soon\nAbout the OCC Repertory Theater Company\nUnder the direction of Performing Arts Program Chair Paul Chalakani\, the mission of the OCC/REP is to create opportunities for college and community participation in various rich and diverse theatrical experiences. The Company seeks to engage\, entertain\, inspire\, and educate to enhance the cultural life of Ocean County College and the surrounding communities. The OCC/REP provides OCC students\, faculty\, staff\, and residents of neighboring communities the opportunity to attend and/or participate in quality performances of theatrical works – musicals and plays\, classical and modern\, traditional and experimental\, through a well-balanced theatrical season. Additionally\, the OCC/REP provides an environment for students of our performing arts program to apply what they are learning in a collaborative and encouraging format. The OCC/REP celebrates the power of the theatre to illuminate and mirror the human experience.\nThe OCC Repertory Theatre Company is funded\, in part\, by the Ocean County College Foundation.
URL:https://explorenewjersey.org/event/broadway-for-the-holidays-5/
LOCATION:New Jersey
CATEGORIES:Theatre
ATTACH;FMTTYPE=image/jpeg:https://explorenewjersey.org/wp-content/uploads/2025/07/Bway-for-the-Holidays-5-nm6XPB.jpg
END:VEVENT
BEGIN:VEVENT
DTSTART;TZID=America/New_York:20251212T000000
DTEND;TZID=America/New_York:20251212T000000
DTSTAMP:20260420T085526
CREATED:20250808T185748Z
LAST-MODIFIED:20250808T200853Z
UID:51790-1765497600-1765497600@explorenewjersey.org
SUMMARY:New Jersey Ballet’s The Nutcracker With New Jersey Symphony
DESCRIPTION:New Jersey Ballet’s beloved annual tradition enchants youngsters and grown-ups alike with splendid dancing\, eye-popping special effects and a touch of holiday magic\, set to Tchaikovsky’s iconic score performed live by New Jersey Symphony. Ages 4+
URL:https://explorenewjersey.org/event/new-jersey-ballets-the-nutcracker-with-new-jersey-symphony/
LOCATION:New Jersey
CATEGORIES:Concerts,Music
ATTACH;FMTTYPE=image/jpeg:https://explorenewjersey.org/wp-content/uploads/2025/08/5-480x600-5HkKjc.jpg
END:VEVENT
END:VCALENDAR