BEGIN:VCALENDAR
VERSION:2.0
PRODID:-//Explore New Jersey - ECPv6.15.20//NONSGML v1.0//EN
CALSCALE:GREGORIAN
METHOD:PUBLISH
X-ORIGINAL-URL:https://explorenewjersey.org
X-WR-CALDESC:Events for Explore New Jersey
REFRESH-INTERVAL;VALUE=DURATION:PT1H
X-Robots-Tag:noindex
X-PUBLISHED-TTL:PT1H
BEGIN:VTIMEZONE
TZID:America/New_York
BEGIN:DAYLIGHT
TZOFFSETFROM:-0500
TZOFFSETTO:-0400
TZNAME:EDT
DTSTART:20240310T070000
END:DAYLIGHT
BEGIN:STANDARD
TZOFFSETFROM:-0400
TZOFFSETTO:-0500
TZNAME:EST
DTSTART:20241103T060000
END:STANDARD
BEGIN:DAYLIGHT
TZOFFSETFROM:-0500
TZOFFSETTO:-0400
TZNAME:EDT
DTSTART:20250309T070000
END:DAYLIGHT
BEGIN:STANDARD
TZOFFSETFROM:-0400
TZOFFSETTO:-0500
TZNAME:EST
DTSTART:20251102T060000
END:STANDARD
BEGIN:DAYLIGHT
TZOFFSETFROM:-0500
TZOFFSETTO:-0400
TZNAME:EDT
DTSTART:20260308T070000
END:DAYLIGHT
BEGIN:STANDARD
TZOFFSETFROM:-0400
TZOFFSETTO:-0500
TZNAME:EST
DTSTART:20261101T060000
END:STANDARD
END:VTIMEZONE
BEGIN:VEVENT
DTSTART;TZID=America/New_York:20251210T000000
DTEND;TZID=America/New_York:20251210T000000
DTSTAMP:20260420T041933
CREATED:20250728T132600Z
LAST-MODIFIED:20250728T151005Z
UID:48877-1765324800-1765324800@explorenewjersey.org
SUMMARY:Engelbert Humperdinck “A Winter World of Love”
DESCRIPTION:Engelbert Humperdinck “A Winter World of Love” A Night of Holiday Classics & Greatest Hits  Celebrate the season with the unmistakable voice of Engelbert Humperdinck in a special holiday concert that blends his timeless hits with beloved holiday classics. Whether you’re a longtime fan or discovering him for the first time\, this festive evening promises warmth\, nostalgia\, and musical magic that will make your holidays unforgettable. In a career spanning over 50 years\, Engelbert Humperdinck has sold over 140 million records\, including 64 gold albums and 35 platinum. He’s earned four Grammy® nominations\, a Golden Globe\, and stars on the Hollywood Walk of Fame\, Las Vegas Walk of Fame\, and Leicester Walk of Fame. He’s performed for royalty—including four appearances before the Queen—as well as for several U.S. presidents and numerous heads of state. From romantic ballads to movie themes\, disco\, rock\, and gospel\, his signature voice has captivated audiences around the world. Humperdinck burst onto the music scene alongside The Beatles and The Rolling Stones. The shy\, handsome singer quickly rose to global stardom\, even forming a close friendship with Elvis Presley—the two legends often covered each other’s songs. His breakout hit “Release Me” spent 56 consecutive weeks on the charts and topped the charts in 11 countries\, earning a place in the Guinness Book of Records. Decades later\, he continues to tour internationally to sold-out crowds\, taking joy in every performance. His music has endured across generations\, and his voice continues to inspire and connect. Songs like “A Man Without Love\,” featured in Marvel’s Moon Knight (Disney+)\, “Forever Blowing Bubbles” in Bullet Train (Sony Pictures)\, and “Quando\, Quando\, Quando” in Netflix’s The Umbrella Academy have introduced him to new fans around the globe. In recognition of his extraordinary contributions\, Humperdinck was appointed a Member of the Most Excellent Order of the British Empire (MBE)\, an honor presented by Her Royal Highness Princess Anne.
URL:https://explorenewjersey.org/event/engelbert-humperdinck-a-winter-world-of-love-2/
LOCATION:New Jersey
CATEGORIES:Concerts,Music
ATTACH;FMTTYPE=image/jpeg:https://explorenewjersey.org/wp-content/uploads/2025/07/englebert-840-5e9c19e497-m9WWOv.jpg
END:VEVENT
END:VCALENDAR