BEGIN:VCALENDAR
VERSION:2.0
PRODID:-//Explore New Jersey - ECPv6.15.20//NONSGML v1.0//EN
CALSCALE:GREGORIAN
METHOD:PUBLISH
X-WR-CALNAME:Explore New Jersey
X-ORIGINAL-URL:https://explorenewjersey.org
X-WR-CALDESC:Events for Explore New Jersey
REFRESH-INTERVAL;VALUE=DURATION:PT1H
X-Robots-Tag:noindex
X-PUBLISHED-TTL:PT1H
BEGIN:VTIMEZONE
TZID:America/New_York
BEGIN:DAYLIGHT
TZOFFSETFROM:-0500
TZOFFSETTO:-0400
TZNAME:EDT
DTSTART:20240310T070000
END:DAYLIGHT
BEGIN:STANDARD
TZOFFSETFROM:-0400
TZOFFSETTO:-0500
TZNAME:EST
DTSTART:20241103T060000
END:STANDARD
BEGIN:DAYLIGHT
TZOFFSETFROM:-0500
TZOFFSETTO:-0400
TZNAME:EDT
DTSTART:20250309T070000
END:DAYLIGHT
BEGIN:STANDARD
TZOFFSETFROM:-0400
TZOFFSETTO:-0500
TZNAME:EST
DTSTART:20251102T060000
END:STANDARD
BEGIN:DAYLIGHT
TZOFFSETFROM:-0500
TZOFFSETTO:-0400
TZNAME:EDT
DTSTART:20260308T070000
END:DAYLIGHT
BEGIN:STANDARD
TZOFFSETFROM:-0400
TZOFFSETTO:-0500
TZNAME:EST
DTSTART:20261101T060000
END:STANDARD
END:VTIMEZONE
BEGIN:VEVENT
DTSTART;TZID=America/New_York:20251207T150000
DTEND;TZID=America/New_York:20251207T183000
DTSTAMP:20260421T100141
CREATED:20251031T160401Z
LAST-MODIFIED:20251031T161147Z
UID:65987-1765119600-1765132200@explorenewjersey.org
SUMMARY:Carolyn Dorfman Dance in Dances of Hope
DESCRIPTION:Carolyn Dorfman Dance Unveils “The Hero Within” and Celebrates Community Through Movement\n\n\n\n\n\n\n\n\n\nThe renowned Carolyn Dorfman Dance Company continues to redefine the landscape of contemporary dance with its newest work-in-progress\, The Hero Within: Max Heller\, Mary Mills and Miracles\, part of the celebrated Legacy Project. This upcoming performance invites audiences to explore the interplay of joy\, pain\, and resilience\, demonstrating Dorfman’s signature ability to connect historical narratives to the present while inspiring hope for the future. \n\n\n\n“The Hero Within” offers a moving exploration of human endurance\, tracing personal and collective stories that highlight triumph over adversity. Through intricate choreography and emotionally charged movement\, the work honors figures such as Max Heller and Mary Mills\, weaving their journeys into a broader tapestry of courage and inspiration. Dorfman’s creative vision merges historical context with contemporary storytelling\, producing performances that resonate on both a personal and communal level. \n\n\n\nThe afternoon concludes with Waves\, one of Carolyn Dorfman Dance’s most beloved pieces. Known for its exuberance\, fluidity\, and sense of collective celebration\, Waves provides a perfect counterpoint to the reflective depth of The Hero Within\, leaving audiences uplifted and engaged. This piece showcases Dorfman’s characteristic bold athleticism and musicality\, reinforcing the company’s reputation for transforming the human experience into compelling visual artistry. \n\n\n\nCritics and audiences alike have praised Dorfman’s work for its ability to evoke deep emotion while maintaining a polished and visually stunning aesthetic. Dance enthusiast Lisa Jo Sagolla notes\, “While prioritizing the expression of human experience\, Dorfman’s work is also enthralling from a purely visual perspective…their pleasing\, polished dancing…brought joy\, tears\, understanding and hope.” This duality—balancing technical excellence with emotional resonance—remains a hallmark of the company’s approach to contemporary dance. \n\n\n\nFor visitors\, tickets are available through the box office at 973-971-3706\, with a nominal non-refundable $3 service fee per purchase. Programs are subject to change\, allowing the company to respond dynamically to the evolution of its works-in-progress while maintaining high artistic standards. \n\n\n\nCarolyn Dorfman Dance continues to serve as a beacon for innovative performance in New Jersey\, blending storytelling\, history\, and movement to create experiences that celebrate both our individuality and shared humanity. For additional information about performances\, workshops\, and other events\, visit Explore New Jersey’s Theatre section to stay updated on the state’s vibrant performing arts scene. \n\n\n\nBy bridging past and present\, and combining rigor with emotional storytelling\, Carolyn Dorfman Dance affirms the enduring power of dance to inspire reflection\, connection\, and hope.
URL:https://explorenewjersey.org/event/carolyn-dorfman-dance-in-dances-of-hope/
LOCATION:Bickford Theatre at Morris Museum\, 6 Normandy Heights Road \, NJ\, Morristown\, New Jersey\, 07960\, United States
CATEGORIES:Music,Theatre
ATTACH;FMTTYPE=image/jpeg:https://explorenewjersey.org/wp-content/uploads/2025/10/unnamed-1.jpg
ORGANIZER;CN="The Morris Museum":MAILTO:info@morrismuseum.org
END:VEVENT
BEGIN:VEVENT
DTSTART;TZID=America/New_York:20251207T163000
DTEND;TZID=America/New_York:20251207T233000
DTSTAMP:20260421T100141
CREATED:20251112T205920Z
LAST-MODIFIED:20251121T222320Z
UID:68262-1765125000-1765150200@explorenewjersey.org
SUMMARY:Prudential Center – A Racquet at The Rock Tennis Exhibition
DESCRIPTION:A Night of Tennis Excellence at The Rock: Alcaraz\, Tiafoe\, Anisimova\, and Raducanu Face Off \n\n\n\n\n\n\n\n\n\nTennis fans in New Jersey are in for an unforgettable evening as A Racquet at The Rock comes to the Prudential Center on Sunday\, December 7\, 2025. This one-night-only event promises world-class matchups featuring four of the sport’s brightest stars\, delivering high-energy play\, precision shot-making\, and thrilling rivalries under one roof. \n\n\n\nThe night kicks off with a women’s singles showdown that pits hometown hero Amanda Anisimova against the rising star Emma Raducanu. Anisimova\, a New Jersey native and currently ranked World No. 4\, has enjoyed a breakout 2025 season. Highlights include Grand Slam finals appearances at both Wimbledon and the US Open\, along with a hard-fought title win in Doha. Her aggressive baseline play\, sharp court awareness\, and signature forehand make her a formidable opponent on any surface. Raducanu\, meanwhile\, continues to turn heads since her historic 2021 US Open victory as the first qualifier ever to capture a Grand Slam. Known for her fearless style and dynamic movement\, Raducanu brings both skill and intensity to the court\, making this matchup a must-see for tennis enthusiasts. \n\n\n\nThe men’s singles contest is equally compelling\, featuring World No. 1 Carlos Alcaraz against the electrifying Frances Tiafoe. Alcaraz\, a six-time Grand Slam champion and the reigning US Open 2025 winner\, has quickly redefined modern tennis with his combination of explosive athleticism\, creative shot-making\, and mental toughness. Tiafoe\, an American favorite\, has enjoyed deep runs at major tournaments\, including a US Open semifinal and a Roland Garros quarterfinal. His ability to connect with the crowd and elevate his play under pressure ensures a match full of drama\, athleticism\, and unforgettable rallies. \n\n\n\nThis event is not just about top-tier tennis—it’s an immersive experience for fans. Premium seating options provide an elevated perspective of the action\, with suites accommodating intimate gatherings or corporate groups\, complete with curated food and beverage services. Whether you’re celebrating a special occasion or enjoying a night out with friends\, A Racquet at The Rock offers both world-class tennis and a sophisticated spectator experience. \n\n\n\nTickets are moving quickly for this rare opportunity to witness championship-level talent live at Prudential Center. For those eager to catch every ace\, rally\, and match point\, securing your spot early is essential. From emerging stars to global icons\, the night promises a display of athletic skill\, strategy\, and sheer determination. \n\n\n\nFor additional sports events\, live updates\, and information on athletic happenings across New Jersey\, Explore New Jersey Sports provides a comprehensive guide to the state’s most exciting competitions\, from professional leagues to elite exhibitions. \n\n\n\nDon’t miss this chance to watch Anisimova\, Raducanu\, Alcaraz\, and Tiafoe bring the intensity of the world’s top tennis courts straight to New Jersey—experience the thrill of live tennis at A Racquet at The Rock on December 7.
URL:https://explorenewjersey.org/event/a-racquet-at-the-rock-alcaraz-vs-tiafoe-anisimova-vs-raducanu/
LOCATION:The Prudential Center\, 25 Lafayette St\, Newark\, New Jersey\, 07102\, United States
CATEGORIES:Sports
ATTACH;FMTTYPE=image/png:https://explorenewjersey.org/wp-content/uploads/2025/11/223f8b19-0cdb-49b3-a7c3-70640c23c1f1.png
END:VEVENT
BEGIN:VEVENT
DTSTART;TZID=America/New_York:20251207T200000
DTEND;TZID=America/New_York:20251207T233000
DTSTAMP:20260421T100141
CREATED:20250804T114544Z
LAST-MODIFIED:20250804T114556Z
UID:50808-1765137600-1765150200@explorenewjersey.org
SUMMARY:Whiskey Myers & Friends
DESCRIPTION:Whiskey Myers & Friends: A Genre-Bending Live Experience in New Jersey \n\n\n\n\n\n\n\n\n\nPrepare for an electrifying night of raw\, authentic music as the renowned genre-bending band Whiskey Myers brings their captivating live show to New Jersey! Since their emergence in 2007\, this dynamic group has honed their craft through nearly 3\,000 live performances\, building an ever-growing legion of devoted fans. Their sound\, often described as a powerful fusion of Southern rock and gritty country\, has garnered comparisons to legendary acts like the Allman Brothers Band and Led Zeppelin. Rolling Stone notes their ability to strike “a perfect sweet spot” with their seminal combination of twang and crunchy rock & roll guitars. \n\n\n\nWhiskey Myers is on the cusp of a new chapter with their highly anticipated seventh studio album\, Whomp Whack Thunder\, set to arrive on September 26th via their own Wiggy Thump Records. Fans can already get a taste of the new music with their lead single\, “Time Bomb\,” available everywhere now. Their previous project\, Tornillo\, featured “John Wayne” as one of the most-played Americana songs of 2022\, while their breakthrough self-titled album\, Whiskey Myers\, soared to No. 1 on both the Country and Americana/Folk sales charts. It also impressively landed at No. 2 on the Rock chart and No. 6 on the all-genre Billboard 200. With over 2.5 million albums sold and more than 3.7 billion streams\, Whiskey Myers has achieved nine RIAA Gold\, Platinum\, and multi-Platinum certifications—a remarkable feat for an independent band. \n\n\n\nExperiencing Whiskey Myers live is more than just a concert; it’s an immersive journey into soulful sounds\, powerful storytelling\, and electrifying energy. Their deep connection with their audience is palpable\, creating an unforgettable atmosphere that celebrates true American music. \n\n\n\nTune In for More Unplugged Intimacy: \n\n\n\nFor those who appreciate the raw\, stripped-down essence of music\, be sure to tune in every Sunday at 8 PM ET to the Unplugged Radio Show on Live Jam. This special broadcast offers an unforgettable experience of pure musical intimacy and storytelling\, featuring six hours of non-stop\, unplugged performances. Immerse yourself in the soulful sounds of acoustic guitars\, heartfelt vocals\, and the raw emotion of live music\, a perfect complement to Whiskey Myers’ own authentic style. \n\n\n\nDon’t miss the chance to catch Whiskey Myers and their friends live in New Jersey\, or explore the incredible world of acoustic music with the Unplugged Radio Show. For more information on upcoming concerts\, events\, and other fantastic entertainment options across the state\, delve into our comprehensive directory: Explore New Jersey Entertainment.
URL:https://explorenewjersey.org/event/whiskey-myers-friends/
LOCATION:The Wellmont Theater\, 5 Seymour St\, Montclair\, NJ\, 07042\, United States
CATEGORIES:Concerts,Music
ATTACH;FMTTYPE=image/jpeg:https://explorenewjersey.org/wp-content/uploads/2025/08/6193f5c15cd32.jpg
END:VEVENT
BEGIN:VEVENT
DTSTART;TZID=America/New_York:20251207T200000
DTEND;TZID=America/New_York:20251207T233000
DTSTAMP:20260421T100141
CREATED:20251118T230128Z
LAST-MODIFIED:20251118T230141Z
UID:69203-1765137600-1765150200@explorenewjersey.org
SUMMARY:Cherish the Ladies Celtic Christmas
DESCRIPTION:A Celtic Holiday Homecoming: Cherish the Ladies Bring Their 40-Year Celebration to Rahway \n\n\n\n\n\n\n\n\n\nThe holiday season in New Jersey is about to get a burst of Irish energy as the Union County Performing Arts Center prepares to welcome back the renowned ensemble Cherish the Ladies for a special afternoon performance on Sunday\, December 7\, 2025\, from 3:00 p.m. to 5:00 p.m. Tickets range from $36 to $46\, and demand for this one-day holiday matinee is expected to run high as the group continues celebrating an extraordinary 40 years on the international music scene. \n\n\n\nCherish the Ladies has long been one of the world’s most influential voices in traditional Irish music. Their concerts blend time-honored folk traditions with contemporary arrangements\, rich vocal harmonies\, and the unmistakable rhythm of championship-level step dancing. For four decades\, the group has performed across the globe\, earning fans drawn to their powerful musicianship\, heartfelt storytelling\, and the cultural authenticity that anchors every show. Their annual Celtic Christmas program has become a treasured tradition for families and music lovers alike\, offering a warm\, spirited gateway into the holiday season. \n\n\n\nThe ensemble’s holiday production features a refreshing Celtic spin on beloved seasonal classics such as “Angels We Have Heard on High\,” “The First Noel\,” and “Silent Night.” Audiences can expect arrangements that highlight the band’s mastery of traditional instrumentation\, from whistles and fiddles to accordions and bodhráns\, paired with soaring vocals that give new life to familiar melodies. These interpretations stay true to the roots of Irish folk music while bringing a modern vibrancy that invites listeners of all ages to join in the celebration. \n\n\n\nA hallmark of any Cherish the Ladies performance is the dynamic stage presence of their step dancers\, and this year’s cast raises the bar even higher. Joining the tour are some of the most accomplished dancers in the world: James Greenan\, a World Champion and Principal Lead Dancer of Riverdance; two-time World Champion Tyler Schwartz; Joe Harrison\, whose résumé includes both Riverdance and Lord of the Dance; and Nathan Pilatzke\, a Canadian Champion and longtime collaborator of The Chieftains. Their athletic precision and expressive choreography transform the stage into a living\, moving tapestry of Irish culture\, adding visual firepower to the group’s already electrifying sound. \n\n\n\nThe Union County Performing Arts Center\, located at 1601 Irving Street in Rahway\, offers an intimate\, acoustically rich setting perfectly suited for a show that thrives on warmth\, connection\, and tradition. Families\, longtime fans\, and newcomers to Celtic music will find this performance accessible\, joyful\, and unforgettable. With New Jersey’s thriving arts and music audiences continuing to grow\, events like this serve as a reminder of the state’s vibrant cultural landscape—one you can explore even further through our ongoing coverage of live performances and the wider music community. \n\n\n\nCherish the Ladies’ return to Rahway is more than a concert—it’s an invitation to step into a world of festive Irish heritage\, to experience world-class musicians and dancers up close\, and to kick off the season with a celebration that feels both timeless and refreshingly new. Whether you’re attending with children\, teens\, or adults\, this is one of the region’s standout December events and a bright point on New Jersey’s holiday entertainment calendar. \n\n\n\nFor details or ticket information\, contact the UCPAC box office at 732-499-8226. The venue is easily accessible for audiences throughout the Northern New Jersey area. \n\n\n\nIf you’d like\, I can also create a second version optimized for a different keyword focus or add social media captions to pair with the article.
URL:https://explorenewjersey.org/event/cherish-the-ladies-celtic-christmas/
LOCATION:Union County Performing Arts Center (UCPAC)\, 1601 Irving St.\, Rahway\, NJ\, 07065\, United States
CATEGORIES:Concerts,Music
ATTACH;FMTTYPE=image/webp:https://explorenewjersey.org/wp-content/uploads/2025/11/CHERISH_THE_LADIES_2025_DIGITAL_1280x720.webp
END:VEVENT
BEGIN:VEVENT
DTSTART;TZID=America/New_York:20251208T000000
DTEND;TZID=America/New_York:20251208T000000
DTSTAMP:20260421T100141
CREATED:20250728T131057Z
LAST-MODIFIED:20250728T162222Z
UID:48690-1765152000-1765152000@explorenewjersey.org
SUMMARY:Schaumburg Boomers vs. Sussex County Miners
DESCRIPTION:Join us at Skylands Stadium on Tuesday August 12th\, 2025\, at 7:05 PM for the Miners Reading Program Celebration! Schools from across northern New Jersey will come together for a night of fun\, recognition\, and baseball as we celebrate students’ dedication to reading throughout the school year. Bring your teachers\, classmates\, and families to enjoy an exciting Sussex County Miners game while we honor the hard work and achievements of our young readers. Schools attending the night Franklin Borough School\, Hamburg School\, Hardyston Twp School\, Ogdensburg School\, Rockaway Twp Schools . Don’t miss this special night filled with great memories\, community spirit\, and\, of course\, baseball!
URL:https://explorenewjersey.org/event/schaumburg-boomers-vs-sussex-county-miners/
LOCATION:NJ
CATEGORIES:Baseball,Sports,Sussex County Miners
ATTACH;FMTTYPE=image/jpeg:https://explorenewjersey.org/wp-content/uploads/2025/07/image-Mkh8v4.tmp_.jpg
END:VEVENT
END:VCALENDAR