BEGIN:VCALENDAR
VERSION:2.0
PRODID:-//Explore New Jersey - ECPv6.15.20//NONSGML v1.0//EN
CALSCALE:GREGORIAN
METHOD:PUBLISH
X-WR-CALNAME:Explore New Jersey
X-ORIGINAL-URL:https://explorenewjersey.org
X-WR-CALDESC:Events for Explore New Jersey
REFRESH-INTERVAL;VALUE=DURATION:PT1H
X-Robots-Tag:noindex
X-PUBLISHED-TTL:PT1H
BEGIN:VTIMEZONE
TZID:America/New_York
BEGIN:DAYLIGHT
TZOFFSETFROM:-0500
TZOFFSETTO:-0400
TZNAME:EDT
DTSTART:20240310T070000
END:DAYLIGHT
BEGIN:STANDARD
TZOFFSETFROM:-0400
TZOFFSETTO:-0500
TZNAME:EST
DTSTART:20241103T060000
END:STANDARD
BEGIN:DAYLIGHT
TZOFFSETFROM:-0500
TZOFFSETTO:-0400
TZNAME:EDT
DTSTART:20250309T070000
END:DAYLIGHT
BEGIN:STANDARD
TZOFFSETFROM:-0400
TZOFFSETTO:-0500
TZNAME:EST
DTSTART:20251102T060000
END:STANDARD
BEGIN:DAYLIGHT
TZOFFSETFROM:-0500
TZOFFSETTO:-0400
TZNAME:EDT
DTSTART:20260308T070000
END:DAYLIGHT
BEGIN:STANDARD
TZOFFSETFROM:-0400
TZOFFSETTO:-0500
TZNAME:EST
DTSTART:20261101T060000
END:STANDARD
END:VTIMEZONE
BEGIN:VEVENT
DTSTART;TZID=America/New_York:20251120T173000
DTEND;TZID=America/New_York:20251206T233000
DTSTAMP:20260420T041846
CREATED:20251120T231736Z
LAST-MODIFIED:20251120T231748Z
UID:69481-1763659800-1765063800@explorenewjersey.org
SUMMARY:The Road Company Presents A Christmas Carol: The Musical
DESCRIPTION:Experience the Magic of the Holidays: The Road Company Brings A Christmas Carol: The Musical to Life in Williamstown \n\n\n\n\n\nThis holiday season\, The Road Company invites audiences to step into a timeless tale as they present A Christmas Carol: The Musical on weekends from November 20 through December 6\, 2025. This celebrated adaptation transforms Charles Dickens’ classic story of redemption\, generosity\, and holiday spirit into a vibrant\, music-filled theatrical experience. With an award-winning score by Alan Menken\, lyrics by Lynn Ahrens\, and a book by Ahrens and Mike Ockrent\, this production promises to captivate families and theater enthusiasts alike. \n\n\n\n\n\n\n\nSet in the heart of Williamstown at the Grand Theatre\, 405 S. Main Street\, the musical immerses audiences in the Victorian-era streets of London\, following Ebenezer Scrooge as he confronts his past\, present\, and future with the guidance of three unforgettable spirits. The Road Company’s production combines heartfelt performances\, festive music\, and stunning set designs to bring Dickens’ story to life\, ensuring that each performance radiates the warmth and joy synonymous with the holiday season. \n\n\n\nThe creative team behind this adaptation adds an extra layer of distinction to the production. Alan Menken\, celebrated for his iconic work on Disney classics like Beauty and the Beast and Aladdin\, provides a rich and dynamic musical score. Lynn Ahrens\, who collaborated on the book alongside Mike Ockrent\, also contributes the lyrics\, showcasing the storytelling finesse that has made musicals like Ragtime and Once On This Island enduring favorites. Their collaboration ensures that the emotional depth and festive spirit of Dickens’ narrative are matched by unforgettable melodies and lyrical craftsmanship. \n\n\n\nThe Road Company\, a non-profit community theater with over four decades of history in Williamstown\, has long been dedicated to enriching the local arts scene. Known for combining professional-level production quality with a strong sense of community engagement\, the company not only delivers exceptional theatrical performances but also fosters arts education and opportunities for aspiring performers in the region. Their commitment to cultivating local talent and making theater accessible to all has cemented their reputation as a cornerstone of New Jersey’s cultural landscape. \n\n\n\nPerformance times for A Christmas Carol: The Musical are scheduled for Thursday\, Friday\, and Saturday evenings at 8:00 PM\, with Sunday matinees at 2:00 PM. The show runs over three consecutive weekends on the following dates: November 20\, 21\, 22\, 23; November 27\, 28\, 29\, 30; and December 4\, 5\, 6\, 2025. Audiences are encouraged to check the Road Company’s website for the most up-to-date information and ticket availability to secure their seats early\, as holiday shows often sell quickly. \n\n\n\nBy combining a timeless story\, a talented cast\, and a celebrated creative team\, The Road Company’s production of A Christmas Carol: The Musical offers New Jersey audiences an enchanting way to celebrate the season. For more information about this and other local theatrical offerings\, visit Theatre in New Jersey to discover performances\, events\, and arts programming throughout the state. \n\n\n\nThis season\, Williamstown becomes a festive destination where music\, storytelling\, and holiday spirit merge\, inviting families and theater lovers to create lasting memories while enjoying one of literature’s most beloved holiday tales brought spectacularly to life on stage.
URL:https://explorenewjersey.org/event/the-road-company-presents-a-christmas-carol-the-musical/
LOCATION:Grand Theatre\, 405 S. Main Street\, Williamstown\, New Jersey\, 08094\, United States
CATEGORIES:Theatre
ATTACH;FMTTYPE=image/jpeg:https://explorenewjersey.org/wp-content/uploads/2025/11/Alley-Theatre-A-Christmas-Carol-472-1024x682-1.jpg
ORGANIZER;CN="The Road Company Theater Group":MAILTO:info@roadcompany.com
END:VEVENT
BEGIN:VEVENT
DTSTART;TZID=America/New_York:20251205T173000
DTEND;TZID=America/New_York:20251205T233000
DTSTAMP:20260420T041846
CREATED:20251015T184631Z
LAST-MODIFIED:20251015T184646Z
UID:63760-1764955800-1764977400@explorenewjersey.org
SUMMARY:Duel of the Decades: 80’s vs 90’s
DESCRIPTION:Duel of the Decades: 80’s vs 90’s | Friday\, December 5 – Interactive Live Music Show \n\n\n\n\n\n\n\n\n\nStep back in time and choose your era at Duel of the Decades: 80’s vs 90’s\, happening Friday\, December 5. This high-energy\, interactive live music competition pits two of the most iconic decades against each other in a night full of nostalgia\, hits\, and crowd-driven fun. \n\n\n\nWhether you groove to the synthesizers and neon vibes of the 1980s or rock out to the grunge and pop anthems of the 1990s\, this event gives you the power to pick the winner. Using your mobile device\, you can cast your vote in real time to decide which decade takes the crown\, making every song\, performance\, and audience cheer part of the ultimate showdown. \n\n\n\n📍 Date: Friday\, December 5💡 What to Expect: \n\n\n\n\nA lively\, interactive music competition between the 80’s and 90’s\n\n\n\nLive performances featuring the biggest hits from both decades\n\n\n\nAudience participation through mobile voting to determine the winning era\n\n\n\nA fun\, nostalgic experience for music lovers of all ages\n\n\n\n\nPerfect for fans of retro music\, pop culture enthusiasts\, and anyone looking for an engaging\, energetic evening\, Duel of the Decades promises laughter\, sing-alongs\, and a chance to relive the best moments of two unforgettable decades in music history.
URL:https://explorenewjersey.org/event/duel-of-the-decades-80s-vs-90s-friday-december-5-interactive-live-music-show/
LOCATION:The Wellmont Theater\, 5 Seymour St\, Montclair\, NJ\, 07042\, United States
END:VEVENT
BEGIN:VEVENT
DTSTART;TZID=America/New_York:20251205T200000
DTEND;TZID=America/New_York:20251205T233000
DTSTAMP:20260420T041846
CREATED:20250906T161520Z
LAST-MODIFIED:20250906T161607Z
UID:57247-1764964800-1764977400@explorenewjersey.org
SUMMARY:White Eagle Hall Presents Golden Smog
DESCRIPTION:📅White Eagle Hall – Golden Smog Live in Jersey City \n\n\n\n\n\n\n\n\n\nEvent Date: Friday\, December 5\, 2025Location: White Eagle Hall\, Jersey City\, NJDoors Open: 7:00 PM | Showtime: 8:00 PMAges: 18+ | Status: Sold Out \n\n\n\nGolden Smog\, the legendary supergroup rooted in the Minneapolis music scene of the late 1980s\, brings its rare live performance to White Eagle Hall this December. Known for blending members of iconic bands including Wilco\, The Jayhawks\, Soul Asylum\, and Run Westy Run\, Golden Smog has cultivated a devoted following with its Americana-infused sound\, playful spirit\, and deeply melodic originals. \n\n\n\nThe Fall 2025 lineup features Jeff Tweedy (Wilco)\, Gary Louris (The Jayhawks)\, Dan Murphy (Soul Asylum)\, Kraig Johnson (Run Westy Run)\, and Steve Gorman (Black Crowes)\, reuniting much of the classic lineup that made the mid-90s albums Down By the Old Mainstream and Weird Tales essential listening. From their humble beginnings as a side-project cover band with pun-filled antics\, Golden Smog has evolved into a studio and live act that balances humor\, heartfelt songwriting\, and masterful musicianship. \n\n\n\nGolden Smog’s live shows are rare events\, making this Jersey City performance particularly special. Past appearances\, including sold-out shows at First Avenue in Minneapolis and select opening slots for The Jayhawks\, have demonstrated the group’s ability to recreate their signature sound while keeping each performance unique. Fans can expect a mix of classic hits\, deep cuts\, and electrifying instrumentation that spans the band’s celebrated decades-long history. \n\n\n\nFor concertgoers and music enthusiasts looking to experience this Americana supergroup up close\, Golden Smog at White Eagle Hall promises a night of nostalgia\, musical craftsmanship\, and unforgettable live energy. Visit the Explore New Jersey Directory for more information on upcoming shows and events across the state. \n\n\n\n🎟️ Tickets\, Merchandise & Info:\n\n\n\nAccessible seating available for all guests. \n\n\n\nClick here to go to the Merch Stand in The Vending Lot.
URL:https://explorenewjersey.org/event/white-eagle-hall-presents-golden-smog/
LOCATION:White Eagle Hall\, 337 Newark Avenue \, NJ\, Jersey City\, New Jersey\, 07302\, United States
CATEGORIES:Concerts,Music
ATTACH;FMTTYPE=image/webp:https://explorenewjersey.org/wp-content/uploads/2025/09/Golden-Smog.webp
ORGANIZER;CN="White Eagle Hall":MAILTO:info@wehjc.com
END:VEVENT
BEGIN:VEVENT
DTSTART;TZID=America/New_York:20251205T200000
DTEND;TZID=America/New_York:20251205T233000
DTSTAMP:20260420T041846
CREATED:20250906T163208Z
LAST-MODIFIED:20250906T163209Z
UID:57260-1764964800-1764977400@explorenewjersey.org
SUMMARY:White Eagle Hall Presents ONE PACT: The New Wave 2025 North America Tour
DESCRIPTION:White Eagle Hall – ONE PACT: The New Wave 2025 North America Tour \n\n\n\n\n\n\n\n\n\nEvent Date: Sunday\, September 28\, 2025Venue: White Eagle Hall\, Jersey City\, NJDoors Open: 5:30 PM | Showtime: 6:00 PMTickets: General Admission $66.18 (limit 10 per customer) \n\n\n\nGlobal K-pop sensation ONE PACT (원팩트) is bringing their highly anticipated New Wave 2025 North America Tour to White Eagle Hall in Jersey City. Fans will get to experience the group’s explosive performances\, genre-bending sound\, and powerful stage presence up close at one of New Jersey’s most dynamic live music venues. \n\n\n\nThe five-member group—Jongwoo\, Jay Chang\, Seongmin\, TAG\, and Yedam—first rose to prominence on the hit survival series Boys Planet\, where their undeniable charisma and vocal power quickly captured international attention. Since then\, they’ve established themselves as one of K-pop’s most exciting self-produced acts\, with members contributing directly to songwriting\, composition\, and production. \n\n\n\nTheir latest release\, the fourth mini-album One Fact\, dropped on July 22\, 2025\, delivering eight tracks that balance high-energy group anthems with intimate solo performances. The title track\, “Yes\, No\, Maybe\,” has already made waves across streaming platforms and live stages\, highlighting the group’s growth and versatility. With TAG leading as the main producer and every member actively shaping their artistic direction\, ONE PACT continues to set themselves apart in the global K-pop landscape. \n\n\n\nThis one-night-only New Jersey stop promises a setlist packed with fan favorites\, new music\, and the unforgettable live energy that has earned ONE PACT a loyal international following. \n\n\n\nSecure tickets early to be part of this landmark tour stop and celebrate the next chapter of ONE PACT’s journey with fellow fans. \n\n\n\nDiscover more upcoming concerts and cultural events across the state in the Explore New Jersey Directory. \n\n\n\n🎟️ Tickets\, Merchandise & Info:\n\n\n\nAccessible seating available for all guests. \n\n\n\nClick here to go to the Merch Stand in The Vending Lot.
URL:https://explorenewjersey.org/event/white-eagle-hall-presents-one-pact-the-new-wave-2025-north-america-tour/
LOCATION:White Eagle Hall\, 337 Newark Avenue \, NJ\, Jersey City\, New Jersey\, 07302\, United States
CATEGORIES:Concerts,Music
ATTACH;FMTTYPE=image/webp:https://explorenewjersey.org/wp-content/uploads/2025/09/The-New-Wave.webp
ORGANIZER;CN="White Eagle Hall":MAILTO:info@wehjc.com
END:VEVENT
BEGIN:VEVENT
DTSTART;TZID=America/New_York:20251205T200000
DTEND;TZID=America/New_York:20251205T233000
DTSTAMP:20260420T041846
CREATED:20251201T162143Z
LAST-MODIFIED:20251201T162156Z
UID:70806-1764964800-1764977400@explorenewjersey.org
SUMMARY:Gold Rush: The Ultimate Neil Young Celebration
DESCRIPTION:Brook Arts Center to Host Gold Rush: The Ultimate Neil Young Celebration \n\n\n\n\n\n\n\n\n\nThis Friday\, December 5th at 8:00 PM\, music lovers will have a chance to step into a night of timeless rock and folk as the Brook Arts Center presents Gold Rush: The Ultimate Neil Young Celebration. This one-night-only performance promises to transport fans through the decades of Neil Young’s storied career\, from intimate ballads to high-energy rock performances. \n\n\n\nGold Rush is more than a tribute — it’s an immersive experience. Attendees will feel as if they are transported to iconic live performances\, from Young’s raw and heartfelt set at Massey Hall in 1971 to the electrifying energy with Crazy Horse at The Fillmore East in 1970. The show captures the essence of Neil Young’s music\, allowing fans to relive the magic of his most influential albums and songs while introducing new listeners to his rich\, emotive sound. \n\n\n\nThe evening promises a full spectrum of Young’s work\, from contemplative acoustic numbers that showcase his lyrical depth to soaring rock anthems that defined a generation. Whether it’s the poignant storytelling in “Heart of Gold” or the electrifying guitar-driven intensity of “Cinnamon Girl\,” Gold Rush brings each song to life with authenticity and passion\, delivering a performance that resonates long after the final chord. \n\n\n\nFor fans looking to make it a memorable night out\, the Brook Arts Center is offering special ticket bundle deals through November 30. Buy two tickets and receive 10% off with the promo code STACKANDSAVE10\, purchase three for 15% off with STACKANDSAVE15\, or pick up four tickets for a 25% discount using STACKANDSAVE25. These deals are perfect for friends and families looking to share the experience together while enjoying some savings. \n\n\n\nTickets are available now\, and given the popularity of this celebration\, fans are encouraged to secure their seats early. Gold Rush is a rare opportunity to immerse yourself in Neil Young’s unparalleled legacy in a live setting\, with musicians delivering a performance that honors the spirit\, emotion\, and revolutionary energy of one of rock’s most iconic artists. \n\n\n\nFor more information on this event and other live music experiences in New Jersey\, check out our music section to stay updated on upcoming shows\, concerts\, and performances across the state. \n\n\n\nThis special evening at the Brook Arts Center offers both longtime Neil Young enthusiasts and newcomers a chance to experience the depth and excitement of his music in a setting that celebrates the magic of live performance.
URL:https://explorenewjersey.org/event/gold-rush-the-ultimate-neil-young-celebration/
LOCATION:Brook Arts Center\, 10 Hamilton Street\, Bound Brook\, New Jersey\, 08805\, United States
CATEGORIES:Concerts,Music
ATTACH;FMTTYPE=image/png:https://explorenewjersey.org/wp-content/uploads/2025/12/KaKS0qaZ6RpbPotgnR6WuhOt4cTnziAj.png
END:VEVENT
BEGIN:VEVENT
DTSTART;TZID=America/New_York:20251205T200000
DTEND;TZID=America/New_York:20251206T233000
DTSTAMP:20260420T041846
CREATED:20251204T213832Z
LAST-MODIFIED:20251204T214017Z
UID:71280-1764964800-1765063800@explorenewjersey.org
SUMMARY:Frosted: A Frozen Fairy Tale Parody
DESCRIPTION:CDC’s “Frosted: A Frozen Fairy Tale Parody” Brings Holiday Cheer and Laughter Back to the Stage \n\n\n\n\n\n\n\n\n\nNew Jersey theatergoers are in for a festive treat this December as CDC Theatre revives its hit holiday musical\, “Frosted: A Frozen Fairy Tale Parody”\, a laugh-packed\, interactive show designed for audiences of all ages. This vibrant parody musical has quickly become a seasonal favorite\, combining witty humor\, catchy songs\, and a unique New Jersey twist that keeps families coming back year after year. \n\n\n\n“Frosted” takes inspiration from Hans Christian Andersen’s classic tale\, The Snow Queen\, but spins it into a delightfully irreverent story full of playful nods to pop culture. From snowpeople and whimsical princesses to nods at 80s and 90s music\, the musical weaves together familiar holiday elements with local humor and a playful look at life in New Jersey. The result is a show that resonates with both children and adults\, offering moments that will have the whole family laughing and singing along. \n\n\n\nThe production is known for its high-energy performances\, interactive elements\, and colorful\, imaginative sets that immerse audiences in a winter wonderland like no other. Whether it’s clever parodies of beloved songs\, humorous references to regional quirks\, or surprise twists in the storyline\, “Frosted” keeps viewers engaged from start to finish. Its appeal lies in its ability to balance humor for adults while maintaining a magical\, family-friendly atmosphere for younger attendees. \n\n\n\nCDC Theatre’s holiday tradition with “Frosted” has grown into more than just a seasonal performance—it’s a shared experience that brings communities together to celebrate creativity\, music\, and laughter. The show also highlights the company’s commitment to accessible\, entertaining theater\, giving local audiences a chance to experience live performances that blend professional talent with community spirit. \n\n\n\nFor those looking to explore more live stage performances and holiday entertainment across New Jersey\, Explore New Jersey’s theatre section offers a comprehensive guide to the state’s vibrant performing arts scene\, from family musicals and comedies to dramas and interactive productions. \n\n\n\nThis December\, “Frosted” promises an unforgettable journey filled with music\, humor\, and heart—a perfect way to celebrate the season and create lasting memories with family and friends. Audiences can expect a joyous ride through a fantastical winter landscape where everyone\, no matter their age\, leaves with a smile. \n\n\n\nCAST\n\n\n\nNanny PlotzQueen AdelePrincess Hannah​Flakey​Loofah​The Puke of Sniffleton​​Ben​Ann​Jerry​Real-Fun-Zel​Mrs. Beauty d’BeastBariel\, the Little Mermaid​Prince DandiniThe Royal Court of Annandale:Dania DavieElyssa LoughlinAlissa ValianteJessi BadenBetty MackJames HahnElvin YangAmi MartinoSean KellyJordyn SavaKaren CarraturaMelyssa SearcyBrian NigroAndrea Lopez\, Jenna R.\, Meghan Albright
URL:https://explorenewjersey.org/event/frosted-a-frozen-fairy-tale-parody/
LOCATION:CDC Theatre\, 78 Winans Avenue\, \, NJ\, Cranford\, New Jersey\, 07016\, United States
ATTACH;FMTTYPE=image/png:https://explorenewjersey.org/wp-content/uploads/2025/12/frostedforsite.png
END:VEVENT
BEGIN:VEVENT
DTSTART;TZID=America/New_York:20251206T000000
DTEND;TZID=America/New_York:20251206T000000
DTSTAMP:20260420T041846
CREATED:20250724T134933Z
LAST-MODIFIED:20250728T124443Z
UID:47641-1764979200-1764979200@explorenewjersey.org
SUMMARY:Mannheim Steamroller Christmas by Chip Davis
DESCRIPTION:Mannheim Steamroller Christmas by Chip Davis has been America’s favorite holiday tradition for 40 years! Grammy® Award-winner Chip Davis has created a show that features Mannheim Steamroller Christmas classics in the distinctive Mannheim sound. The program includes 15 musicians playing more than 20 instruments against a backdrop of dazzling multimedia effects—capturing the spirit of the season in an immersive yet intimate setting.\nAbout Chip Davis\nA visionary musician and businessman\, Chip Davis is behind a remarkable body of work now spanning five decades. Since founding Mannheim Steamroller and American Gramaphone Records (AGR) in 1974\, Davis has written\, arranged\, and recorded over 35 albums\, highlighted by the RIAA multi-platinum certified Mannheim Steamroller catalog. The best-selling Christmas music artist in history with over 31 million Christmas albums sold\, the group celebrates the 40th Anniversary of its annual holiday tour in 2025\, making it the longest running tour in the entertainment industry.\nDavis has achieved worldwide sales of all album titles in excess of 41 million\, with four multi-platinum\, eight platinum\, and 19 gold certifications in the U.S. alone. Furthermore\, Davis is the entrepreneur behind the hugely successful Mannheim Steamroller product line\, author of nine children’s books\, an amateur astronomer\, and dedicated philanthropist.\nThe man behind Mannheim was born Louis F. Davis\, Jr. in the archetypal small town of Hamler\, OH (Pop. 500)\, the son of a family to whom music and “a sensitivity to nature” were integral. He graduated from the University of Michigan in 1969 with mastery in bassoon and percussion before taking on a job at the Omaha\, NE\, ad agency\, Bozell & Jacobs. In 1974\, Davis and fellow ad exec Bill Fries teamed up to create a fictional truck driver named C.W. McCall for a series of Clio Award-winning commercials. A string of hit albums and top 40 singles followed\, including the RIAA gold certified #1 classic\, “Convoy.”\nThe success of C.W. McCall allowed Davis to focus on his own original music. He dubbed his new band Mannheim Steamroller—a play on the 18th-century musical technique known as the “Mannheim crescendo”—and in 1975 recorded Fresh Aire\, a landmark work melding elements of classical\, rock\, and pop into something altogether unique. Foiled by the industry’s inability to classify a genre for the album\, Davis decided to distribute and sell Fresh Aire on his own and AGR was born.\nDavis employed innovative marketing techniques to spread his “18th Century Classical Rock\,” and Fresh Aire eventually found its way onto record store shelves everywhere\, fitted with the newly created classification “New Age.” Each consecutive album in the Fresh Aire series earned multi-million album sales\, countless fans\, and\, with Fresh Aire 7\, the 1991 Grammy® Award for Best New Age Album.\nIn 1984\, Davis had the idea to reinvigorate traditional carols and Yuletide staples via Mannheim Steamroller’s always-eclectic sonic approach. Mannheim Steamroller Christmas proved a phenomenon\, the band’s first to reach the Billboard 200 album chart on its way to six-time RIAA platinum certification. A Fresh Aire Christmas followed in 1988\, achieving six-time platinum certification and ultimately surpassing its monumentally successful predecessor to be declared the sixth best-selling holiday album of the SoundScan era.\nFurther Christmas collections resulted in cumulative Christmas album sales in excess of 31 million. The Mannheim Steamroller Christmas Tour quickly became as much a Yuletide tradition; today two separate groups perform across the country.\nMannheim Steamroller’s An American Christmas\, a 12-hour nationally broadcast radio special heard annually on over 450 stations across the U.S.\nThe steadfastly autonomous AGR label has released works by an array of like-minded artists. For their part\, Mannheim Steamroller has observed additional holidays such as Halloween and July Fourth while also exploring inspirations spanning the music of Walt Disney films to the majesty of Yellowstone National Park.\nAdditionally\, Davis is the creator of the patented ambient therapy system\, inspired by his own neck surgery in 2004. The system enhances healing by reducing stress\, anxiety\, and other barriers to recovery\, combining musical content and four-channel surround sound algorithms. The ambient therapy system is used in medical facilities such as Minnesota’s Mayo Clinic and The National Intrepid Center for Excellence in Bethesda\, MD\, which serves wounded warriors.\nDavis’ lifelong interest in astronomy has led to an extended relationship with NASA\, including several trips to Kennedy Space Center in Cocoa Beach and Johnson Space Center in Houston\, where his team recorded space shuttle launches and landings that have been characterized as “the most accurate ever made.”\nThe indefatigable Davis still travels the country on behalf of AGR but prefers to spend his time on his 150-acre farm outside Omaha. He has three children.\nDavis determinedly carries on each day with the original spirit of creative drive and invention that first inspired him. “There wasn’t any business plan when I started American Gramaphone\,” he says. “There wasn’t any target I was looking at. It’s always been about just moving forward and doing things I like to do.”
URL:https://explorenewjersey.org/event/mannheim-steamroller-christmas-by-chip-davis/
LOCATION:State Theatre New Jersey\, 15 Livingston Avenue \, NJ\, New Brunswick\, NJ\, 08901\, United States
CATEGORIES:Concerts
ATTACH;FMTTYPE=image/jpeg:https://explorenewjersey.org/wp-content/uploads/2025/07/25_12_06_mannheimsteamroller2_615x395-2cd6790308-KJYme1.jpg
END:VEVENT
BEGIN:VEVENT
DTSTART;TZID=America/New_York:20251206T000000
DTEND;TZID=America/New_York:20251206T000000
DTSTAMP:20260420T041846
CREATED:20250728T133114Z
LAST-MODIFIED:20250728T133114Z
UID:49076-1764979200-1764979200@explorenewjersey.org
SUMMARY:OCC Concert Band: The Most Wonderful Time of the Year
DESCRIPTION:Come along for an unforgettable evening of music\, cheer\, and holiday spirit as the OCC Concert Band presents The Most Wonderful Time of the Year. This festive concert brings together a dazzling collection of your favorite seasonal tunes performed by the talented members of the OCC Concert Band. From classic carols to contemporary arrangements\, plus a visit from Santa\, the concert will fill the air with warmth\, joy\, and celebration.
URL:https://explorenewjersey.org/event/occ-concert-band-the-most-wonderful-time-of-the-year/
LOCATION:New Jersey
ATTACH;FMTTYPE=image/jpeg:https://explorenewjersey.org/wp-content/uploads/2025/07/Band-holiday-23-1920X1080-Feature-4KTsqP.jpg
END:VEVENT
BEGIN:VEVENT
DTSTART;TZID=America/New_York:20251206T000000
DTEND;TZID=America/New_York:20251206T000000
DTSTAMP:20260420T041846
CREATED:20250806T152453Z
LAST-MODIFIED:20250808T200353Z
UID:51248-1764979200-1764979200@explorenewjersey.org
SUMMARY:Squirrel Nut Zippers Christmas Caravan
DESCRIPTION:The Squirrel Nut Zippers bring their joyous\, raucous Christmas CaravanTour back again performing all of the hits from Holidays past. From heartwarming ballads to boisterous dance tunes\, the band conjures an atmosphere nestled somewhere between the wondrous lights of Christmas and the backroom din of a speakeasy. This show is a must-see for any true music lover. The Christmas Caravan show features holiday hits and classics\, selections from the Squirrel Nut Zipper’s holiday album Christmas Caravan\, and the finest new and old Squirrel Nut Zippers catalog music. Inspired by 1920s jazz\, klezmer and old time music\, SNZ’s endlessly curious and innovative leader Jimbo Mathus has concocted a show truly unique and original. This unique blend is on full display with the Christmas Caravan show\, which has increasingly grown in popularity\, selling out venues throughout the United States.
URL:https://explorenewjersey.org/event/squirrel-nut-zippers-christmas-caravan/
LOCATION:The Newton Theatre\, 234 Spring St\, \, NJ\, Newton\, NJ\, 07860\, United States
CATEGORIES:Concerts,Music
ATTACH;FMTTYPE=image/jpeg:https://explorenewjersey.org/wp-content/uploads/2025/08/7479b163-7f76-4d80-85af-40830d9d80a3-ZbK2dV.jpg
END:VEVENT
BEGIN:VEVENT
DTSTART;TZID=America/New_York:20251206T000000
DTEND;TZID=America/New_York:20251206T000000
DTSTAMP:20260420T041846
CREATED:20250808T185746Z
LAST-MODIFIED:20250808T200854Z
UID:51786-1764979200-1764979200@explorenewjersey.org
SUMMARY:Chris Isaak
DESCRIPTION:Spend the holidays with platinum-selling and Grammy-nominated singer and actor Chris Isaak and his longtime band Silvertone\, performing music from his Christmas album Everybody Knows It’s Christmas as well as his many hits from his 40-year career.
URL:https://explorenewjersey.org/event/chris-isaak/
LOCATION:New Jersey
CATEGORIES:Concerts,Music
ATTACH;FMTTYPE=image/jpeg:https://explorenewjersey.org/wp-content/uploads/2025/08/ChrisIsaak_thumb-519x600-b6Fpvd.jpg
END:VEVENT
END:VCALENDAR