BEGIN:VCALENDAR
VERSION:2.0
PRODID:-//Explore New Jersey - ECPv6.15.20//NONSGML v1.0//EN
CALSCALE:GREGORIAN
METHOD:PUBLISH
X-WR-CALNAME:Explore New Jersey
X-ORIGINAL-URL:https://explorenewjersey.org
X-WR-CALDESC:Events for Explore New Jersey
REFRESH-INTERVAL;VALUE=DURATION:PT1H
X-Robots-Tag:noindex
X-PUBLISHED-TTL:PT1H
BEGIN:VTIMEZONE
TZID:America/New_York
BEGIN:DAYLIGHT
TZOFFSETFROM:-0500
TZOFFSETTO:-0400
TZNAME:EDT
DTSTART:20240310T070000
END:DAYLIGHT
BEGIN:STANDARD
TZOFFSETFROM:-0400
TZOFFSETTO:-0500
TZNAME:EST
DTSTART:20241103T060000
END:STANDARD
BEGIN:DAYLIGHT
TZOFFSETFROM:-0500
TZOFFSETTO:-0400
TZNAME:EDT
DTSTART:20250309T070000
END:DAYLIGHT
BEGIN:STANDARD
TZOFFSETFROM:-0400
TZOFFSETTO:-0500
TZNAME:EST
DTSTART:20251102T060000
END:STANDARD
BEGIN:DAYLIGHT
TZOFFSETFROM:-0500
TZOFFSETTO:-0400
TZNAME:EDT
DTSTART:20260308T070000
END:DAYLIGHT
BEGIN:STANDARD
TZOFFSETFROM:-0400
TZOFFSETTO:-0500
TZNAME:EST
DTSTART:20261101T060000
END:STANDARD
END:VTIMEZONE
BEGIN:VEVENT
DTSTART;TZID=America/New_York:20251120T173000
DTEND;TZID=America/New_York:20251206T233000
DTSTAMP:20260419T194243
CREATED:20251120T231736Z
LAST-MODIFIED:20251120T231748Z
UID:69481-1763659800-1765063800@explorenewjersey.org
SUMMARY:The Road Company Presents A Christmas Carol: The Musical
DESCRIPTION:Experience the Magic of the Holidays: The Road Company Brings A Christmas Carol: The Musical to Life in Williamstown \n\n\n\n\n\nThis holiday season\, The Road Company invites audiences to step into a timeless tale as they present A Christmas Carol: The Musical on weekends from November 20 through December 6\, 2025. This celebrated adaptation transforms Charles Dickens’ classic story of redemption\, generosity\, and holiday spirit into a vibrant\, music-filled theatrical experience. With an award-winning score by Alan Menken\, lyrics by Lynn Ahrens\, and a book by Ahrens and Mike Ockrent\, this production promises to captivate families and theater enthusiasts alike. \n\n\n\n\n\n\n\nSet in the heart of Williamstown at the Grand Theatre\, 405 S. Main Street\, the musical immerses audiences in the Victorian-era streets of London\, following Ebenezer Scrooge as he confronts his past\, present\, and future with the guidance of three unforgettable spirits. The Road Company’s production combines heartfelt performances\, festive music\, and stunning set designs to bring Dickens’ story to life\, ensuring that each performance radiates the warmth and joy synonymous with the holiday season. \n\n\n\nThe creative team behind this adaptation adds an extra layer of distinction to the production. Alan Menken\, celebrated for his iconic work on Disney classics like Beauty and the Beast and Aladdin\, provides a rich and dynamic musical score. Lynn Ahrens\, who collaborated on the book alongside Mike Ockrent\, also contributes the lyrics\, showcasing the storytelling finesse that has made musicals like Ragtime and Once On This Island enduring favorites. Their collaboration ensures that the emotional depth and festive spirit of Dickens’ narrative are matched by unforgettable melodies and lyrical craftsmanship. \n\n\n\nThe Road Company\, a non-profit community theater with over four decades of history in Williamstown\, has long been dedicated to enriching the local arts scene. Known for combining professional-level production quality with a strong sense of community engagement\, the company not only delivers exceptional theatrical performances but also fosters arts education and opportunities for aspiring performers in the region. Their commitment to cultivating local talent and making theater accessible to all has cemented their reputation as a cornerstone of New Jersey’s cultural landscape. \n\n\n\nPerformance times for A Christmas Carol: The Musical are scheduled for Thursday\, Friday\, and Saturday evenings at 8:00 PM\, with Sunday matinees at 2:00 PM. The show runs over three consecutive weekends on the following dates: November 20\, 21\, 22\, 23; November 27\, 28\, 29\, 30; and December 4\, 5\, 6\, 2025. Audiences are encouraged to check the Road Company’s website for the most up-to-date information and ticket availability to secure their seats early\, as holiday shows often sell quickly. \n\n\n\nBy combining a timeless story\, a talented cast\, and a celebrated creative team\, The Road Company’s production of A Christmas Carol: The Musical offers New Jersey audiences an enchanting way to celebrate the season. For more information about this and other local theatrical offerings\, visit Theatre in New Jersey to discover performances\, events\, and arts programming throughout the state. \n\n\n\nThis season\, Williamstown becomes a festive destination where music\, storytelling\, and holiday spirit merge\, inviting families and theater lovers to create lasting memories while enjoying one of literature’s most beloved holiday tales brought spectacularly to life on stage.
URL:https://explorenewjersey.org/event/the-road-company-presents-a-christmas-carol-the-musical/
LOCATION:Grand Theatre\, 405 S. Main Street\, Williamstown\, New Jersey\, 08094\, United States
CATEGORIES:Theatre
ATTACH;FMTTYPE=image/jpeg:https://explorenewjersey.org/wp-content/uploads/2025/11/Alley-Theatre-A-Christmas-Carol-472-1024x682-1.jpg
ORGANIZER;CN="The Road Company Theater Group":MAILTO:info@roadcompany.com
END:VEVENT
BEGIN:VEVENT
DTSTART;TZID=America/New_York:20251204T170000
DTEND;TZID=America/New_York:20251204T233000
DTSTAMP:20260419T194243
CREATED:20250611T105811Z
LAST-MODIFIED:20250611T105812Z
UID:34817-1764867600-1764891000@explorenewjersey.org
SUMMARY:Christian Nodal - Gira 2025
DESCRIPTION:🎤 Featured Event Spotlight: Christian Nodal – Gira 2025 \n\n\n\n\n\n\n\n\n\nExplore New Jersey: Your Essential Gateway to Garden State Experiences! \n\n\n\nWelcome to the ultimate guide for discovering the vibrant heart of the Garden State! The Explore New Jersey Directory is meticulously designed to connect you with premier events\, captivating attractions\, and the exceptional local businesses that truly define our unique communities. We’re your go-to resource for unlocking extraordinary moments across New Jersey. \n\n\n\nFeatured Event Spotlight: Christian Nodal – Gira 2025\n\n\n\nPrepare for an unforgettable night of regional Mexican music as the acclaimed superstar Christian Nodal makes his highly anticipated return to the magnificent Prudential Center for his “Gira 2025” tour! This is your prime opportunity to experience one of the most influential and beloved voices in Latin music live in Newark. \n\n\n\nChristian Nodal\, known for his distinctive blend of mariachi and norteño with a modern pop sensibility\, has captivated millions with his powerful vocals\, heartfelt lyrics\, and magnetic stage presence. His “Gira 2025” promises an evening filled with his chart-topping hits\, emotional ballads\, and the vibrant energy that has made him a global phenomenon. Don’t miss this chance to sing along to your favorites and witness a truly extraordinary live performance. \n\n\n\nEvent Details: \n\n\n\n\nArtist: Christian Nodal\n\n\n\nTour: Gira 2025\n\n\n\nDate: Thursday\, December 4th\n\n\n\nTime: 8:00 PM\n\n\n\nVenue: Prudential Center\, Newark\, NJ\n\n\n\n\nJoin us for a night that celebrates the rich tapestry of Latin music with one of its brightest stars. This is an event that fans across New Jersey and beyond have been eagerly awaiting! \n\n\n\n\nSecure Your Tickets for This Electrifying Concert: GET TICKETS\n\n\n\nElevate Your Evening with Premium Seating (for 12+ Guests): Explore Premium Options (Be sure to add this highly anticipated event to your calendar!)\n\n\n\n\n\n\n\n\nBeyond this incredible musical experience\, the Explore New Jersey Directory remains your comprehensive guide to discovering all that our dynamic state has to offer. From world-class entertainment and delectable dining to unique local businesses and exciting outdoor adventures\, begin planning your next New Jersey experience today! \n\n\n\nDive into our full directory: Explore New Jersey Directory \n\n\n\n\n\n\n\n🎟️ Tickets\, Merchandise & Info:\n\n\n\nAccessible seating available for all guests. \n\n\n\nClick here to go to the Merch Stand in The Vending Lot.
URL:https://explorenewjersey.org/event/christian-nodal-gira-2025/
LOCATION:The Prudential Center\, 25 Lafayette St\, Newark\, New Jersey\, 07102\, United States
CATEGORIES:Concerts,Music
ATTACH;FMTTYPE=image/jpeg:https://explorenewjersey.org/wp-content/uploads/2025/06/nodal1200x1200.jpg
ORGANIZER;CN="Live Nation Entertainment":MAILTO:https://www.livenation.com/
END:VEVENT
BEGIN:VEVENT
DTSTART;TZID=America/New_York:20251204T170000
DTEND;TZID=America/New_York:20251204T233000
DTSTAMP:20260419T194243
CREATED:20251121T221957Z
LAST-MODIFIED:20251121T222010Z
UID:69721-1764867600-1764891000@explorenewjersey.org
SUMMARY:Pete Davidson
DESCRIPTION:Pete Davidson Brings His Unfiltered Comedy to New Jersey This December \n\n\n\n\n\n\n\n\n\nNew Jersey audiences are gearing up for a night of sharp wit\, rapid-fire humor\, and the unmistakable voice of one of today’s most recognizable comedians. On Saturday\, December 4\, 2025\, Pete Davidson will take the stage for an evening that blends his trademark honesty\, self-deprecating style\, and the offbeat storytelling that helped make him a cultural standout long before he turned 30. \n\n\n\nDavidson’s rise in the comedy world has been anything but ordinary. Joining Saturday Night Live in 2014 as one of the youngest cast members in the show’s history\, he quickly carved out his own lane on the legendary sketch series. Whether anchoring “Weekend Update\,” delivering candid monologues\, or dropping unexpected music videos that repeatedly went viral\, his presence became one of SNL’s defining voices throughout the 2010s and early 2020s. His ability to blend raw personal experiences with humor earned him both critical praise and a devoted fan base. \n\n\n\nBeyond Studio 8H\, Davidson built a powerful résumé as a stand-up comic and actor. His Netflix specials Alive From New York (2020) and Turbo Fonzarelli (2023) showcased a performer unafraid to push boundaries while staying rooted in authenticity. His earlier breakout on Comedy Central in 2016 signaled the start of a career that would soon cross into film\, writing\, and pop-culture ubiquity. His recognition from Forbes’ “30 Under 30” list and Time’s “100 Most Influential People” affirmed his impact not only in entertainment\, but in shaping conversations about mental health\, fame\, and modern comedy. \n\n\n\nFans hoping to secure their seats should mark their calendars: presale access opens on November 20 at 12 PM and runs until 11:59 PM using the code KING. Public onsale begins November 21 at 10 AM\, and high demand is expected for this limited-engagement performance. \n\n\n\nNew Jersey continues to draw some of the biggest names in comedy and entertainment\, reinforcing its reputation as a cultural hub for live shows\, concerts\, and special events. For readers interested in more upcoming performances\, artist spotlights\, and coverage of major touring acts throughout the state\, Explore New Jersey’s dedicated music section is constantly updated with features and announcements across the Garden State. \n\n\n\nAs Davidson returns to the stage with a fresh set and his signature perspective\, New Jersey audiences are in for a night that promises equal parts laughter\, candor\, and the kind of unpredictability only Pete Davidson can deliver.
URL:https://explorenewjersey.org/event/pete-davidson/
LOCATION:The Wellmont Theater\, 5 Seymour St\, Montclair\, NJ\, 07042\, United States
CATEGORIES:Stand-Up Comedy
ATTACH;FMTTYPE=image/jpeg:https://explorenewjersey.org/wp-content/uploads/2025/11/691f31c720828.jpg
END:VEVENT
BEGIN:VEVENT
DTSTART;TZID=America/New_York:20251205T000000
DTEND;TZID=America/New_York:20251205T000000
DTSTAMP:20260419T194243
CREATED:20250728T125316Z
LAST-MODIFIED:20250728T150801Z
UID:48502-1764892800-1764892800@explorenewjersey.org
SUMMARY:A Peter White Christmas
DESCRIPTION:Make your list and check it twice! This holiday concert is more than just nice!! A Peter White Christmas with Mindi Abair and Vincent Ingala is coming to town. Contemporary jazz lovers eagerly await this annual fun filled concert\, which has packed fans into halls and arenas coast-to-coast year after year.\nPeter White is an extraordinary and fluent acoustic guitarist whose skills are world-renowned. Revered saxophonist Mindi Abair returns again with her dynamic vigor ready to captivate audiences far & wide. Vincent Ingala is no stranger to contemporary jazz audiences—his charisma\, energy\, and musicianship will put a smile on anyone’s face.\nPeter recalls\, “My earliest memories of Christmas were probably not much different from many other people: snowflakes\, tinsel\, Santa Claus\, reindeer\, and the opening of presents surrounded by family. As a child\, my father taught me to play Christmas music on my first instrument\, the recorder\, and my love for Christmas music has endured throughout the years. I hope this tour will be an opportunity for many Smooth Jazz fans to enjoy their favorite Christmas songs in a family setting. You know\, I might even bring my recorder!” Peter White’s classic acoustic guitar style can be enjoyed through an ever-growing and best-selling catalog\, including his latest release “Light of Day” (2025).\n“Growing up\, my family would get together for Christmas every year” Mindi reminisces. “My grandmother would cook oyster stuffing and rhubarb pie\, and we’d all play and sing together. I still make a rhubarb pie every year in her honor. My grandmother gave me great advice early on\, ‘If you play the piano you can be the life of any party!’ She was an opera singer and would sit and play piano and sing Christmas songs. My father would take over and play more rock/blues/jazz versions of Christmas songs and we’d all sing. And of course I’d pull out my sax and play along with my father on piano. What an amazing way to grow up\, with music surrounding me\, and weaving into my life so seamlessly from a young age.” Mindi’s latest release “I Can’t Wait for Christmas” (2024) on Pretty Good For A Girl Records is a 10-song collection of holiday classics that transports listeners straight to the heart of the holiday season\, blending timeless classics with fresh\, soulful originality.\nVincent Ingala “I can vividly remember not being able to fall asleep waiting for Santa Claus to arrive on Christmas Eve. Somehow though\, he always managed to get the job done while I was sleeping\, and before I could catch him! I remember feeling extra special that Santa would place all of the gifts around the fireplace like a display\, as opposed to them being wrapped under the Christmas tree. I would sneak downstairs multiple times with my flashlight to get a sneak peek before the sun would rise on Christmas morning! Memories such as these I will always continue to hold in my heart\, and they are what makes Christmas a very magical time of the year.” Vincent’s latest release is “Escape with Me” (2024) on Shanachie Records.
URL:https://explorenewjersey.org/event/a-peter-white-christmas/
LOCATION:Count Basie Center for the Arts\, 99 Monmouth Street\, Red Bank\, New Jersey\, 07701\, United States
CATEGORIES:Concerts,Music
ATTACH;FMTTYPE=image/jpeg:https://explorenewjersey.org/wp-content/uploads/2025/07/2025-12-05-Peter-White-VOGEL-PREVIEW-jlCfVs.jpg
END:VEVENT
BEGIN:VEVENT
DTSTART;TZID=America/New_York:20251205T000000
DTEND;TZID=America/New_York:20251205T000000
DTSTAMP:20260419T194243
CREATED:20250808T185745Z
LAST-MODIFIED:20250808T200854Z
UID:51785-1764892800-1764892800@explorenewjersey.org
SUMMARY:The Irish Tenors
DESCRIPTION:The Irish Tenors — Declan Kelly\, Anthony Kearns and Ronan Tynan — have been the acknowledged Celtic music kings since they burst upon the scene in the 1980s.   With ten best-selling CDs to their credit\, The Irish Tenors have delighted audiences all over the world and are among the most successful acts in PBS history.
URL:https://explorenewjersey.org/event/the-irish-tenors/
LOCATION:New Jersey
CATEGORIES:Concerts,Music
ATTACH;FMTTYPE=image/jpeg:https://explorenewjersey.org/wp-content/uploads/2025/08/TheIrishTenors_thumb-519x600-f2Dng4.jpg
END:VEVENT
END:VCALENDAR