BEGIN:VCALENDAR
VERSION:2.0
PRODID:-//Explore New Jersey - ECPv6.15.20//NONSGML v1.0//EN
CALSCALE:GREGORIAN
METHOD:PUBLISH
X-ORIGINAL-URL:https://explorenewjersey.org
X-WR-CALDESC:Events for Explore New Jersey
REFRESH-INTERVAL;VALUE=DURATION:PT1H
X-Robots-Tag:noindex
X-PUBLISHED-TTL:PT1H
BEGIN:VTIMEZONE
TZID:America/New_York
BEGIN:DAYLIGHT
TZOFFSETFROM:-0500
TZOFFSETTO:-0400
TZNAME:EDT
DTSTART:20240310T070000
END:DAYLIGHT
BEGIN:STANDARD
TZOFFSETFROM:-0400
TZOFFSETTO:-0500
TZNAME:EST
DTSTART:20241103T060000
END:STANDARD
BEGIN:DAYLIGHT
TZOFFSETFROM:-0500
TZOFFSETTO:-0400
TZNAME:EDT
DTSTART:20250309T070000
END:DAYLIGHT
BEGIN:STANDARD
TZOFFSETFROM:-0400
TZOFFSETTO:-0500
TZNAME:EST
DTSTART:20251102T060000
END:STANDARD
BEGIN:DAYLIGHT
TZOFFSETFROM:-0500
TZOFFSETTO:-0400
TZNAME:EDT
DTSTART:20260308T070000
END:DAYLIGHT
BEGIN:STANDARD
TZOFFSETFROM:-0400
TZOFFSETTO:-0500
TZNAME:EST
DTSTART:20261101T060000
END:STANDARD
END:VTIMEZONE
BEGIN:VEVENT
DTSTART;TZID=America/New_York:20251105T170000
DTEND;TZID=America/New_York:20251123T233000
DTSTAMP:20260419T112850
CREATED:20251108T183600Z
LAST-MODIFIED:20251108T183742Z
UID:67165-1762362000-1763940600@explorenewjersey.org
SUMMARY:Crumbs from the Table of Joy
DESCRIPTION:Crossroads Theatre Company Brings Lynn Nottage’s “Crumbs from the Table of Joy” Back to the Stage in New Brunswick \n\n\n\n\n\n\n\n\n\nThe celebrated Crossroads Theatre Company in New Brunswick is once again lighting up the stage\, this time with a heartfelt revival of Lynn Nottage’s “Crumbs from the Table of Joy.” This deeply moving family drama\, penned by one of America’s most acclaimed contemporary playwrights\, continues its run through November 23\, offering audiences a powerful and poetic exploration of race\, identity\, loss\, and hope in postwar America. \n\n\n\nSet in the 1950s\, “Crumbs from the Table of Joy” follows the Crump family as they navigate a rapidly changing world following the death of their matriarch. When the family relocates from Florida to Brooklyn\, patriarch Godfrey Crump seeks solace and direction through religion — while his teenage daughters\, Ernestine and Ermina\, struggle to find their place amid the shifting tides of culture and self-discovery. The arrival of their free-spirited Aunt Lily adds both humor and chaos\, pushing the family to confront the tension between faith and freedom\, tradition and transformation. \n\n\n\nLynn Nottage\, a two-time Pulitzer Prize winner\, is known for crafting stories that give voice to the overlooked and the resilient. “Crumbs from the Table of Joy” captures her signature blend of emotional depth and lyrical storytelling\, weaving together themes of migration\, gender\, and social awakening through the lens of a family searching for meaning in the midst of turmoil. \n\n\n\nCrossroads Theatre Company\, based in the heart of New Brunswick’s vibrant arts district\, is the perfect stage for this revival. Founded in 1978\, Crossroads has built a national reputation for championing African American voices and staging works that challenge\, uplift\, and inspire. Their production of “Crumbs from the Table of Joy” continues that legacy — blending meticulous direction\, standout performances\, and immersive staging to bring Nottage’s world to life with authenticity and heart. \n\n\n\nAudiences can expect an experience that feels both timeless and urgently relevant. The play’s exploration of belonging\, resilience\, and the search for joy resonates powerfully today\, inviting theatergoers to reflect on how far we’ve come — and how far we still have to go. The production’s design captures the era’s emotional and visual contrasts\, from the simplicity of a 1950s Brooklyn apartment to the vivid imaginings that unfold in Ernestine’s mind as she dreams of a better\, freer future. \n\n\n\nFor those looking to experience thought-provoking live theatre this fall\, Crossroads’ latest production offers a perfect opportunity. The company’s intimate venue creates a uniquely personal connection between audience and performance\, allowing every moment — from whispered conversations to emotional crescendos — to feel immediate and real. \n\n\n\nTickets for “Crumbs from the Table of Joy” are now available\, with performances continuing through November 23 at Crossroads Theatre Company in New Brunswick. Whether you’re a longtime theater lover or simply looking for a meaningful evening out\, this revival delivers storytelling that is both soul-stirring and beautifully human. \n\n\n\nTo explore more live performances and theatre events happening across New Jersey\, visit Explore New Jersey’s theatre section. The state’s rich performing arts scene continues to thrive — and productions like this one remind us why New Jersey remains one of the most dynamic places for live theatre on the East Coast.
URL:https://explorenewjersey.org/event/67165/
LOCATION:New Brunswick Performing Arts Center\, 11 Livingston Avenue\, New Brunswick\, New Jersey\, 08901\, United States
CATEGORIES:Concerts,Music
ATTACH;FMTTYPE=image/jpeg:https://explorenewjersey.org/wp-content/uploads/2025/11/NBPAC-WEBSITE-1280-X-960-Px-1920-X-1005-Px-1.jpg
ORGANIZER;CN="New Brunswick Performing Arts Center (NBPAC)":MAILTO:boxoffice@nbpac.org
END:VEVENT
BEGIN:VEVENT
DTSTART;TZID=America/New_York:20251120T173000
DTEND;TZID=America/New_York:20251206T233000
DTSTAMP:20260419T112850
CREATED:20251120T231736Z
LAST-MODIFIED:20251120T231748Z
UID:69481-1763659800-1765063800@explorenewjersey.org
SUMMARY:The Road Company Presents A Christmas Carol: The Musical
DESCRIPTION:Experience the Magic of the Holidays: The Road Company Brings A Christmas Carol: The Musical to Life in Williamstown \n\n\n\n\n\nThis holiday season\, The Road Company invites audiences to step into a timeless tale as they present A Christmas Carol: The Musical on weekends from November 20 through December 6\, 2025. This celebrated adaptation transforms Charles Dickens’ classic story of redemption\, generosity\, and holiday spirit into a vibrant\, music-filled theatrical experience. With an award-winning score by Alan Menken\, lyrics by Lynn Ahrens\, and a book by Ahrens and Mike Ockrent\, this production promises to captivate families and theater enthusiasts alike. \n\n\n\n\n\n\n\nSet in the heart of Williamstown at the Grand Theatre\, 405 S. Main Street\, the musical immerses audiences in the Victorian-era streets of London\, following Ebenezer Scrooge as he confronts his past\, present\, and future with the guidance of three unforgettable spirits. The Road Company’s production combines heartfelt performances\, festive music\, and stunning set designs to bring Dickens’ story to life\, ensuring that each performance radiates the warmth and joy synonymous with the holiday season. \n\n\n\nThe creative team behind this adaptation adds an extra layer of distinction to the production. Alan Menken\, celebrated for his iconic work on Disney classics like Beauty and the Beast and Aladdin\, provides a rich and dynamic musical score. Lynn Ahrens\, who collaborated on the book alongside Mike Ockrent\, also contributes the lyrics\, showcasing the storytelling finesse that has made musicals like Ragtime and Once On This Island enduring favorites. Their collaboration ensures that the emotional depth and festive spirit of Dickens’ narrative are matched by unforgettable melodies and lyrical craftsmanship. \n\n\n\nThe Road Company\, a non-profit community theater with over four decades of history in Williamstown\, has long been dedicated to enriching the local arts scene. Known for combining professional-level production quality with a strong sense of community engagement\, the company not only delivers exceptional theatrical performances but also fosters arts education and opportunities for aspiring performers in the region. Their commitment to cultivating local talent and making theater accessible to all has cemented their reputation as a cornerstone of New Jersey’s cultural landscape. \n\n\n\nPerformance times for A Christmas Carol: The Musical are scheduled for Thursday\, Friday\, and Saturday evenings at 8:00 PM\, with Sunday matinees at 2:00 PM. The show runs over three consecutive weekends on the following dates: November 20\, 21\, 22\, 23; November 27\, 28\, 29\, 30; and December 4\, 5\, 6\, 2025. Audiences are encouraged to check the Road Company’s website for the most up-to-date information and ticket availability to secure their seats early\, as holiday shows often sell quickly. \n\n\n\nBy combining a timeless story\, a talented cast\, and a celebrated creative team\, The Road Company’s production of A Christmas Carol: The Musical offers New Jersey audiences an enchanting way to celebrate the season. For more information about this and other local theatrical offerings\, visit Theatre in New Jersey to discover performances\, events\, and arts programming throughout the state. \n\n\n\nThis season\, Williamstown becomes a festive destination where music\, storytelling\, and holiday spirit merge\, inviting families and theater lovers to create lasting memories while enjoying one of literature’s most beloved holiday tales brought spectacularly to life on stage.
URL:https://explorenewjersey.org/event/the-road-company-presents-a-christmas-carol-the-musical/
LOCATION:Grand Theatre\, 405 S. Main Street\, Williamstown\, New Jersey\, 08094\, United States
CATEGORIES:Theatre
ATTACH;FMTTYPE=image/jpeg:https://explorenewjersey.org/wp-content/uploads/2025/11/Alley-Theatre-A-Christmas-Carol-472-1024x682-1.jpg
ORGANIZER;CN="The Road Company Theater Group":MAILTO:info@roadcompany.com
END:VEVENT
BEGIN:VEVENT
DTSTART;TZID=America/New_York:20251120T200000
DTEND;TZID=America/New_York:20251121T233000
DTSTAMP:20260419T112850
CREATED:20250821T184031Z
LAST-MODIFIED:20251001T182506Z
UID:54302-1763668800-1763767800@explorenewjersey.org
SUMMARY:Dark Star Orchestra
DESCRIPTION:Dark Star Orchestra – Live in Montclair \n\n\n\n\n\n\n\n\n\nFor nearly three decades\, Dark Star Orchestra has been carrying the torch of the Grateful Dead live concert experience\, and they’re bringing two unforgettable nights of music to the Wellmont Theatre in Montclair on Thursday\, November 20\, and Friday\, November 21\, 2025. Doors open at 7:00 PM\, with shows starting at 8:00 PM each night. \n\n\n\nMore than just a tribute act\, Dark Star Orchestra captures the true spirit and energy of the Grateful Dead’s legendary concerts. Each performance is built around actual setlists from the Dead’s 30-year touring history or crafted as a unique blend from their extensive catalog. This approach gives longtime Deadheads and new fans alike the chance to experience the magic\, improvisation\, and communal vibe that made the Dead’s shows iconic. \n\n\n\nThe seven-piece band has shared the stage with original Grateful Dead members Phil Lesh\, Bob Weir\, Bill Kreutzmann\, Mickey Hart\, Donna Jean Godchaux-MacKay\, Vince Welnick\, and Tom Constanten\, as well as other legendary guests including members of Phish\, Gov’t Mule\, and more. With every note\, they bring the audience closer to that timeless sound while keeping the music alive for generations to come. \n\n\n\nKeyboardist and vocalist Rob Barraco puts it best: “We offer a sort of historical perspective—what it might have been like to go to a show in 1985\, 1978\, or whenever. Even for Deadheads who went to hundreds of shows\, we give them something they may have never seen live before.” \n\n\n\nEvent Details: \n\n\n\n\nDates: Thursday\, November 20 & Friday\, November 21\, 2025\n\n\n\nVenue: Wellmont Theatre\, Montclair\, NJ\n\n\n\nDoors: 7:00 PM\n\n\n\nShowtime: 8:00 PM\n\n\n\n\nTwo nights. Endless jams. A celebration of music\, community\, and the enduring legacy of the Grateful Dead. Don’t miss your chance to be part of the experience when Dark Star Orchestra lights up the Wellmont Theatre. \n\n\n\nMusic Plays The Band Radio Show (https://deadsetlive.com/event-type/music-plays-the-band-radio-show/) on Dead Set Live features Dark Star Orchestra – The Music Plays The Band Radio Show plays live music by Grateful Dead Cover Bands. Grateful Dead\, the iconic American rock band\, has left an indelible mark on music history. Known for their improvisational style\, eclectic sound\, and devoted fan base\, the Grateful Dead’s influence continues to resonate long after their disbandment. While the original band members may no longer grace the stage together\, the spirit of the Grateful Dead lives on through the countless cover bands that pay homage to their music. In this show\, we explore the world of Grateful Dead cover bands and the important role they play in keeping the legacy alive. \n\n\n\n\n\n\n\n➡️ Explore more New Jersey concerts and music events here \n\n\n\n🎟️ Tickets\, Merchandise & Info:\n\n\n\nAccessible seating available for all guests. \n\n\n\nClick here to go to the Merch Stand in The Vending Lot.
URL:https://explorenewjersey.org/event/dark-star-orchestra/
LOCATION:The Wellmont Theater\, 5 Seymour St\, Montclair\, NJ\, 07042\, United States
CATEGORIES:Concerts,Music
ATTACH;FMTTYPE=image/jpeg:https://explorenewjersey.org/wp-content/uploads/2025/08/DarkStar_Orchestra_300x464.jpg
END:VEVENT
BEGIN:VEVENT
DTSTART;TZID=America/New_York:20251121T000000
DTEND;TZID=America/New_York:20251121T000000
DTSTAMP:20260419T112850
CREATED:20250728T125312Z
LAST-MODIFIED:20250728T150801Z
UID:48498-1763683200-1763683200@explorenewjersey.org
SUMMARY:The Amish Outlaws
DESCRIPTION:It is a little-known fact that most Amish practice a tradition similar to the Christian “Confirmation” and Jewish “Bar Mitzvah” called “Rumspringa” (literal translation: “running around”) in which Amish children at the age of 16 have an opportunity to live free of the strict Amish code of conduct before deciding if they want to come back and be baptized into the Amish church.\nSurprisingly\, virtually all of the youths return.\nBut sometimes they don’t.\nFour out of the original six members of The Amish Outlaws were born and raised in Lancaster\, PA and had a strict Amish upbringing. No electricity from land lines\, no alcohol\, no musical instruments\, but their spirits were too wild for the Amish lifestyle. Once they trampled in the Devil’s Playground\, there was no turning back. In the years since Rumspringa\, the members of the Amish Outlaws have become very well acclimated to the pleasures and vices of the modern world… music\, most of all. Hip hop\, rock\, country\, metal\, disco\, opera. There is no genre they do not touch upon.\nThus\, with a bold lust for life and a fire for music and performance that can only come from 16 years of repression\, The Amish Outlaws were unleashed upon the world.
URL:https://explorenewjersey.org/event/the-amish-outlaws/
LOCATION:Count Basie Center for the Arts\, 99 Monmouth Street\, Red Bank\, New Jersey\, 07701\, United States
CATEGORIES:Concerts,Music
ATTACH;FMTTYPE=image/jpeg:https://explorenewjersey.org/wp-content/uploads/2025/07/2024-04-05-Amish-Outlaws-VOGEL-PREVIEW-z1Pphx.jpg
END:VEVENT
BEGIN:VEVENT
DTSTART;TZID=America/New_York:20251121T000000
DTEND;TZID=America/New_York:20251121T000000
DTSTAMP:20260419T112850
CREATED:20250728T131156Z
LAST-MODIFIED:20250728T131200Z
UID:48728-1763683200-1763683200@explorenewjersey.org
SUMMARY:MOTOR CITY REVUE at Drew University
DESCRIPTION:– Get ready to experience the magic of Motown as The Motor City Revue\, the acclaimed tribute band\, takes center stage at The Concert Hall at Drew University. The show\, scheduled for Friday\, November 21\, 2025\, at 8:00 PM\, promises an unforgettable evening of soul-stirring classics. Leading the performance is Layonne Holmes\, a gifted vocalist known for her commanding presence and deep-rooted connection to soul\, jazz\, funk\, and rock & roll. Holmes has shared the stage with industry legends such as Jon Bon Jovi\, Darlene Love\, Southside Johnny\, and Ben E. King. She carries on a rich musical legacy\, influenced by her mother\, Delores Holmes\, who performed as a backing singer for Bruce Springsteen. Layonne continues to honor her mother’s tradition\, keeping the soulful sounds alive. Motor City Revue transports audiences back to the golden era of Motown\, delivering timeless hits from legendary artists such as Marvin Gaye\, The Temptations\, Stevie Wonder\, Smokey Robinson & The Miracles\, The Supremes\, Martha Reeves & The Vandellas\, Gladys Knight & The Pips\, and Diana Ross. With authentic arrangements\, stunning harmonies\, and high-energy performances\, the band captures the essence of the original Motown sound\, making every show a celebration of musical history.
URL:https://explorenewjersey.org/event/motor-city-revue-at-drew-university/
LOCATION:New Jersey
END:VEVENT
BEGIN:VEVENT
DTSTART;TZID=America/New_York:20251121T000000
DTEND;TZID=America/New_York:20251121T000000
DTSTAMP:20260419T112850
CREATED:20250728T132903Z
LAST-MODIFIED:20250728T161515Z
UID:48997-1763683200-1763683200@explorenewjersey.org
SUMMARY:PINK TALKING FISH
DESCRIPTION:Pink Talking Fish is a Hybrid Tribute Fusion Act that takes the music from three of the world’s most beloved bands and creates a special treat for fans of the music.\nPink Floyd\, The Talking Heads and Phish are all more than just bands… they are Phenomenons. Their creations have artistically inspired people and their mindblowing live performances have brought people together to form a special sense of community around the love for their favorite band.\nAlthough the music from each act is different\, Pink Talking Fish has discovered that fusing the material together creates an amazing story. The epic emotion of Pink Floyd…. The funky\, danceable layerings of The Talking Heads…. The multitude of styles\, unique compositional structures and pure fun of Phish…. to merge these three into one gives music lovers a special experience.\nPink Talking Fish features Eric Gould on bass\, Richard James on keyboards\, Zack Burwick on drums and Cal Kehoe on guitar. This is a band created by musicians who love the music of these acts. It’s purpose is to heighten people’s passion for this music by creating something fresh and exciting for fans. Discovering connections is part of the fun: Pink Floyd’s “On The Run” seamlessly fitting in the middle of the composition of Phish’s “You Enjoy Myself”. Perfectly placing Phish’s “Sand” into the groove of The Talking Head’s “Slippery People”. Segued collections from all three acts such as Run Like Hell > Psycho Killer > Run Like An Antelope > Run Like Hell or Mike’s Song > Have A Cigar > Once In A Lifetime > Weekapaug Groove. These ideas are the spirit behind Pink Talking Fish.\nThe story is ever evolving. The experience is always exciting. Come join Pink Talking Fish for the ultimate fusion tribute and celebrate the love of this music in unique fashion.
URL:https://explorenewjersey.org/event/pink-talking-fish/
LOCATION:Starland Ballroom\, 570 Jernee Mill Rd\, Sayreville\, New Jersey\, 08872\, United States
CATEGORIES:Concerts,Music
ATTACH;FMTTYPE=image/jpeg:https://explorenewjersey.org/wp-content/uploads/2025/07/pink-talking-fish-tickets_11-21-25_23_687a4e8949873-mILs90.jpg
END:VEVENT
BEGIN:VEVENT
DTSTART;TZID=America/New_York:20251121T000000
DTEND;TZID=America/New_York:20251121T000000
DTSTAMP:20260419T112850
CREATED:20250728T133100Z
LAST-MODIFIED:20250728T133100Z
UID:49067-1763683200-1763683200@explorenewjersey.org
SUMMARY:Radliff-Niessen\, violin & piano
DESCRIPTION:Join Duo Radliff-Niessen\, consisting of the renowned violinist Robert Radliff and Dutch pianist Sharon Niessen\, for an extraordinary performance at the Grunin Center for the Arts\, with masterpieces of Beethoven and Brahms. Radliff\, a celebrated performer with orchestras such as the New Jersey Symphony\, the New England Symphonic Ensemble at Carnegie Hall\, and the Curtis Institute Orchestra\, brings his extensive experience and passionate playing to the stage.\nRadliff’s performances have captivated audiences across the United States and worldwide\, and has collaborated with some of the most celebrated classical artists such as Yo Yo Ma\, Jamie Laredo\, and Itzhak Perlman.\nNiessen\, praised for her expressive playing and virtuosity\, captivates audiences with her interpretations\, having performed internationally with orchestras like the Philips Symphony Orchestra and Youth Orchestra of the Netherlands\, and collaborated with renowned musicians such as world champion whistler Geert Chatrou and recording artist Dutch flutist Ilonka Kolthof.\nAs a duo\, Radliff and Niesssen blend their dynamic artistry. With their international career spanning prestigious venues from Carnegie Hall to the Concertgebouw Amsterdam\, this concert is sure to be one of the highlights of the season.\nThis event is funded by the Ocean County College Foundation.
URL:https://explorenewjersey.org/event/radliff-niessen-violin-piano/
LOCATION:New Jersey
ATTACH;FMTTYPE=image/jpeg:https://explorenewjersey.org/wp-content/uploads/2025/07/Radliff-Niessen-1920X1080-Feature-MEPE9o.jpg
END:VEVENT
END:VCALENDAR