BEGIN:VCALENDAR
VERSION:2.0
PRODID:-//Explore New Jersey - ECPv6.15.20//NONSGML v1.0//EN
CALSCALE:GREGORIAN
METHOD:PUBLISH
X-ORIGINAL-URL:https://explorenewjersey.org
X-WR-CALDESC:Events for Explore New Jersey
REFRESH-INTERVAL;VALUE=DURATION:PT1H
X-Robots-Tag:noindex
X-PUBLISHED-TTL:PT1H
BEGIN:VTIMEZONE
TZID:America/New_York
BEGIN:DAYLIGHT
TZOFFSETFROM:-0500
TZOFFSETTO:-0400
TZNAME:EDT
DTSTART:20240310T070000
END:DAYLIGHT
BEGIN:STANDARD
TZOFFSETFROM:-0400
TZOFFSETTO:-0500
TZNAME:EST
DTSTART:20241103T060000
END:STANDARD
BEGIN:DAYLIGHT
TZOFFSETFROM:-0500
TZOFFSETTO:-0400
TZNAME:EDT
DTSTART:20250309T070000
END:DAYLIGHT
BEGIN:STANDARD
TZOFFSETFROM:-0400
TZOFFSETTO:-0500
TZNAME:EST
DTSTART:20251102T060000
END:STANDARD
BEGIN:DAYLIGHT
TZOFFSETFROM:-0500
TZOFFSETTO:-0400
TZNAME:EDT
DTSTART:20260308T070000
END:DAYLIGHT
BEGIN:STANDARD
TZOFFSETFROM:-0400
TZOFFSETTO:-0500
TZNAME:EST
DTSTART:20261101T060000
END:STANDARD
END:VTIMEZONE
BEGIN:VEVENT
DTSTART;TZID=America/New_York:20251002T080000
DTEND;TZID=America/New_York:20251102T170000
DTSTAMP:20260419T211321
CREATED:20250718T140842Z
LAST-MODIFIED:20250718T141130Z
UID:46807-1759392000-1762102800@explorenewjersey.org
SUMMARY:Bull Durham
DESCRIPTION:Experience the Magic: Paper Mill Playhouse Unleashes “Bull Durham” Musical for 2025-2026 Season Opener! \n\n\n\n\n\n\n\n\n\nProduction Name: Bull Durham\, a new musical. \n\n\n\nPaper Mill Playhouse: It is the “Official State Theater of New Jersey\,” a recipient of the Regional Theatre Tony Award\, and a highly acclaimed non-profit professional theater known for launching new musicals and significant revivals before they head to Broadway. This is a key point for the SEO and “uniqueness” factor. \n\n\n\nPerformance Dates: The show runs from Thursday\, October 2 to Sunday\, November 2\, 2025\, with a press opening on Sunday\, October 12. \n\n\n\nPlot Synopsis: The musical\, based on the classic 1988 film\, is a love story set against the backdrop of minor league baseball. It follows veteran catcher “Crash” Davis\, tasked with mentoring hotshot rookie pitcher “Nuke” LaLoosh\, while the team’s witty and alluring muse\, Annie Savoy\, finds herself at the center of a steamy love triangle. \n\n\n\nCreative Team: \n\n\n\nDirector: Marc Bruni (The Great Gatsby). \n\n\n\nChoreographer: Joshua Bergasse (Smash). \n\n\n\nBook: Ron Shelton (the original screenwriter/director of the film). \n\n\n\nMusic and Lyrics: Susan Werner. \n\n\n\nCasting: \n\n\n\nCarmen Cusack (Tony nominee for Bright Star) as Annie Savoy. \n\n\n\nNik Walker (Hamilton\, Spamalot) as Crash Davis. \n\n\n\nWill Savarese (from the Frozen national tour) as Nuke LaLoosh. \n\n\n\nOther key cast members: Joel Ashur\, Ashlyn Maddox\, James Moye\, Andrew Poston\, and Nick Wyman. \n\n\n\nWith this detailed information\, I can now write a compelling directory listing that is unique\, great for SEO\, and written in the requested tone\, without mentioning any sources. I will highlight the “Broadway-bound” nature of the production and the star power of the cast and creative team to attract a wide audience.### Paper Mill Playhouse Announces World-Class Cast for Bull Durham Musical \n\n\n\nMillburn\, NJ – Get ready for a home run this fall! The legendary Paper Mill Playhouse\, New Jersey’s official State Theater\, is kicking off its 2025-2026 season with the highly anticipated new musical\, Bull Durham. This production promises a fresh take on the beloved classic\, blending America’s favorite pastime with a captivating love story. \n\n\n\nThe show\, which is a key stop on its journey to Broadway\, has secured a stellar cast and an acclaimed creative team. Leading the lineup is two-time Tony Award nominee Carmen Cusack as the fiery and philosophical “baseball muse” Annie Savoy\, a role she brings to life with her powerful stage presence. Joining her is Broadway favorite Nik Walker\, taking on the role of the jaded but charming veteran catcher\, Crash Davis. Together\, they anchor the stage in a compelling romance that unfolds as Crash mentors a talented-but-dimwitted rookie pitcher\, Nuke LaLoosh\, played by the dynamic Will Savarese. \n\n\n\nThe production is helmed by the brilliant creative team of director Marc Bruni\, renowned for his work on the hit musical The Great Gatsby\, and choreographer Joshua Bergasse. The musical’s book is adapted by the film’s original\, Academy Award-nominated writer and director\, Ron Shelton\, with music and lyrics by the brilliant songwriter Susan Werner. This powerhouse collaboration guarantees a show that is both true to its roots and bursting with innovative theatricality. \n\n\n\nBull Durham offers a pitch-perfect blend of comedy\, romance\, and heart\, making it a must-see event for theater lovers and baseball fans alike. Don’t miss your chance to witness this major new musical as it makes its triumphant New Jersey premiere. \n\n\n\nPerformance Dates: \n\n\n\n\nFirst Performance: Thursday\, October 2\, 2025\n\n\n\nOfficial Opening: Sunday\, October 12\, 2025\n\n\n\nFinal Performance: Sunday\, November 2\, 2025\n\n\n\n\nExperience the magic of a world-class production right here in New Jersey. Secure your seats to see the show that everyone will be talking about this fall.
URL:https://explorenewjersey.org/event/bull-durham/
LOCATION:Paper Mill Playhouse\, 22 Brookside Drive \, NJ\, Millburn\, New Jersey\, 07041\, United States
CATEGORIES:Theatre
ATTACH;FMTTYPE=image/jpeg:https://explorenewjersey.org/wp-content/uploads/2025/07/paper-July17-1.jpg
ORGANIZER;CN="Paper Mill Playhouse":MAILTO:BoxOffice@PaperMill.org
END:VEVENT
BEGIN:VEVENT
DTSTART;TZID=America/New_York:20251014T183000
DTEND;TZID=America/New_York:20251102T233000
DTSTAMP:20260419T211321
CREATED:20250827T141935Z
LAST-MODIFIED:20250827T141939Z
UID:55409-1760466600-1762126200@explorenewjersey.org
SUMMARY:An Old-Fashioned Family Murder
DESCRIPTION:An Old-Fashioned Family Murder \n\n\n\n\n\n\n\nWhere: George Street PlayhouseDates: October 14 – November 2\, 2025Tickets: Starting at $35 | Available Now \n\n\n\nStep into a stormy night filled with suspense and dark humor at George Street Playhouse with An Old-Fashioned Family Murder\, a clever comic mystery from Tony® Award-winning playwright Joe DiPietro. A stately estate hides deep secrets\, and when a pompous author exposes a family scandal\, tensions erupt into murder. \n\n\n\nEvery guest is a suspect— from a sharp-witted widow to a charming fiancé and a jealous daughter—each carrying hidden motives. As secrets unravel and betrayals surface\, Mrs. Peck’s maternal instincts may just outsmart the detective\, making this a night of twists\, laughter\, and intrigue you won’t forget. \n\n\n\nBuy your tickets now and experience a suspenseful evening where nothing is as it seems.
URL:https://explorenewjersey.org/event/an-old-fashioned-family-murder/
LOCATION:George Street Playhouse\, 11 Livingston Avenue\, New Brunswick\, New Jersey\, United States
CATEGORIES:Theatre
ATTACH;FMTTYPE=image/webp:https://explorenewjersey.org/wp-content/uploads/2025/08/25-26-Web-Pages-1440-x-755-px-2bd946eff7.webp
END:VEVENT
BEGIN:VEVENT
DTSTART;TZID=America/New_York:20251022T170000
DTEND;TZID=America/New_York:20251116T233000
DTSTAMP:20260419T211321
CREATED:20251101T185042Z
LAST-MODIFIED:20251101T185053Z
UID:66136-1761152400-1763335800@explorenewjersey.org
SUMMARY:Mary Shelley's Frankenstein
DESCRIPTION:Shakespeare Theatre of New Jersey Brings Mary Shelley’s Frankenstein to Life\n\n\n\n\n\n\n\n\n\nThe Shakespeare Theatre of New Jersey invites audiences to confront one of literature’s most enduring questions: who is the true monster — the creator or the creation? Their latest production\, Mary Shelley’s Frankenstein\, adapted by David Catlin\, immerses theatergoers in a chilling\, thought-provoking retelling of the Gothic classic\, running through November 16. \n\n\n\nSet against a backdrop of flickering lightning and rolling thunder\, this adaptation captures the full intensity of Mary Shelley’s original vision. The story delves into themes of ambition\, creation\, love\, and revenge\, all while presenting audiences with haunting questions about the nature of humanity. The stage becomes a living\, breathing Gothic landscape where horror and pathos collide\, and where the consequences of unbridled scientific curiosity ripple through the lives of both creator and creature. \n\n\n\nThe cast is led by Amber Friendly as Mary Wollstonecraft Shelley/Elizabeth\, Neil Redfield in the dual role of Dr. John Polidori/Henry\, and Brooke Turner as Claire Clairmont/Mother. Jay Wade portrays the Creature\, a role that demands both physical presence and emotional depth\, while Sean-Michael Wilkinson brings Victor Frankenstein to life\, portraying a man driven by obsession and haunted by his own hubris. All five principal performers are members of the Actors Equity Association\, bringing a polished and professional energy to this immersive experience. \n\n\n\nUnder the direction of Brian B. Crowe\, the production combines stylized horror with moments of profound introspection. Haze and carefully crafted lighting effects heighten the atmosphere\, pulling the audience deeper into the narrative as the lines between science and morality blur. While the production contains elements of horror and stylized violence\, it is equally a meditation on grief\, isolation\, and the human desire for connection. The adaptation encourages viewers to consider what it truly means to play God and the ethical implications of unchecked ambition. \n\n\n\n\n\n\n\nRecommended for audiences ages 12 and older\, Mary Shelley’s Frankenstein is not just a Halloween thrill — it’s an intellectually engaging journey that challenges viewers to consider the consequences of creation and the responsibilities that come with power. The production’s mix of suspense\, dark humor\, and emotional intensity makes it a standout in this season’s lineup at the Shakespeare Theatre of New Jersey. \n\n\n\nTickets and additional information for this gripping production can be found through Explore New Jersey Theatre. Audiences looking for a night of Gothic intrigue\, theatrical excellence\, and the eerie pulse of classic literature brought to life will find Mary Shelley’s Frankenstein a captivating experience not to be missed.
URL:https://explorenewjersey.org/event/mary-shelleys-frankenstein/
LOCATION:F.M. Kirby Shakespeare Theatre\, 36 Madison Avenue\, Madison\, New Jersey\, 07940\, United States
CATEGORIES:Theatre
ATTACH;FMTTYPE=image/webp:https://explorenewjersey.org/wp-content/uploads/2025/11/850x550-frank-f70e2f3c23.webp
END:VEVENT
BEGIN:VEVENT
DTSTART;TZID=America/New_York:20251024T080000
DTEND;TZID=America/New_York:20251116T170000
DTSTAMP:20260419T211321
CREATED:20250804T112720Z
LAST-MODIFIED:20250804T112724Z
UID:50800-1761292800-1763312400@explorenewjersey.org
SUMMARY:Cats
DESCRIPTION:“Cats”: The Jellicle Ball and a Night of Feline Fascination \n\n\n\n\n\n\n\n\n\nRating: PG-13 (Best suited for teens and adults\, may include mature themes and occasional strong language.) Run Time: Approximately 2 hours and 30 minutes\, including one intermission. \n\n\n\nStep into a moonlit junkyard where an extraordinary tribe of felines gathers for their most anticipated annual event: The Jellicle Ball! Andrew Lloyd Webber’s iconic musical\, “Cats\,” invites audiences into a world of diverse and captivating characters\, each with a unique story to tell. Based on T.S. Eliot’s “Old Possum’s Book of Practical Cats\,” this beloved production brings to life the whimsical and profound personalities of the Jellicle Cats. \n\n\n\nOn this one special night\, under the watchful eye of their wise and benevolent leader\, Old Deuteronomy\, each cat steps forward to share their personal tale through breathtaking song and mesmerizing dance. From the mischievous Mungojerrie and Rumpleteazer to the magical Mr. Mistoffelees and the once-glamorous Grizabella\, every feline vies for the chance to be chosen. The ultimate honor? To ascend to The Heaviside Layer and be reborn into a brand-new Jellicle life. \n\n\n\n“Cats” is renowned for its spectacular costumes\, innovative choreography\, and unforgettable melodies\, including the timeless ballad “Memory.” Beyond the dazzling spectacle\, the show offers poignant reflections on identity\, belonging\, and the search for redemption. It’s a journey into a fantastical world that resonates with universal human emotions\, all told through the captivating eyes of a unique community of cats. The enduring popularity of “Cats” speaks to its ability to transport audiences to a place where imagination reigns supreme and the power of story shines through. \n\n\n\nImportant Note: While “Cats” often appeals to a broad audience\, this particular production is rated PG-13. It’s best enjoyed by teens and adults due to certain mature themes and occasional strong language within the narrative. \n\n\n\nBooking Information: Check local listings for specific dates\, times\, and ticket availability for “Cats” performances in New Jersey. Prepare to be enchanted by this theatrical phenomenon! \n\n\n\nDiscover more incredible entertainment options and local happenings throughout the Garden State by exploring our comprehensive directory: Explore New Jersey Entertainment.
URL:https://explorenewjersey.org/event/cats/
LOCATION:The Broadway Theatre of Pitman\, 43 S Broadway\, Pitman\, New Jersey\, 08071\, United States
CATEGORIES:Theatre
ATTACH;FMTTYPE=image/jpeg:https://explorenewjersey.org/wp-content/uploads/2025/08/CATS-Show-600x600-1.jpg
ORGANIZER;CN="The Broadway Theatre of Pitman":MAILTO:boxoffice@broadwaytheatreofpitman.com
END:VEVENT
BEGIN:VEVENT
DTSTART;TZID=America/New_York:20251025T163000
DTEND;TZID=America/New_York:20251102T233000
DTSTAMP:20260419T211321
CREATED:20250915T111723Z
LAST-MODIFIED:20250915T112500Z
UID:58485-1761409800-1762126200@explorenewjersey.org
SUMMARY:Assassins
DESCRIPTION:Assassins: A Riveting Musical at NJCU’s Center for the Arts \n\n\n\n\n\n\n\n\n\n📍 Margaret Williams Theatre\, Jersey City\, NJ📅 October 25–27 & October 31–November 2\, 2025 \n\n\n\nGet ready for an unforgettable theatrical experience as NJCU’s Center for the Arts presents Assassins\, a bold and gripping musical that dives deep into the darker corners of American history and culture. Featuring the genius of Stephen Sondheim (music and lyrics) and John Weidman (book)\, and under the direction of Marc G. Dalio\, this provocative production takes center stage over two weekends this fall. \n\n\n\n🎟️ Ticket Info:\n\n\n\n\nGeneral Admission: $25\n\n\n\nStudents & Seniors: $15\n\n\n\n\n\n\n\n\n📆 Performance Schedule\n\n\n\nWeekend One: \n\n\n\n\nFriday\, October 25\, 2025 – 7:30 PM\n\n\n\nSaturday\, October 26\, 2025 – 7:30 PM\n\n\n\nSunday\, October 27\, 2025 – 3:00 PM\n\n\n\n\nWeekend Two: \n\n\n\n\nFriday\, October 31\, 2025 – 7:30 PM\n\n\n\nSaturday\, November 1\, 2025 – 7:30 PM\n\n\n\nSunday\, November 2\, 2025 – 3:00 PM\n\n\n\n\n\n\n\n\n💥 About the Show\n\n\n\nAssassins shines a spotlight on nine infamous individuals who attempted — and in some cases succeeded — in assassinating U.S. Presidents. This daring one-act “revusical” breaks the boundaries of time and place\, uniting historical figures like John Wilkes Booth and Lee Harvey Oswald in a chillingly surreal narrative. \n\n\n\nWith Sondheim’s masterful score and Weidman’s compelling storytelling\, this award-winning musical exposes the underbelly of the American Dream — examining fame\, disillusionment\, and the unsettling power of notoriety. \n\n\n\nExpect a night of unforgettable music\, thought-provoking themes\, and bold performances that will challenge your view of history. \n\n\n\n\n\n\n\n🔗 Stay Connected\n\n\n\nDon’t miss upcoming musicals\, plays\, and special events from NJCU’s vibrant arts scene. Follow us on Instagram and Facebook for the latest updates and behind-the-scenes sneak peeks.
URL:https://explorenewjersey.org/event/assassins/
LOCATION:Margaret Williams Theatre\, 2039 Kennedy Blvd\, Jersey City\, New Jersey\, 07305\, United States
CATEGORIES:Theatre
ATTACH;FMTTYPE=image/jpeg:https://explorenewjersey.org/wp-content/uploads/2025/09/Assassins-V8.jpg
END:VEVENT
BEGIN:VEVENT
DTSTART;TZID=America/New_York:20251031T170000
DTEND;TZID=America/New_York:20251116T233000
DTSTAMP:20260419T211321
CREATED:20250930T124830Z
LAST-MODIFIED:20250930T124846Z
UID:61118-1761930000-1763335800@explorenewjersey.org
SUMMARY:Dutchman and The Slave
DESCRIPTION:Dutchman and The Slave – Theater Production \n\n\n\n\n\n\n\n\n\nExperience a groundbreaking theatrical event with Dutchman and The Slave\, a powerful two-act presentation that reimagines two classic works by acclaimed playwright and activist Amiri Baraka\, formerly known as LeRoi Jones. \n\n\n\nDutchman delivers a charged and symbolic retelling of the Adam and Eve story\, set entirely on a subway car\, exploring themes of desire\, conflict\, and societal tension. The Slave delves into racial dynamics in modern America\, following Walker Vessles\, a Black man confronting the complexities of visiting his ex-wife—now married to a white professor. \n\n\n\nThis production merges both plays into a single\, seamless performance\, offering audiences a unique experience unlike any previous staging. Expect thought-provoking dialogue\, intense performances\, and a creative interpretation that brings new depth to Baraka’s enduring works.
URL:https://explorenewjersey.org/event/dutchman-and-the-slave/
LOCATION:Passage Theatre / Mill Hill Playhouse\, 205 East Front Street\, Trenton\, New Jersey\, 08611\, United States
CATEGORIES:Theatre
ATTACH;FMTTYPE=image/jpeg:https://explorenewjersey.org/wp-content/uploads/2025/09/passage-Sep29-1.jpg
ORGANIZER;CN="Passage Theatre Company":MAILTO:info@passagetheatre.org
END:VEVENT
BEGIN:VEVENT
DTSTART;TZID=America/New_York:20251102T170000
DTEND;TZID=America/New_York:20251102T233000
DTSTAMP:20260419T211321
CREATED:20250924T153647Z
LAST-MODIFIED:20250924T153703Z
UID:60352-1762102800-1762126200@explorenewjersey.org
SUMMARY:Will Wood: Halloween 2025
DESCRIPTION:Will Wood: Halloween 2025 – Live in Jersey City \n\n\n\n\n\n\n\n\n\nDate & Time: Sunday\, November 2\, 2025 | Doors at 7:00 PM | Show at 8:00 PM \n\n\n\nCelebrate the spooky season with indie singer-songwriter Will Wood as he closes out Halloween weekend with his band Tapeworms. Known for blending music\, storytelling\, and theatrical performance\, Will Wood delivers a one-of-a-kind live experience that defies traditional genres and keeps audiences captivated from start to finish. \n\n\n\nOver the past decade\, Will Wood has evolved from a daring\, unconventional indie artist into a master of emotive storytelling and eclectic performance. His shows mix everything from art-rock and chamber-pop to alt-comedy and high-energy theatricality. Fans attending his “Mr. Wood is Dead” 10-year anniversary tour can expect both intimate storytelling and the wild\, raucous energy of Tapeworms’ live performances. \n\n\n\nVenue: White Eagle Hall\, Jersey City\, NJ \n\n\n\nTicket Information: \n\n\n\n\nGeneral Admission (18+): $47.10\n\n\n\nTicket Limit: 6 per customer\n\n\n\nPrint@Home / Mobile Tickets: Free\n\n\n\nDay-of-Show Tickets Available: November 2\, 2025\, starting at 12:00 AM EST\n\n\n\n\nWill Wood is a New Jersey local with a unique personal life—pescatarian\, collector of stuffed rats\, and caretaker for rescued stray cats. Fans interested in supporting his charitable efforts can learn more about his animal rescue partnership. \n\n\n\nDon’t miss this unforgettable Halloween night of music\, storytelling\, and offbeat performance in Jersey City.
URL:https://explorenewjersey.org/event/will-wood-halloween-2025/
LOCATION:White Eagle Hall\, 337 Newark Avenue \, NJ\, Jersey City\, New Jersey\, 07302\, United States
CATEGORIES:Concerts,Music
ATTACH;FMTTYPE=image/webp:https://explorenewjersey.org/wp-content/uploads/2025/09/Will-Wood.webp
ORGANIZER;CN="White Eagle Hall":MAILTO:info@wehjc.com
END:VEVENT
BEGIN:VEVENT
DTSTART;TZID=America/New_York:20251102T170000
DTEND;TZID=America/New_York:20251102T233000
DTSTAMP:20260419T211321
CREATED:20251024T144253Z
LAST-MODIFIED:20251024T144301Z
UID:65079-1762102800-1762126200@explorenewjersey.org
SUMMARY:Mrs. Stern Wanders the Prussian State Library
DESCRIPTION:Luna Stage Extends Run of “Mrs. Stern Wanders the Prussian State Library” Through Early November \n\n\n\n\n\n\n\n\n\nLuna Stage in West Orange has announced that its acclaimed production of Mrs. Stern Wanders the Prussian State Library will continue performances through Sunday\, November 9\, 2025. The tense psychological drama\, directed by Luna Stage Artistic Director Ari Laura Kreith\, transports audiences to Berlin in 1933\, exploring the perilous world of Nazi Germany through the lens of one of the 20th century’s most iconic thinkers\, Hannah Arendt. \n\n\n\nThe play\, inspired by real events\, follows a young Gestapo officer who interrogates graduate student Hannah Arendt\, portrayed by Ella Dershowitz\, as she pursues research deemed illegal by the regime. Brett Temple plays the officer whose investigations put Arendt in imminent danger. The narrative delves into themes of surveillance\, intellectual freedom\, and moral courage\, creating a suspenseful yet profoundly human story as Arendt seeks a way to escape Nazi oppression. \n\n\n\nCritics have praised the production for its gripping storytelling and exceptional performances. The play has been recognized as one of the “Best Dramas of the Year” by This Week in New York and secured a spot on Theaterscene’s 10 Best List\, further cementing its status as a standout in contemporary theater. \n\n\n\nMrs. Stern Wanders the Prussian State Library was written by Jenny Lyn Bader and first developed at Luna Stage in 2019. After its initial premiere\, the play enjoyed runs Off-Broadway in New York and in Massachusetts\, bringing national attention back to the West Orange theater. Luna Stage’s return production features the original cast and continues the company’s commitment to producing bold\, challenging work that resonates with modern audiences. \n\n\n\nPerformances are held at Luna Stage\, located at 555 Valley Road\, West Orange\, with all tickets offered on a pay-what-you-choose basis. This pricing model reflects the theater’s ongoing commitment to equity and accessibility\, ensuring that high-quality professional theater is available to all members of the community regardless of financial means. The venue is conveniently located near the Highland Avenue NJ Transit station\, and a parking lot is accessible off Hazel Avenue. \n\n\n\nSince its founding in 1992\, Luna Stage has earned a reputation as a leading regional theater dedicated to developing new plays and fostering community engagement. The company emphasizes presenting work that reflects the rich diversity of the Valley Arts District and beyond\, offering educational programs\, artist residencies\, and classes for all ages. The theater’s productions have not only premiered locally but often gone on to be staged in New York and other cities across the country\, highlighting its role as an incubator for innovative theatrical work. \n\n\n\nWith its return production of Mrs. Stern Wanders the Prussian State Library\, Luna Stage continues to combine historical insight with contemporary relevance\, offering audiences an intense theatrical experience that challenges\, educates\, and engages. For more information on performances\, schedules\, and tickets\, as well as additional regional theater offerings\, visit Explore New Jersey Theatre.
URL:https://explorenewjersey.org/event/mrs-stern-wanders-the-prussian-state-library/
LOCATION:Luna Stage\, 555 Valley Road\, West Orange\, New Jersey\, 07052\, United States
ATTACH;FMTTYPE=image/webp:https://explorenewjersey.org/wp-content/uploads/2025/10/SEASON_POSTER_25_26_w_DATES-scaled.webp
ORGANIZER;CN="Luna Stage":MAILTO:info@lunastage.org
END:VEVENT
END:VCALENDAR