BEGIN:VCALENDAR
VERSION:2.0
PRODID:-//Explore New Jersey - ECPv6.15.20//NONSGML v1.0//EN
CALSCALE:GREGORIAN
METHOD:PUBLISH
X-WR-CALNAME:Explore New Jersey
X-ORIGINAL-URL:https://explorenewjersey.org
X-WR-CALDESC:Events for Explore New Jersey
REFRESH-INTERVAL;VALUE=DURATION:PT1H
X-Robots-Tag:noindex
X-PUBLISHED-TTL:PT1H
BEGIN:VTIMEZONE
TZID:America/New_York
BEGIN:DAYLIGHT
TZOFFSETFROM:-0500
TZOFFSETTO:-0400
TZNAME:EDT
DTSTART:20240310T070000
END:DAYLIGHT
BEGIN:STANDARD
TZOFFSETFROM:-0400
TZOFFSETTO:-0500
TZNAME:EST
DTSTART:20241103T060000
END:STANDARD
BEGIN:DAYLIGHT
TZOFFSETFROM:-0500
TZOFFSETTO:-0400
TZNAME:EDT
DTSTART:20250309T070000
END:DAYLIGHT
BEGIN:STANDARD
TZOFFSETFROM:-0400
TZOFFSETTO:-0500
TZNAME:EST
DTSTART:20251102T060000
END:STANDARD
BEGIN:DAYLIGHT
TZOFFSETFROM:-0500
TZOFFSETTO:-0400
TZNAME:EDT
DTSTART:20260308T070000
END:DAYLIGHT
BEGIN:STANDARD
TZOFFSETFROM:-0400
TZOFFSETTO:-0500
TZNAME:EST
DTSTART:20261101T060000
END:STANDARD
END:VTIMEZONE
BEGIN:VEVENT
DTSTART;TZID=America/New_York:20251002T080000
DTEND;TZID=America/New_York:20251102T170000
DTSTAMP:20260420T041833
CREATED:20250718T140842Z
LAST-MODIFIED:20250718T141130Z
UID:46807-1759392000-1762102800@explorenewjersey.org
SUMMARY:Bull Durham
DESCRIPTION:Experience the Magic: Paper Mill Playhouse Unleashes “Bull Durham” Musical for 2025-2026 Season Opener! \n\n\n\n\n\n\n\n\n\nProduction Name: Bull Durham\, a new musical. \n\n\n\nPaper Mill Playhouse: It is the “Official State Theater of New Jersey\,” a recipient of the Regional Theatre Tony Award\, and a highly acclaimed non-profit professional theater known for launching new musicals and significant revivals before they head to Broadway. This is a key point for the SEO and “uniqueness” factor. \n\n\n\nPerformance Dates: The show runs from Thursday\, October 2 to Sunday\, November 2\, 2025\, with a press opening on Sunday\, October 12. \n\n\n\nPlot Synopsis: The musical\, based on the classic 1988 film\, is a love story set against the backdrop of minor league baseball. It follows veteran catcher “Crash” Davis\, tasked with mentoring hotshot rookie pitcher “Nuke” LaLoosh\, while the team’s witty and alluring muse\, Annie Savoy\, finds herself at the center of a steamy love triangle. \n\n\n\nCreative Team: \n\n\n\nDirector: Marc Bruni (The Great Gatsby). \n\n\n\nChoreographer: Joshua Bergasse (Smash). \n\n\n\nBook: Ron Shelton (the original screenwriter/director of the film). \n\n\n\nMusic and Lyrics: Susan Werner. \n\n\n\nCasting: \n\n\n\nCarmen Cusack (Tony nominee for Bright Star) as Annie Savoy. \n\n\n\nNik Walker (Hamilton\, Spamalot) as Crash Davis. \n\n\n\nWill Savarese (from the Frozen national tour) as Nuke LaLoosh. \n\n\n\nOther key cast members: Joel Ashur\, Ashlyn Maddox\, James Moye\, Andrew Poston\, and Nick Wyman. \n\n\n\nWith this detailed information\, I can now write a compelling directory listing that is unique\, great for SEO\, and written in the requested tone\, without mentioning any sources. I will highlight the “Broadway-bound” nature of the production and the star power of the cast and creative team to attract a wide audience.### Paper Mill Playhouse Announces World-Class Cast for Bull Durham Musical \n\n\n\nMillburn\, NJ – Get ready for a home run this fall! The legendary Paper Mill Playhouse\, New Jersey’s official State Theater\, is kicking off its 2025-2026 season with the highly anticipated new musical\, Bull Durham. This production promises a fresh take on the beloved classic\, blending America’s favorite pastime with a captivating love story. \n\n\n\nThe show\, which is a key stop on its journey to Broadway\, has secured a stellar cast and an acclaimed creative team. Leading the lineup is two-time Tony Award nominee Carmen Cusack as the fiery and philosophical “baseball muse” Annie Savoy\, a role she brings to life with her powerful stage presence. Joining her is Broadway favorite Nik Walker\, taking on the role of the jaded but charming veteran catcher\, Crash Davis. Together\, they anchor the stage in a compelling romance that unfolds as Crash mentors a talented-but-dimwitted rookie pitcher\, Nuke LaLoosh\, played by the dynamic Will Savarese. \n\n\n\nThe production is helmed by the brilliant creative team of director Marc Bruni\, renowned for his work on the hit musical The Great Gatsby\, and choreographer Joshua Bergasse. The musical’s book is adapted by the film’s original\, Academy Award-nominated writer and director\, Ron Shelton\, with music and lyrics by the brilliant songwriter Susan Werner. This powerhouse collaboration guarantees a show that is both true to its roots and bursting with innovative theatricality. \n\n\n\nBull Durham offers a pitch-perfect blend of comedy\, romance\, and heart\, making it a must-see event for theater lovers and baseball fans alike. Don’t miss your chance to witness this major new musical as it makes its triumphant New Jersey premiere. \n\n\n\nPerformance Dates: \n\n\n\n\nFirst Performance: Thursday\, October 2\, 2025\n\n\n\nOfficial Opening: Sunday\, October 12\, 2025\n\n\n\nFinal Performance: Sunday\, November 2\, 2025\n\n\n\n\nExperience the magic of a world-class production right here in New Jersey. Secure your seats to see the show that everyone will be talking about this fall.
URL:https://explorenewjersey.org/event/bull-durham/
LOCATION:Paper Mill Playhouse\, 22 Brookside Drive \, NJ\, Millburn\, New Jersey\, 07041\, United States
CATEGORIES:Theatre
ATTACH;FMTTYPE=image/jpeg:https://explorenewjersey.org/wp-content/uploads/2025/07/paper-July17-1.jpg
ORGANIZER;CN="Paper Mill Playhouse":MAILTO:BoxOffice@PaperMill.org
END:VEVENT
BEGIN:VEVENT
DTSTART;TZID=America/New_York:20251009T170000
DTEND;TZID=America/New_York:20251026T233000
DTSTAMP:20260420T041833
CREATED:20251004T181231Z
LAST-MODIFIED:20251007T160917Z
UID:62240-1760029200-1761521400@explorenewjersey.org
SUMMARY:Topdog/Underdog
DESCRIPTION:Vanguard Theater: “Topdog/Underdog”Dates: October 9–26\, 2025 \n\n\n\n\n\n\n\n\n\nVanguard Theater invites audiences to experience Topdog/Underdog\, the acclaimed Pulitzer Prize-winning play by Suzan-Lori Parks. This gripping drama explores the complexities of brotherhood\, rivalry\, and survival with dark humor and profound emotional depth. Praised for its raw storytelling and unforgettable characters\, Topdog/Underdog offers an intimate theater experience that resonates with both longtime theater enthusiasts and newcomers alike. Don’t miss your chance to see this modern classic live on stage in New Jersey this October.
URL:https://explorenewjersey.org/event/topdog-underdog/
LOCATION:Vanguard Theater\, 180 Bloomfield Avenue\, Montclair\, New Jersey\, 07042\, United States
CATEGORIES:Theatre
ATTACH;FMTTYPE=image/webp:https://explorenewjersey.org/wp-content/uploads/2025/10/topdogcover.webp
ORGANIZER;CN="Vanguard Theater Company":MAILTO:info@dreamvtc.org
END:VEVENT
BEGIN:VEVENT
DTSTART;TZID=America/New_York:20251009T173000
DTEND;TZID=America/New_York:20251026T233000
DTSTAMP:20260420T041833
CREATED:20251014T155829Z
LAST-MODIFIED:20251014T155845Z
UID:63550-1760031000-1761521400@explorenewjersey.org
SUMMARY:The Supreme Leader
DESCRIPTION:The Supreme Leader – East Coast Premiere at Mile Square Theatre\, Hoboken \n\n\n\n\n\n\n\n\n\nCatch the East Coast premiere of The Supreme Leader\, a sharp and witty comedy by acclaimed playwright Don X. Nguyen\, now playing at Mile Square Theatre in Hoboken. This limited engagement opened on October 9\, 2025\, and will run through October 26\, 2025\, offering audiences a chance to experience the first production under the theater’s new artistic director\, Chris Cragin-Day. \n\n\n\nKnown for blending humor with insightful social commentary\, The Supreme Leader delivers an engaging theater experience perfect for both longtime drama enthusiasts and newcomers to live performance. Mile Square Theatre’s intimate stage provides a unique setting\, enhancing the comedic timing and character-driven storytelling that make this production stand out. \n\n\n\nTickets are available for select performances throughout the limited run\, giving Hoboken audiences an exclusive opportunity to witness this premiere. Whether you’re seeking an evening of laughter or a fresh\, thought-provoking theatrical experience\, The Supreme Leader promises a memorable outing. \n\n\n\nFor more information about this production and other live performances across New Jersey\, visit Explore New Jersey Arts & Culture.
URL:https://explorenewjersey.org/event/the-supreme-leader/
LOCATION:Mile Square Theatre\, 1400 Clinton St\, Hoboken\, New Jersey\, 07030\, United States
CATEGORIES:Theatre
ATTACH;FMTTYPE=image/webp:https://explorenewjersey.org/wp-content/uploads/2025/10/image-1.webp
ORGANIZER;CN="Mile Square Theatre":MAILTO:info@milesquaretheatre.org
END:VEVENT
BEGIN:VEVENT
DTSTART;TZID=America/New_York:20251009T190000
DTEND;TZID=America/New_York:20251026T233000
DTSTAMP:20260420T041833
CREATED:20251012T165636Z
LAST-MODIFIED:20251012T165653Z
UID:63340-1760036400-1761521400@explorenewjersey.org
SUMMARY:Hamlet
DESCRIPTION:Hamlet – Art House Productions | October 9–26\, 2025 \n\n\n\n\n\n\n\n\n\nExperience a bold and inventive take on Shakespeare’s timeless classic with Art House Productions’ staging of Hamlet\, running from October 9 through 26\, 2025. Under the direction of C. Rashee Stevenson\, this production transforms the iconic revenge tragedy into a cosmic crime thriller\, blending existential themes with intense psychological drama. \n\n\n\nIn this reimagined version\, Hamlet’s world unravels as he grapples with the ghost of his father and the harrowing task of avenging a brutal murder. The play explores the thin line between reality and hallucination\, pushing the boundaries of perception\, morality\, and human consciousness. The production incorporates additional text from Jean Genet’s Les Nègres and Les Paravents as well as the works of F. Garcia Lorca\, adding layers of depth\, modern resonance\, and cultural texture to Shakespeare’s original masterpiece. \n\n\n\nThis immersive performance promises a gripping theatrical experience\, examining themes of madness\, morality\, and metaphysics while keeping audiences on the edge of their seats. The runtime is approximately 2 hours and 30 minutes\, including an intermission\, allowing viewers to fully engage with this thought-provoking reinterpretation. \n\n\n\nFor theatergoers seeking a challenging\, contemporary twist on a classic tale\, Art House Productions’ Hamlet offers an unforgettable journey into intrigue\, revenge\, and the human psyche.
URL:https://explorenewjersey.org/event/hamlet/
LOCATION:Art House Productions\, 345 Marin Boulevard\, Jersey City\, New Jersey\, 07302\, United States
CATEGORIES:Theatre
ATTACH;FMTTYPE=image/webp:https://explorenewjersey.org/wp-content/uploads/2025/10/EVENT_Images_-_Shopify_2025_-_2025-09-04T151626.932_1000x.progressive.png.webp
ORGANIZER;CN="Art House Productions":MAILTO:info@arthouseproductions.org
END:VEVENT
BEGIN:VEVENT
DTSTART;TZID=America/New_York:20251014T183000
DTEND;TZID=America/New_York:20251102T233000
DTSTAMP:20260420T041833
CREATED:20250827T141935Z
LAST-MODIFIED:20250827T141939Z
UID:55409-1760466600-1762126200@explorenewjersey.org
SUMMARY:An Old-Fashioned Family Murder
DESCRIPTION:An Old-Fashioned Family Murder \n\n\n\n\n\n\n\nWhere: George Street PlayhouseDates: October 14 – November 2\, 2025Tickets: Starting at $35 | Available Now \n\n\n\nStep into a stormy night filled with suspense and dark humor at George Street Playhouse with An Old-Fashioned Family Murder\, a clever comic mystery from Tony® Award-winning playwright Joe DiPietro. A stately estate hides deep secrets\, and when a pompous author exposes a family scandal\, tensions erupt into murder. \n\n\n\nEvery guest is a suspect— from a sharp-witted widow to a charming fiancé and a jealous daughter—each carrying hidden motives. As secrets unravel and betrayals surface\, Mrs. Peck’s maternal instincts may just outsmart the detective\, making this a night of twists\, laughter\, and intrigue you won’t forget. \n\n\n\nBuy your tickets now and experience a suspenseful evening where nothing is as it seems.
URL:https://explorenewjersey.org/event/an-old-fashioned-family-murder/
LOCATION:George Street Playhouse\, 11 Livingston Avenue\, New Brunswick\, New Jersey\, United States
CATEGORIES:Theatre
ATTACH;FMTTYPE=image/webp:https://explorenewjersey.org/wp-content/uploads/2025/08/25-26-Web-Pages-1440-x-755-px-2bd946eff7.webp
END:VEVENT
BEGIN:VEVENT
DTSTART;TZID=America/New_York:20251017T000000
DTEND;TZID=America/New_York:20251027T235959
DTSTAMP:20260420T041833
CREATED:20250817T185936Z
LAST-MODIFIED:20250817T185939Z
UID:53556-1760659200-1761609599@explorenewjersey.org
SUMMARY:Montclair Film Festival
DESCRIPTION:Where Storytelling Connects\, Inspires\, and Transforms \n\n\n\n\n\n\n\n\n\n📅 October 17–26\, 2025📍 Montclair\, New Jersey \n\n\n\nThe Montclair Film Festival (MFF) is one of New Jersey’s most celebrated cultural events\, transforming the vibrant town of Montclair into a hub for filmmakers\, industry professionals\, and passionate audiences. Each fall\, the festival presents an outstanding lineup of films\, conversations\, and community events that explore the power of storytelling to deepen human connection and inspire change. \n\n\n\nA Festival with Purpose\n\n\n\nMontclair Film Festival isn’t just about watching films—it’s about experiencing the transformative impact of cinema. The festival’s mission is to celebrate creativity\, educate and inspire new generations of storytellers\, and challenge audiences with content that sparks meaningful dialogue. \n\n\n\nMFF is also committed to supporting the local economy and arts community through partnerships with businesses\, nonprofits\, and cultural organizations. This collaborative spirit makes the festival a cornerstone of New Jersey’s thriving arts scene. \n\n\n\nWhat Sets Montclair Film Festival Apart\n\n\n\nAttendees can expect: \n\n\n\n\nA diverse program of films across genres and cultures\n\n\n\nPanels and Q&As with filmmakers and industry leaders\n\n\n\nEducational initiatives for aspiring filmmakers and students\n\n\n\nCommunity discussions that encourage open dialogue and fresh perspectives\n\n\n\nSpecial events and celebrations that bring people together through the joy of film\n\n\n\n\nCore Values that Drive MFF\n\n\n\nThe Montclair Film Festival is guided by principles that reflect its commitment to inclusivity and innovation: \n\n\n\n\nInclusivity: Creating a welcoming space where all voices are heard and respected\n\n\n\nCreativity & Innovation: Championing bold storytelling and new ideas\n\n\n\nCollaboration: Building partnerships across communities and industries\n\n\n\nTransparency & Integrity: Operating with openness and accountability\n\n\n\nEmpathy: Encouraging understanding through diverse experiences and perspectives\n\n\n\n\nExperience Montclair Film Festival 2025\n\n\n\nOver ten days in October\, Montclair becomes a destination for film lovers\, storytellers\, and creators from across New Jersey and beyond. Whether you’re an industry professional\, a student\, or someone who simply loves the magic of movies\, MFF offers a rich\, engaging\, and unforgettable experience.
URL:https://explorenewjersey.org/event/montclair-film-festival/
LOCATION:The Clairidge\, 486 Bloomfield Ave\, \, NJ\, Montclair\, New Jersey\, 07042\, United States
CATEGORIES:Film & TV,Film Festivals
ATTACH;FMTTYPE=image/jpeg:https://explorenewjersey.org/wp-content/uploads/2025/08/MFF25-WEB.jpg
ORGANIZER;CN="Montclair Film":MAILTO:info@montclairfilm.org
END:VEVENT
BEGIN:VEVENT
DTSTART;TZID=America/New_York:20251022T170000
DTEND;TZID=America/New_York:20251116T233000
DTSTAMP:20260420T041833
CREATED:20251101T185042Z
LAST-MODIFIED:20251101T185053Z
UID:66136-1761152400-1763335800@explorenewjersey.org
SUMMARY:Mary Shelley's Frankenstein
DESCRIPTION:Shakespeare Theatre of New Jersey Brings Mary Shelley’s Frankenstein to Life\n\n\n\n\n\n\n\n\n\nThe Shakespeare Theatre of New Jersey invites audiences to confront one of literature’s most enduring questions: who is the true monster — the creator or the creation? Their latest production\, Mary Shelley’s Frankenstein\, adapted by David Catlin\, immerses theatergoers in a chilling\, thought-provoking retelling of the Gothic classic\, running through November 16. \n\n\n\nSet against a backdrop of flickering lightning and rolling thunder\, this adaptation captures the full intensity of Mary Shelley’s original vision. The story delves into themes of ambition\, creation\, love\, and revenge\, all while presenting audiences with haunting questions about the nature of humanity. The stage becomes a living\, breathing Gothic landscape where horror and pathos collide\, and where the consequences of unbridled scientific curiosity ripple through the lives of both creator and creature. \n\n\n\nThe cast is led by Amber Friendly as Mary Wollstonecraft Shelley/Elizabeth\, Neil Redfield in the dual role of Dr. John Polidori/Henry\, and Brooke Turner as Claire Clairmont/Mother. Jay Wade portrays the Creature\, a role that demands both physical presence and emotional depth\, while Sean-Michael Wilkinson brings Victor Frankenstein to life\, portraying a man driven by obsession and haunted by his own hubris. All five principal performers are members of the Actors Equity Association\, bringing a polished and professional energy to this immersive experience. \n\n\n\nUnder the direction of Brian B. Crowe\, the production combines stylized horror with moments of profound introspection. Haze and carefully crafted lighting effects heighten the atmosphere\, pulling the audience deeper into the narrative as the lines between science and morality blur. While the production contains elements of horror and stylized violence\, it is equally a meditation on grief\, isolation\, and the human desire for connection. The adaptation encourages viewers to consider what it truly means to play God and the ethical implications of unchecked ambition. \n\n\n\n\n\n\n\nRecommended for audiences ages 12 and older\, Mary Shelley’s Frankenstein is not just a Halloween thrill — it’s an intellectually engaging journey that challenges viewers to consider the consequences of creation and the responsibilities that come with power. The production’s mix of suspense\, dark humor\, and emotional intensity makes it a standout in this season’s lineup at the Shakespeare Theatre of New Jersey. \n\n\n\nTickets and additional information for this gripping production can be found through Explore New Jersey Theatre. Audiences looking for a night of Gothic intrigue\, theatrical excellence\, and the eerie pulse of classic literature brought to life will find Mary Shelley’s Frankenstein a captivating experience not to be missed.
URL:https://explorenewjersey.org/event/mary-shelleys-frankenstein/
LOCATION:F.M. Kirby Shakespeare Theatre\, 36 Madison Avenue\, Madison\, New Jersey\, 07940\, United States
CATEGORIES:Theatre
ATTACH;FMTTYPE=image/webp:https://explorenewjersey.org/wp-content/uploads/2025/11/850x550-frank-f70e2f3c23.webp
END:VEVENT
BEGIN:VEVENT
DTSTART;TZID=America/New_York:20251023T000000
DTEND;TZID=America/New_York:20251023T000000
DTSTAMP:20260420T041833
CREATED:20250728T132103Z
LAST-MODIFIED:20250728T151007Z
UID:48827-1761177600-1761177600@explorenewjersey.org
SUMMARY:Hanson
DESCRIPTION:Are you ready to experience Hanson like never before? With chart-topping hits like MMMBop\, MMMBop – Single Version and Save Me and 510K+ devoted fans\, expect an unforgettable performance featuring all your favorite songs and some surprises you’ve never heard before. So\, if you’re discovering Hanson for the first time\, this show will blow your mind.\n2.4M+ fans stream their music monthly\, Hanson has viral singles in every playlist and are at the peak of their career. If you’re a long-time fan or just love the buzz\, this show will be one for the books.\nHanson has been setting the stage on fire with performances that leave fans begging for more. With an incredible setlist and live versions of your favorite songs\, you’ll leave with stories to tell (and maybe a few epic selfies)
URL:https://explorenewjersey.org/event/hanson/
LOCATION:New Jersey
CATEGORIES:Concerts,Music
ATTACH;FMTTYPE=image/jpeg:https://explorenewjersey.org/wp-content/uploads/2025/07/Hanson-2025-840-fcb277acb4-Jazuxy.jpg
END:VEVENT
BEGIN:VEVENT
DTSTART;TZID=America/New_York:20251023T000000
DTEND;TZID=America/New_York:20251023T000000
DTSTAMP:20260420T041833
CREATED:20250808T185329Z
LAST-MODIFIED:20250808T200856Z
UID:51742-1761177600-1761177600@explorenewjersey.org
SUMMARY:New Jersey Symphony: Disney’s Fantasia in Concert
DESCRIPTION:Experience Disney’s groundbreaking marriage of symphonic music and animation\, Fantasia. Beloved repertoire from the original 1940 version and Fantasia 2000\, including The Sorcerer’s Apprentice\, Beethoven’s Fifth Symphony\, and The Nutcracker Suite\, will be performed by the New Jersey Symphony while Disney’s stunning footage is shown on the big screen. Enjoy iconic moments and childhood favorites like never before!
URL:https://explorenewjersey.org/event/new-jersey-symphony-disneys-fantasia-in-concert/
LOCATION:New Jersey
CATEGORIES:Concerts,Music
ATTACH;FMTTYPE=image/jpeg:https://explorenewjersey.org/wp-content/uploads/2025/08/NJS_Fantasia-zOyznu.jpg
END:VEVENT
END:VCALENDAR