BEGIN:VCALENDAR
VERSION:2.0
PRODID:-//Explore New Jersey - ECPv6.15.20//NONSGML v1.0//EN
CALSCALE:GREGORIAN
METHOD:PUBLISH
X-ORIGINAL-URL:https://explorenewjersey.org
X-WR-CALDESC:Events for Explore New Jersey
REFRESH-INTERVAL;VALUE=DURATION:PT1H
X-Robots-Tag:noindex
X-PUBLISHED-TTL:PT1H
BEGIN:VTIMEZONE
TZID:America/New_York
BEGIN:DAYLIGHT
TZOFFSETFROM:-0500
TZOFFSETTO:-0400
TZNAME:EDT
DTSTART:20240310T070000
END:DAYLIGHT
BEGIN:STANDARD
TZOFFSETFROM:-0400
TZOFFSETTO:-0500
TZNAME:EST
DTSTART:20241103T060000
END:STANDARD
BEGIN:DAYLIGHT
TZOFFSETFROM:-0500
TZOFFSETTO:-0400
TZNAME:EDT
DTSTART:20250309T070000
END:DAYLIGHT
BEGIN:STANDARD
TZOFFSETFROM:-0400
TZOFFSETTO:-0500
TZNAME:EST
DTSTART:20251102T060000
END:STANDARD
BEGIN:DAYLIGHT
TZOFFSETFROM:-0500
TZOFFSETTO:-0400
TZNAME:EDT
DTSTART:20260308T070000
END:DAYLIGHT
BEGIN:STANDARD
TZOFFSETFROM:-0400
TZOFFSETTO:-0500
TZNAME:EST
DTSTART:20261101T060000
END:STANDARD
END:VTIMEZONE
BEGIN:VEVENT
DTSTART;TZID=America/New_York:20250905T000000
DTEND;TZID=America/New_York:20251010T235959
DTSTAMP:20260424T234527
CREATED:20250705T153028Z
LAST-MODIFIED:20250705T153030Z
UID:42875-1757030400-1760140799@explorenewjersey.org
SUMMARY:New Jersey Film Festival
DESCRIPTION:New Jersey Film Festival – Fall 2025 \n\n\n\n\n\n\n\n\n\nDates: September 5 – October 10\, 2025Location: Rutgers University & Online | 71 Hamilton Street\, New Brunswick\, NJ \n\n\n\nGet ready for a cinematic experience like no other at the 44th Bi-Annual New Jersey Film Festival\, returning this fall with a dynamic hybrid format. From September 5 through October 10\, this highly anticipated event will showcase a diverse lineup of groundbreaking independent films\, available both virtually on demand and in-person at Rutgers University in New Brunswick. \n\n\n\nEach film will stream online for 24 hours on its scheduled date\, starting at 12:00 AM EST\, giving film lovers the flexibility to watch from anywhere. If you’re local or looking for a night out\, select screenings will also take place live at Voorhees Hall #105 on the Rutgers campus\, offering an engaging community atmosphere and exclusive discussions. \n\n\n\n🎟️ Ticket Information: \n\n\n\n\nGeneral Admission (per program): $15\n\n\n\nFestival All Access Pass: $120\n\n\n\nIn-Person Student Ticket (per program): $10\n\n\n\nFilmmaking Workshops: FREE (advance registration required)\n\n\n\n\n🎬 Special Events:This season\, the festival proudly features three free filmmaking workshops\, designed for aspiring creatives and open to the public. Space is limited\, so early registration is recommended. \n\n\n\nAnd don’t miss a special multimedia concert by the critically acclaimed Cold Weather Company on Friday\, October 10 at 7PM—a unique blend of music and visual storytelling that will close the festival on a high note. \n\n\n\n📍 In-Person Screenings\, Workshops\, and Live Events Location:Voorhees Hall #105Rutgers University71 Hamilton Street\, New Brunswick\, NJPrograms begin at 1PM\, 5PM\, or 7PM\, depending on the screening schedule. \n\n\n\n🎥 Whether you’re a film buff\, a student of cinema\, or simply looking to experience some of the best independent films of the season\, the New Jersey Film Festival Fall 2025 is your ticket to bold storytelling and unforgettable moments. \n\n\n\n📧 To register for free workshops\, email: njmac12@gmail.com
URL:https://explorenewjersey.org/event/new-jersey-film-festival/
LOCATION:Rutgers Film Co-op/New Jersey Media Arts Center\, 4170 Academic Building - 15 Seminary Place\, New Brunswick\, New Jersey\, 08901-8525\, United States
CATEGORIES:Film & TV,Film Festivals
ATTACH;FMTTYPE=image/jpeg:https://explorenewjersey.org/wp-content/uploads/2025/07/NJFFFall2025CoverArtYazminOmana.jpeg
ORGANIZER;CN="Rutgers University Program in Cinema Studies":MAILTO:NJMAC12@gmail.com
END:VEVENT
BEGIN:VEVENT
DTSTART;TZID=America/New_York:20251002T080000
DTEND;TZID=America/New_York:20251102T170000
DTSTAMP:20260424T234527
CREATED:20250718T140842Z
LAST-MODIFIED:20250718T141130Z
UID:46807-1759392000-1762102800@explorenewjersey.org
SUMMARY:Bull Durham
DESCRIPTION:Experience the Magic: Paper Mill Playhouse Unleashes “Bull Durham” Musical for 2025-2026 Season Opener! \n\n\n\n\n\n\n\n\n\nProduction Name: Bull Durham\, a new musical. \n\n\n\nPaper Mill Playhouse: It is the “Official State Theater of New Jersey\,” a recipient of the Regional Theatre Tony Award\, and a highly acclaimed non-profit professional theater known for launching new musicals and significant revivals before they head to Broadway. This is a key point for the SEO and “uniqueness” factor. \n\n\n\nPerformance Dates: The show runs from Thursday\, October 2 to Sunday\, November 2\, 2025\, with a press opening on Sunday\, October 12. \n\n\n\nPlot Synopsis: The musical\, based on the classic 1988 film\, is a love story set against the backdrop of minor league baseball. It follows veteran catcher “Crash” Davis\, tasked with mentoring hotshot rookie pitcher “Nuke” LaLoosh\, while the team’s witty and alluring muse\, Annie Savoy\, finds herself at the center of a steamy love triangle. \n\n\n\nCreative Team: \n\n\n\nDirector: Marc Bruni (The Great Gatsby). \n\n\n\nChoreographer: Joshua Bergasse (Smash). \n\n\n\nBook: Ron Shelton (the original screenwriter/director of the film). \n\n\n\nMusic and Lyrics: Susan Werner. \n\n\n\nCasting: \n\n\n\nCarmen Cusack (Tony nominee for Bright Star) as Annie Savoy. \n\n\n\nNik Walker (Hamilton\, Spamalot) as Crash Davis. \n\n\n\nWill Savarese (from the Frozen national tour) as Nuke LaLoosh. \n\n\n\nOther key cast members: Joel Ashur\, Ashlyn Maddox\, James Moye\, Andrew Poston\, and Nick Wyman. \n\n\n\nWith this detailed information\, I can now write a compelling directory listing that is unique\, great for SEO\, and written in the requested tone\, without mentioning any sources. I will highlight the “Broadway-bound” nature of the production and the star power of the cast and creative team to attract a wide audience.### Paper Mill Playhouse Announces World-Class Cast for Bull Durham Musical \n\n\n\nMillburn\, NJ – Get ready for a home run this fall! The legendary Paper Mill Playhouse\, New Jersey’s official State Theater\, is kicking off its 2025-2026 season with the highly anticipated new musical\, Bull Durham. This production promises a fresh take on the beloved classic\, blending America’s favorite pastime with a captivating love story. \n\n\n\nThe show\, which is a key stop on its journey to Broadway\, has secured a stellar cast and an acclaimed creative team. Leading the lineup is two-time Tony Award nominee Carmen Cusack as the fiery and philosophical “baseball muse” Annie Savoy\, a role she brings to life with her powerful stage presence. Joining her is Broadway favorite Nik Walker\, taking on the role of the jaded but charming veteran catcher\, Crash Davis. Together\, they anchor the stage in a compelling romance that unfolds as Crash mentors a talented-but-dimwitted rookie pitcher\, Nuke LaLoosh\, played by the dynamic Will Savarese. \n\n\n\nThe production is helmed by the brilliant creative team of director Marc Bruni\, renowned for his work on the hit musical The Great Gatsby\, and choreographer Joshua Bergasse. The musical’s book is adapted by the film’s original\, Academy Award-nominated writer and director\, Ron Shelton\, with music and lyrics by the brilliant songwriter Susan Werner. This powerhouse collaboration guarantees a show that is both true to its roots and bursting with innovative theatricality. \n\n\n\nBull Durham offers a pitch-perfect blend of comedy\, romance\, and heart\, making it a must-see event for theater lovers and baseball fans alike. Don’t miss your chance to witness this major new musical as it makes its triumphant New Jersey premiere. \n\n\n\nPerformance Dates: \n\n\n\n\nFirst Performance: Thursday\, October 2\, 2025\n\n\n\nOfficial Opening: Sunday\, October 12\, 2025\n\n\n\nFinal Performance: Sunday\, November 2\, 2025\n\n\n\n\nExperience the magic of a world-class production right here in New Jersey. Secure your seats to see the show that everyone will be talking about this fall.
URL:https://explorenewjersey.org/event/bull-durham/
LOCATION:Paper Mill Playhouse\, 22 Brookside Drive \, NJ\, Millburn\, New Jersey\, 07041\, United States
CATEGORIES:Theatre
ATTACH;FMTTYPE=image/jpeg:https://explorenewjersey.org/wp-content/uploads/2025/07/paper-July17-1.jpg
ORGANIZER;CN="Paper Mill Playhouse":MAILTO:BoxOffice@PaperMill.org
END:VEVENT
BEGIN:VEVENT
DTSTART;TZID=America/New_York:20251004T160000
DTEND;TZID=America/New_York:20251020T233000
DTSTAMP:20260424T234527
CREATED:20250916T173431Z
LAST-MODIFIED:20250916T173445Z
UID:59301-1759593600-1761003000@explorenewjersey.org
SUMMARY:Festival of the Moon
DESCRIPTION:Festival of the Moon – UCPAC Rahway \n\n\n\n\n\n\n\n\n\nExperience an unforgettable celebration of art\, music\, and imagination at the Festival of the Moon\, a 17-day event taking place from October 4 through October 20\, 2025 at the Union County Performing Arts Center (UCPAC) Main Stage in Rahway\, NJ. \n\n\n\nAt the heart of the festival is Luke Jerram’s breathtaking 23-foot sculpture of the Moon\, suspended high above the stage to create a mesmerizing atmosphere unlike anything else in New Jersey. \n\n\n\nAs part of this one-of-a-kind event\, the New Jersey Symphony will perform a special evening of orchestral works inspired by our celestial companion. Conducted by Symphony Fellow Gregory D. McDaniel\, the program features a mix of timeless masterpieces and beloved popular selections. Audiences can expect stirring performances of Debussy’s “Clair de Lune\,” Jessie Montgomery’s “Starburst\,” Glenn Miller’s “Moonlight Serenade\,” and music from film favorites such as Moonstruck and E.T. the Extra-Terrestrial. \n\n\n\nFestival Dates: October 4–20\, 2025Location: Union County Performing Arts Center\, Main Stage\, Rahway\, NJ \n\n\n\nThe Festival of the Moon blends large-scale art and live music into an extraordinary cultural experience\, making it a must-see event for families\, art lovers\, and anyone looking to explore New Jersey’s vibrant performing arts scene.
URL:https://explorenewjersey.org/event/festival-of-the-moon/
LOCATION:Union County Performing Arts Center (UCPAC)\, 1601 Irving St.\, Rahway\, NJ\, 07065\, United States
CATEGORIES:Concerts,Music
ATTACH;FMTTYPE=image/webp:https://explorenewjersey.org/wp-content/uploads/2025/09/FOTM_DIGITAL_NJ_SYMPHONY_1280x720-1.webp
END:VEVENT
BEGIN:VEVENT
DTSTART;TZID=America/New_York:20251009T000000
DTEND;TZID=America/New_York:20251009T000000
DTSTAMP:20260424T234527
CREATED:20250724T134133Z
LAST-MODIFIED:20250728T123538Z
UID:47555-1759968000-1759968000@explorenewjersey.org
SUMMARY:Think:X
DESCRIPTION:Think:X is a dynamic musical collective that reimagines the music of Pink Floyd through immersive\, multimedia performances. This supergroup features a lineup of renowned musicians\, each bringing their unique backgrounds to the ensemble:\nScott Page: Saxophonist and rhythm guitarist\, known for his work with Pink Floyd\, Toto\, and Supertramp\nStephen Perkins: Drummer from Jane’s Addiction.\nNorwood Fisher: Bassist from Fishbone\nKenny Olson: Guitarist associated with Kid Rock and the Hendrix Experience\nRoberta Freeman: Vocalist who has performed with Pink Floyd and Guns N’ Roses\nDerek Day: Solo Artist and Frontman of Classless Act\, known for his energetic performances\nWill Champlin: Vocalist with credits including One Direction and Kill Will\nThink:X is more than a tribute band; they aim to bridge the gap between the human spirit and technological innovation\, offering one-of-a-kind live immersive concert experiences.\nTheir performances are known for their deep grooves and mind-expanding visuals\, creating a unique and engaging experience for audiences.​\nFor more information and updates on their performances\, you can visit their official website: .
URL:https://explorenewjersey.org/event/thinkx/
LOCATION:Wonder Bar\, 1213 Ocean Avenue\, Asbury Par\, New Jersey\, 07712\, United States
CATEGORIES:Concerts
ATTACH;FMTTYPE=image/jpeg:https://explorenewjersey.org/wp-content/uploads/2025/07/thinkx-Jpnrhz.jpg
END:VEVENT
BEGIN:VEVENT
DTSTART;TZID=America/New_York:20251009T000000
DTEND;TZID=America/New_York:20251009T000000
DTSTAMP:20260424T234527
CREATED:20250724T134832Z
LAST-MODIFIED:20250728T123922Z
UID:47600-1759968000-1759968000@explorenewjersey.org
SUMMARY:Leanne Morgan
DESCRIPTION:Comedian Leanne Morgan rose to prominence with her debut Netflix special I’m Every Woman\, showcasing her relatable humor and Southern charm. With a career spanning 25 years\, she has built a devoted following that continues to grow.\nDuring the first six months of her Just Getting Started tour\, Morgan sold over 100\,000 tickets at prestigious venues such as the Chicago Theatre and the Knoxville Civic Coliseum in her native Tennessee. Her transition from intimate comedy clubs to larger arenas came after the resounding success of her special\, affirming her status as a comedic powerhouse.\nHailing from rural Tennessee\, Morgan’s comedic style resonates with audiences of all backgrounds\, as she effortlessly weaves together humorous anecdotes about family life and everyday absurdities. Her ability to find humor in the mundane has endeared her to fans across the globe.\nLeanne’s debut book\, What in the World?\, released in September and published by Random House/Convergent\, quickly became a New York Times Best Seller. Fans can enjoy her signature blend of humor and warmth that has made her work so beloved.\nIn a significant career milestone\, Morgan fulfilled a lifelong dream of starring in her own sitcom alongside acclaimed producer Chuck Lorre for Netflix\, a collaboration that further solidified her place in the entertainment industry.\nRecognized as one of Variety’s Top 10 Comics to Watch for 2023\, Morgan continues to expand her horizons\, with an upcoming role in the Amazon Prime feature You’re Cordially Invited\, where she’ll share the screen with Will Ferrell and Reese Witherspoon.\nDespite her busy schedule\, Morgan remains grounded\, cherishing precious moments with her husband\, three children\, grandbaby\, and beloved beagle in Knoxville\, TN. Co-presented with Outback Presents\nTicket Limit 8 per order.
URL:https://explorenewjersey.org/event/leanne-morgan/
LOCATION:State Theatre New Jersey\, 15 Livingston Avenue \, NJ\, New Brunswick\, NJ\, 08901\, United States
CATEGORIES:Concerts
ATTACH;FMTTYPE=image/jpeg:https://explorenewjersey.org/wp-content/uploads/2025/07/25_10_10_leannemorgan1_615x395-bf63292e91-QqlHdJ.jpg
END:VEVENT
BEGIN:VEVENT
DTSTART;TZID=America/New_York:20251009T000000
DTEND;TZID=America/New_York:20251009T000000
DTSTAMP:20260424T234527
CREATED:20250728T131919Z
LAST-MODIFIED:20250728T151008Z
UID:48814-1759968000-1759968000@explorenewjersey.org
SUMMARY:Grupo Mania
DESCRIPTION:Opening Act: DJ Ralph Mercado\nJoin us for an electrifying performance by Grupo Mania. Known for their vibrant and energetic performances\, Grupo Mania infuses the audience with the joy of Latin music. The band creates an atmosphere filled with energy and passion. Expect to be captivated by their lively music and to witness talented musicians bringing traditional and contemporary Latin rhythms to life.
URL:https://explorenewjersey.org/event/grupo-mania/
LOCATION:New Jersey
CATEGORIES:Concerts,Music
ATTACH;FMTTYPE=image/jpeg:https://explorenewjersey.org/wp-content/uploads/2025/07/Grupo-Mania-840-2-5b734262ac-blBkUG.jpg
END:VEVENT
BEGIN:VEVENT
DTSTART;TZID=America/New_York:20251009T000000
DTEND;TZID=America/New_York:20251009T000000
DTSTAMP:20260424T234527
CREATED:20250806T143639Z
LAST-MODIFIED:20250808T201208Z
UID:51069-1759968000-1759968000@explorenewjersey.org
SUMMARY:Giants vs. Eagles
DESCRIPTION:Giants vs. Eagles
URL:https://explorenewjersey.org/event/giants-vs-eagles/
LOCATION:New Jersey
CATEGORIES:Football,Sports
ATTACH;FMTTYPE=image/png:https://explorenewjersey.org/wp-content/uploads/2025/08/v_Eagles-F4XEr4.png
END:VEVENT
BEGIN:VEVENT
DTSTART;TZID=America/New_York:20251009T000000
DTEND;TZID=America/New_York:20251009T000000
DTSTAMP:20260424T234527
CREATED:20250806T152052Z
LAST-MODIFIED:20250808T200354Z
UID:51225-1759968000-1759968000@explorenewjersey.org
SUMMARY:Geoff Tate’s Operation: Mindcrime
DESCRIPTION:Geoff Tate with Indio Downey & Tomas McCarthy \nMulti-platinum selling\, Grammy nominated singer/songwriter Geoff Tate is regarded as one of the most skilled vocalists in the rock genre with hundreds of modern\, popular artists citing him and his band as a major influence. Combining social consciousness and expertly crafted lyrics with high-energy\, melodically complex music\, Geoff and his band have become internationally recognized as the thinking man’s rock band. \nIn all\, Geoff has recorded 12 studio albums; several live albums and will release his 2nd solo album in 2013. Queensrÿche has been nominated for a Grammy four times and has had their music featured in three feature films. Since their inception\, the band has sold over 25 million albums worldwide and has performed in over 46 countries. Queensrÿche is world renowned for their innovative\, trend-setting sound and continues to enjoy incredible success\, performing for sold-out audiences worldwide. Changing the band name to Operation Mindcrime\, in 2014 Geoff began work on one of his most ambitious project\, a three part concept album with the first album recorded early 2015
URL:https://explorenewjersey.org/event/geoff-tates-operation-mindcrime/
LOCATION:The Newton Theatre\, 234 Spring St\, \, NJ\, Newton\, NJ\, 07860\, United States
CATEGORIES:Concerts,Music
ATTACH;FMTTYPE=image/jpeg:https://explorenewjersey.org/wp-content/uploads/2025/08/b19ce1cf-0743-484c-a69c-8fdac9bed405-kMgw36.jpg
END:VEVENT
BEGIN:VEVENT
DTSTART;TZID=America/New_York:20251009T000000
DTEND;TZID=America/New_York:20251009T000000
DTSTAMP:20260424T234527
CREATED:20250808T185127Z
LAST-MODIFIED:20250808T200857Z
UID:51732-1759968000-1759968000@explorenewjersey.org
SUMMARY:Yächtley Crëw
DESCRIPTION:The ships-ahoy septet Yächtley Crëw sets sail for an evening of the best in the Yacht Rock sound\, featuring all of your favorite soft rock hits from the 70s and 80s. Come ready to party!
URL:https://explorenewjersey.org/event/yachtley-crew-2/
LOCATION:New Jersey
CATEGORIES:Concerts,Music
ATTACH;FMTTYPE=image/jpeg:https://explorenewjersey.org/wp-content/uploads/2025/08/YachtleyCrew_thumb-520x600-ij6YNf.jpg
END:VEVENT
END:VCALENDAR