BEGIN:VCALENDAR
VERSION:2.0
PRODID:-//Explore New Jersey - ECPv6.15.20//NONSGML v1.0//EN
CALSCALE:GREGORIAN
METHOD:PUBLISH
X-WR-CALNAME:Explore New Jersey
X-ORIGINAL-URL:https://explorenewjersey.org
X-WR-CALDESC:Events for Explore New Jersey
REFRESH-INTERVAL;VALUE=DURATION:PT1H
X-Robots-Tag:noindex
X-PUBLISHED-TTL:PT1H
BEGIN:VTIMEZONE
TZID:America/New_York
BEGIN:DAYLIGHT
TZOFFSETFROM:-0500
TZOFFSETTO:-0400
TZNAME:EDT
DTSTART:20240310T070000
END:DAYLIGHT
BEGIN:STANDARD
TZOFFSETFROM:-0400
TZOFFSETTO:-0500
TZNAME:EST
DTSTART:20241103T060000
END:STANDARD
BEGIN:DAYLIGHT
TZOFFSETFROM:-0500
TZOFFSETTO:-0400
TZNAME:EDT
DTSTART:20250309T070000
END:DAYLIGHT
BEGIN:STANDARD
TZOFFSETFROM:-0400
TZOFFSETTO:-0500
TZNAME:EST
DTSTART:20251102T060000
END:STANDARD
BEGIN:DAYLIGHT
TZOFFSETFROM:-0500
TZOFFSETTO:-0400
TZNAME:EDT
DTSTART:20260308T070000
END:DAYLIGHT
BEGIN:STANDARD
TZOFFSETFROM:-0400
TZOFFSETTO:-0500
TZNAME:EST
DTSTART:20261101T060000
END:STANDARD
END:VTIMEZONE
BEGIN:VEVENT
DTSTART;TZID=America/New_York:20250905T000000
DTEND;TZID=America/New_York:20251010T235959
DTSTAMP:20260419T095403
CREATED:20250705T153028Z
LAST-MODIFIED:20250705T153030Z
UID:42875-1757030400-1760140799@explorenewjersey.org
SUMMARY:New Jersey Film Festival
DESCRIPTION:New Jersey Film Festival – Fall 2025 \n\n\n\n\n\n\n\n\n\nDates: September 5 – October 10\, 2025Location: Rutgers University & Online | 71 Hamilton Street\, New Brunswick\, NJ \n\n\n\nGet ready for a cinematic experience like no other at the 44th Bi-Annual New Jersey Film Festival\, returning this fall with a dynamic hybrid format. From September 5 through October 10\, this highly anticipated event will showcase a diverse lineup of groundbreaking independent films\, available both virtually on demand and in-person at Rutgers University in New Brunswick. \n\n\n\nEach film will stream online for 24 hours on its scheduled date\, starting at 12:00 AM EST\, giving film lovers the flexibility to watch from anywhere. If you’re local or looking for a night out\, select screenings will also take place live at Voorhees Hall #105 on the Rutgers campus\, offering an engaging community atmosphere and exclusive discussions. \n\n\n\n🎟️ Ticket Information: \n\n\n\n\nGeneral Admission (per program): $15\n\n\n\nFestival All Access Pass: $120\n\n\n\nIn-Person Student Ticket (per program): $10\n\n\n\nFilmmaking Workshops: FREE (advance registration required)\n\n\n\n\n🎬 Special Events:This season\, the festival proudly features three free filmmaking workshops\, designed for aspiring creatives and open to the public. Space is limited\, so early registration is recommended. \n\n\n\nAnd don’t miss a special multimedia concert by the critically acclaimed Cold Weather Company on Friday\, October 10 at 7PM—a unique blend of music and visual storytelling that will close the festival on a high note. \n\n\n\n📍 In-Person Screenings\, Workshops\, and Live Events Location:Voorhees Hall #105Rutgers University71 Hamilton Street\, New Brunswick\, NJPrograms begin at 1PM\, 5PM\, or 7PM\, depending on the screening schedule. \n\n\n\n🎥 Whether you’re a film buff\, a student of cinema\, or simply looking to experience some of the best independent films of the season\, the New Jersey Film Festival Fall 2025 is your ticket to bold storytelling and unforgettable moments. \n\n\n\n📧 To register for free workshops\, email: njmac12@gmail.com
URL:https://explorenewjersey.org/event/new-jersey-film-festival/
LOCATION:Rutgers Film Co-op/New Jersey Media Arts Center\, 4170 Academic Building - 15 Seminary Place\, New Brunswick\, New Jersey\, 08901-8525\, United States
CATEGORIES:Film & TV,Film Festivals
ATTACH;FMTTYPE=image/jpeg:https://explorenewjersey.org/wp-content/uploads/2025/07/NJFFFall2025CoverArtYazminOmana.jpeg
ORGANIZER;CN="Rutgers University Program in Cinema Studies":MAILTO:NJMAC12@gmail.com
END:VEVENT
BEGIN:VEVENT
DTSTART;TZID=America/New_York:20250913T180000
DTEND;TZID=America/New_York:20251005T233000
DTSTAMP:20260419T095403
CREATED:20250808T190352Z
LAST-MODIFIED:20250820T195622Z
UID:51869-1757786400-1759707000@explorenewjersey.org
SUMMARY:Murder on the Links
DESCRIPTION:Take a swing at cracking the case! When Agatha Christie’s famed detective Hercule Poirot is summoned to a country chateau in France\, he discovers a body on the golf course with a knife in its back – a hole in one indeed! New clues dredge up old intrigue in Murder on the Links\, stylishly reimagined by Tony Award® winning director Darko Tresnjak (A Gentleman’s Guide to Love and Murder). \nSeason subscriptions on sale NOW! Single tickets on sale NOW!
URL:https://explorenewjersey.org/event/murder-on-the-links/
LOCATION:Two River Theater\, 21 Bridge Avenue\, Red Bank\, New Jersey\, 07701\, United States
CATEGORIES:Theatre
ATTACH;FMTTYPE=image/png:https://explorenewjersey.org/wp-content/uploads/2025/08/2-1800x524-kmRxHJ.png
ORGANIZER;CN="Two River Theater":MAILTO:info@trtc.org
END:VEVENT
BEGIN:VEVENT
DTSTART;TZID=America/New_York:20250920T170000
DTEND;TZID=America/New_York:20251005T233000
DTSTAMP:20260419T095403
CREATED:20250920T125331Z
LAST-MODIFIED:20250920T125637Z
UID:59850-1758387600-1759707000@explorenewjersey.org
SUMMARY:Romeo and Juliet By William Shakespeare
DESCRIPTION:Romeo and Juliet – A Timeless Shakespeare Tragedy \n\n\n\n\n\n\n\n\n\nShakespeare’s Romeo and Juliet returns to the stage\, offering one of the most enduring love stories ever written. Set in a world torn apart by civil strife\, this masterpiece reflects on themes of love\, loss\, and the devastating cost of division. Two young souls discover a profound connection that dares to defy the hatred surrounding them\, shining a light of hope in a society plagued by violence. \n\n\n\nThis production brings audiences an unforgettable balance of passion and tragedy—contrasting joy with sorrow\, youth with age\, and brutality with beauty. Intimate yet sweeping in scope\, Romeo and Juliet remains a cautionary tale that continues to resonate just as powerfully today as when it was first performed. \n\n\n\nCast and Creative Team\n\n\n\n\nBenvolio – Christopher Atchison\n\n\n\nLady Montague / Nurse – Celeste Ciulla*\n\n\n\nGregory / Paris – Dino Curia*\n\n\n\nChorus / Prince – Edward Furs*\n\n\n\nMontague / Friar John / Signior Valentio – Robert S. Gregory*\n\n\n\nRomeo – Isaac Hickox-Young*\n\n\n\nBalthasar / Rosaline / Servant – Nicole Lawrie\n\n\n\nCapulet – Anthony Marble*\n\n\n\nMercutio / Watch – Quentin McCuiston*\n\n\n\nServant – Mikki Monfalcone\n\n\n\nAbram / Peter – Ryan N. Murray\n\n\n\nTybalt / Watch – Triever Sherwood\n\n\n\nFriar Laurence – Raphael Nash Thompson*\n\n\n\nLady Capulet – Aurea Tomseki*\n\n\n\nSampson / Apothecary / Watch – Godswill Utionkpan\n\n\n\nJuliet – Billie Wyatt*\n\n\n\n\nDirected by Bonnie J. Monte\, Artistic Director Emerita. \n\n\n\nThis staging captures both the raw intensity and poetic beauty of Shakespeare’s vision\, promising audiences in New Jersey a moving night of theatre that lingers long after the final curtain.
URL:https://explorenewjersey.org/event/romeo-and-juliet/
LOCATION:F.M. Kirby Shakespeare Theatre\, 36 Madison Avenue\, Madison\, New Jersey\, 07940\, United States
CATEGORIES:Theatre
ATTACH;FMTTYPE=image/webp:https://explorenewjersey.org/wp-content/uploads/2025/09/850x550-romeo-juliet-e13e67d37a.webp
END:VEVENT
BEGIN:VEVENT
DTSTART;TZID=America/New_York:20251001T193000
DTEND;TZID=America/New_York:20251002T233000
DTSTAMP:20260419T095403
CREATED:20250713T130255Z
LAST-MODIFIED:20250713T130257Z
UID:46032-1759347000-1759447800@explorenewjersey.org
SUMMARY:TOMORROW X TOGETHER (TXT) Together World Tour
DESCRIPTION:TOMORROW X TOGETHER Live at Prudential Center – October 1 & 2 \n\n\n\n\n\n\n\n\n\nK-pop sensation TOMORROW X TOGETHER (TXT) is bringing their massive world tour\, <ACT : TOMORROW>\, back to Newark! The global superstars are set to take over the Prudential Center for two electric nights on October 1 and 2\, delivering an unforgettable experience packed with dynamic choreography\, stunning visuals\, and fan-favorite hits. \n\n\n\nConcert Details: \n\n\n\n\nDate: Tuesday\, October 1\, 2025Time: 8:00 PMEvent: TOMORROW X TOGETHER WORLD TOUR <ACT : TOMORROW>\n\n\n\nDate: Wednesday\, October 2\, 2025Time: 8:00 PMEvent: TOMORROW X TOGETHER WORLD TOUR <ACT : TOMORROW>\n\n\n\n\n🎟️ Tickets are selling fast — don’t miss your chance to see one of K-pop’s most exciting acts live in New Jersey! \n\n\n\n📍 Location: Prudential Center\, Newark\, NJ✅ Entry Info: Be sure to review the arena’s updated verified entry policies before attending. \n\n\n\nExplore more can’t-miss concerts and live events across New Jersey with Explore New Jersey Directory – your go-to guide to the Garden State’s biggest shows and hidden gems. Lot.
URL:https://explorenewjersey.org/event/tomorrow-x-together-txt-together-world-tour/
LOCATION:The Prudential Center\, 25 Lafayette St\, Newark\, New Jersey\, 07102\, United States
CATEGORIES:Concerts,Music
ATTACH;FMTTYPE=image/jpeg:https://explorenewjersey.org/wp-content/uploads/2025/07/ef56ac43-2fb0-4ad1-ab6a-fd9295810c83_TABLET_LANDSCAPE_LARGE_16_9.jpg
ORGANIZER;CN="Devils Arena Entertainment":MAILTO:guestservices@prucenter.com
END:VEVENT
BEGIN:VEVENT
DTSTART;TZID=America/New_York:20251002T080000
DTEND;TZID=America/New_York:20251102T170000
DTSTAMP:20260419T095403
CREATED:20250718T140842Z
LAST-MODIFIED:20250718T141130Z
UID:46807-1759392000-1762102800@explorenewjersey.org
SUMMARY:Bull Durham
DESCRIPTION:Experience the Magic: Paper Mill Playhouse Unleashes “Bull Durham” Musical for 2025-2026 Season Opener! \n\n\n\n\n\n\n\n\n\nProduction Name: Bull Durham\, a new musical. \n\n\n\nPaper Mill Playhouse: It is the “Official State Theater of New Jersey\,” a recipient of the Regional Theatre Tony Award\, and a highly acclaimed non-profit professional theater known for launching new musicals and significant revivals before they head to Broadway. This is a key point for the SEO and “uniqueness” factor. \n\n\n\nPerformance Dates: The show runs from Thursday\, October 2 to Sunday\, November 2\, 2025\, with a press opening on Sunday\, October 12. \n\n\n\nPlot Synopsis: The musical\, based on the classic 1988 film\, is a love story set against the backdrop of minor league baseball. It follows veteran catcher “Crash” Davis\, tasked with mentoring hotshot rookie pitcher “Nuke” LaLoosh\, while the team’s witty and alluring muse\, Annie Savoy\, finds herself at the center of a steamy love triangle. \n\n\n\nCreative Team: \n\n\n\nDirector: Marc Bruni (The Great Gatsby). \n\n\n\nChoreographer: Joshua Bergasse (Smash). \n\n\n\nBook: Ron Shelton (the original screenwriter/director of the film). \n\n\n\nMusic and Lyrics: Susan Werner. \n\n\n\nCasting: \n\n\n\nCarmen Cusack (Tony nominee for Bright Star) as Annie Savoy. \n\n\n\nNik Walker (Hamilton\, Spamalot) as Crash Davis. \n\n\n\nWill Savarese (from the Frozen national tour) as Nuke LaLoosh. \n\n\n\nOther key cast members: Joel Ashur\, Ashlyn Maddox\, James Moye\, Andrew Poston\, and Nick Wyman. \n\n\n\nWith this detailed information\, I can now write a compelling directory listing that is unique\, great for SEO\, and written in the requested tone\, without mentioning any sources. I will highlight the “Broadway-bound” nature of the production and the star power of the cast and creative team to attract a wide audience.### Paper Mill Playhouse Announces World-Class Cast for Bull Durham Musical \n\n\n\nMillburn\, NJ – Get ready for a home run this fall! The legendary Paper Mill Playhouse\, New Jersey’s official State Theater\, is kicking off its 2025-2026 season with the highly anticipated new musical\, Bull Durham. This production promises a fresh take on the beloved classic\, blending America’s favorite pastime with a captivating love story. \n\n\n\nThe show\, which is a key stop on its journey to Broadway\, has secured a stellar cast and an acclaimed creative team. Leading the lineup is two-time Tony Award nominee Carmen Cusack as the fiery and philosophical “baseball muse” Annie Savoy\, a role she brings to life with her powerful stage presence. Joining her is Broadway favorite Nik Walker\, taking on the role of the jaded but charming veteran catcher\, Crash Davis. Together\, they anchor the stage in a compelling romance that unfolds as Crash mentors a talented-but-dimwitted rookie pitcher\, Nuke LaLoosh\, played by the dynamic Will Savarese. \n\n\n\nThe production is helmed by the brilliant creative team of director Marc Bruni\, renowned for his work on the hit musical The Great Gatsby\, and choreographer Joshua Bergasse. The musical’s book is adapted by the film’s original\, Academy Award-nominated writer and director\, Ron Shelton\, with music and lyrics by the brilliant songwriter Susan Werner. This powerhouse collaboration guarantees a show that is both true to its roots and bursting with innovative theatricality. \n\n\n\nBull Durham offers a pitch-perfect blend of comedy\, romance\, and heart\, making it a must-see event for theater lovers and baseball fans alike. Don’t miss your chance to witness this major new musical as it makes its triumphant New Jersey premiere. \n\n\n\nPerformance Dates: \n\n\n\n\nFirst Performance: Thursday\, October 2\, 2025\n\n\n\nOfficial Opening: Sunday\, October 12\, 2025\n\n\n\nFinal Performance: Sunday\, November 2\, 2025\n\n\n\n\nExperience the magic of a world-class production right here in New Jersey. Secure your seats to see the show that everyone will be talking about this fall.
URL:https://explorenewjersey.org/event/bull-durham/
LOCATION:Paper Mill Playhouse\, 22 Brookside Drive \, NJ\, Millburn\, New Jersey\, 07041\, United States
CATEGORIES:Theatre
ATTACH;FMTTYPE=image/jpeg:https://explorenewjersey.org/wp-content/uploads/2025/07/paper-July17-1.jpg
ORGANIZER;CN="Paper Mill Playhouse":MAILTO:BoxOffice@PaperMill.org
END:VEVENT
BEGIN:VEVENT
DTSTART;TZID=America/New_York:20251002T200000
DTEND;TZID=America/New_York:20251002T233000
DTSTAMP:20260419T095403
CREATED:20250515T183440Z
LAST-MODIFIED:20250515T183441Z
UID:32324-1759435200-1759447800@explorenewjersey.org
SUMMARY:Eric Johnson- Texaphonic Tour 2025
DESCRIPTION:🎸 Eric Johnson – Texaphonic Tour 2025 Comes to The Newton Theatre\n\n\n\n\n\n\n\n📍 The Newton Theatre\, Newton\, NJ📅 Thursday\, October 2\, 2025 | 8:00 PM🎟️ Tickets On Sale Friday\, May 16 at 10:00 AM🔗 Discover More NJ Concerts & Live Music Events \n\n\n\nGet ready\, guitar lovers! The legendary Eric Johnson returns to New Jersey with his Texaphonic Tour 2025\, bringing his signature blend of technical brilliance and melodic mastery to The Newton Theatre for one unforgettable night. \n\n\n\nHailed as one of the most influential guitarists of our time\, Eric Johnson has been mesmerizing fans for over four decades with his unique tone\, jaw-dropping technique\, and genre-defying compositions. From blues and rock to jazz and fusion\, Johnson’s musical range is as impressive as his speed and precision on the fretboard. \n\n\n\n🎶 You know the name from the iconic Grammy-winning track “Cliffs of Dover” —but live on stage\, Johnson takes it to another level. \n\n\n\nHis rise to fame began in Austin\, Texas\, where he became a local legend even before releasing his debut album. With “Tones” in 1986\, Eric quickly earned critical acclaim and a Grammy nomination. Then came “Ah Via Musicom”\, his breakout platinum-selling album featuring songs that are now etched into guitar history. Fast forward to 2025\, and Johnson continues to evolve—pushing boundaries and redefining the art of instrumental rock. \n\n\n\n🎸 Whether you’re a lifelong fan or discovering his music for the first time\, this show promises an evening of virtuosity\, soulful soundscapes\, and unforgettable guitar moments. \n\n\n\n📍 Location: The Newton Theatre – an intimate venue perfect for witnessing guitar greatness up close.🪑 Seating is limited – reserve early for the best spots!♿ Accessible seating available. \n\n\n\n🎫 Get your tickets early and experience one of music’s true masters—live and in person. \n\n\n\n🔗 Explore More Upcoming Events Across New Jersey \n\n\n\n\n\n\n\n🎟️ Tickets\, Merchandise & Info:\n\n\n\nAccessible seating available for all guests. \n\n\n\nClick here to go to the Merch Stand in The Vending Lot.
URL:https://explorenewjersey.org/event/eric-johnson-texaphonic-tour-2025/
LOCATION:The Newton Theatre\, 234 Spring St\, \, NJ\, Newton\, NJ\, 07860\, United States
CATEGORIES:Concerts,Music
ATTACH;FMTTYPE=image/jpeg:https://explorenewjersey.org/wp-content/uploads/2025/05/Eric_Johnson_2025_Square_1.jpg
END:VEVENT
BEGIN:VEVENT
DTSTART;TZID=America/New_York:20251003T000000
DTEND;TZID=America/New_York:20251003T000000
DTSTAMP:20260419T095403
CREATED:20250728T125248Z
LAST-MODIFIED:20250728T150803Z
UID:48474-1759449600-1759449600@explorenewjersey.org
SUMMARY:Eddie Testa Band Featuring the Jukes Horns
DESCRIPTION:The incomparable Eddie Testa brings his Rock’N’Soul dance party to The Vogel! Get ready for an energized night of classic R&B along with Testa fan favorites and a few Asbury Juke tunes! This show features the Juke Horns joining ETB! ( Chris Anderson\, John Isley\, and “The Dude” Neal Pawley). Two set show starting 8:00pm
URL:https://explorenewjersey.org/event/eddie-testa-band-featuring-the-jukes-horns/
LOCATION:Count Basie Center for the Arts\, 99 Monmouth Street\, Red Bank\, New Jersey\, 07701\, United States
CATEGORIES:Concerts,Music
ATTACH;FMTTYPE=image/png:https://explorenewjersey.org/wp-content/uploads/2025/07/2025-10-03-Eddie-Testa-VOGEL-PREVIEW-effSpi.png
END:VEVENT
BEGIN:VEVENT
DTSTART;TZID=America/New_York:20251003T000000
DTEND;TZID=America/New_York:20251003T000000
DTSTAMP:20260419T095403
CREATED:20250728T131912Z
LAST-MODIFIED:20250728T151008Z
UID:48807-1759449600-1759449600@explorenewjersey.org
SUMMARY:Evil Dead In Concert
DESCRIPTION:Experience Sam Raimi’s beloved horror classic Evil Dead like never before. The screening of the legendary cult film in a newly restored format is brought to life on stage as a live ensemble performs the entire original musical score from composer Joe LoDuca.\nEvil Dead follows five college students on vacation in an isolated cabin in the woods\, where they unwittingly release absolute evil into the world and have to fight to survive. LoDuca’s score is orchestral but experimental\, blending eerie strings\, pounding percussion\, and screeching sound effects to emphasize dread and supernatural chaos.\nThe film is rated NC-17 for substantial graphic horror violence and gore. The audience is restricted to 18+.
URL:https://explorenewjersey.org/event/evil-dead-in-concert/
LOCATION:New Jersey
CATEGORIES:Concerts,Music
ATTACH;FMTTYPE=image/jpeg:https://explorenewjersey.org/wp-content/uploads/2025/07/Evil-Dead-840-cc52af8dcc-cT1JkJ.jpg
END:VEVENT
BEGIN:VEVENT
DTSTART;TZID=America/New_York:20251003T000000
DTEND;TZID=America/New_York:20251003T000000
DTSTAMP:20260419T095403
CREATED:20250806T151850Z
LAST-MODIFIED:20250808T200355Z
UID:51219-1759449600-1759449600@explorenewjersey.org
SUMMARY:The Outlaws
DESCRIPTION:For The Outlaws\, it’s always been about the music. For more than 40 years\, the Southern Rock legends celebrated triumphs and endured tragedies to remain one of the most influential and best-loved bands of the genre. Today\, The Outlaws have returned with new music\, new focus\, and an uncompromising new mission: It’s about a band of brothers bound together by history\, harmony\, and the road. It’s about a group that respects its own legacy while refusing to be defined by it’s past. But most of all\, it’s about pride. \nIt’s About Pride was also the title of the band’s acclaimed 2012 album\, universally hailed as their victorious comeback. “Because The Outlaws had been out of the public eye for so long\, it was almost like starting over\,” explains founding singer / songwriter / guitarist Henry Paul. “But because of the band’s history\, we dig deeper\, write better\, perform stronger. Everything we do is to reinforce the notion that The Outlaws still matter\, and that Southern Rock will always matter. It’s a message we’re proud to bring into the 21st century.”
URL:https://explorenewjersey.org/event/the-outlaws/
LOCATION:The Newton Theatre\, 234 Spring St\, \, NJ\, Newton\, NJ\, 07860\, United States
CATEGORIES:Concerts,Music
ATTACH;FMTTYPE=image/jpeg:https://explorenewjersey.org/wp-content/uploads/2025/08/3215fafc-4a2d-4eb7-a543-08d623572b23-veQiDs.jpg
END:VEVENT
BEGIN:VEVENT
DTSTART;TZID=America/New_York:20251003T000000
DTEND;TZID=America/New_York:20251003T000000
DTSTAMP:20260419T095403
CREATED:20250808T184928Z
LAST-MODIFIED:20250808T200857Z
UID:51720-1759449600-1759449600@explorenewjersey.org
SUMMARY:Disney’s Moana: Live-To-Film Concert
DESCRIPTION:Disney Concerts and AMP Worldwide present Disney’s Moana: Live-To-Film Concert\, featuring a full-length screening of the beloved movie accompanied by live performances of a unique on-stage musical ensemble of top Hollywood studio musicians\, Polynesian rhythm masters and vocalists\, celebrating the music and songs from this award-winning Walt Disney Animation Studios’ animated classic.
URL:https://explorenewjersey.org/event/disneys-moana-live-to-film-concert/
LOCATION:New Jersey
CATEGORIES:Concerts,Music
ATTACH;FMTTYPE=image/jpeg:https://explorenewjersey.org/wp-content/uploads/2025/08/Moana_thumb-519x600-iedx9j.jpg
END:VEVENT
END:VCALENDAR