BEGIN:VCALENDAR
VERSION:2.0
PRODID:-//Explore New Jersey - ECPv6.15.20//NONSGML v1.0//EN
CALSCALE:GREGORIAN
METHOD:PUBLISH
X-ORIGINAL-URL:https://explorenewjersey.org
X-WR-CALDESC:Events for Explore New Jersey
REFRESH-INTERVAL;VALUE=DURATION:PT1H
X-Robots-Tag:noindex
X-PUBLISHED-TTL:PT1H
BEGIN:VTIMEZONE
TZID:America/New_York
BEGIN:DAYLIGHT
TZOFFSETFROM:-0500
TZOFFSETTO:-0400
TZNAME:EDT
DTSTART:20240310T070000
END:DAYLIGHT
BEGIN:STANDARD
TZOFFSETFROM:-0400
TZOFFSETTO:-0500
TZNAME:EST
DTSTART:20241103T060000
END:STANDARD
BEGIN:DAYLIGHT
TZOFFSETFROM:-0500
TZOFFSETTO:-0400
TZNAME:EDT
DTSTART:20250309T070000
END:DAYLIGHT
BEGIN:STANDARD
TZOFFSETFROM:-0400
TZOFFSETTO:-0500
TZNAME:EST
DTSTART:20251102T060000
END:STANDARD
BEGIN:DAYLIGHT
TZOFFSETFROM:-0500
TZOFFSETTO:-0400
TZNAME:EDT
DTSTART:20260308T070000
END:DAYLIGHT
BEGIN:STANDARD
TZOFFSETFROM:-0400
TZOFFSETTO:-0500
TZNAME:EST
DTSTART:20261101T060000
END:STANDARD
END:VTIMEZONE
BEGIN:VEVENT
DTSTART;TZID=America/New_York:20250904T150000
DTEND;TZID=America/New_York:20250921T233000
DTSTAMP:20260420T023428
CREATED:20250517T162555Z
LAST-MODIFIED:20250517T162556Z
UID:32568-1756998000-1758497400@explorenewjersey.org
SUMMARY:Walden
DESCRIPTION:🌌 New Jersey Premiere of “Walden” at Bauer Boucher Theatre Center \n\n\n\n\n\n\n\n🎭 September 4–21\, 2025📍 Bauer Boucher Theatre Center | 1000 Morris Avenue\, Union\, NJ 07083🎟️ Tickets Starting at $18 | Opening Night Tickets: $53🔗 Get Your Tickets Now \n\n\n\n\n\n\n\n🚀 A Gripping Sci-Fi Drama About Family\, Space\, and the Choices That Shape Us\n\n\n\n“Walden\,” a bold new work by acclaimed playwright Amy Berryman\, takes center stage at the Bauer Boucher Theatre Center in Union\, New Jersey this fall. Directed by Charlotte Cohn\, this electrifying production marks the New Jersey premiere of a play that’s already stirred thought-provoking conversations in New York and beyond. \n\n\n\nSet in a not-so-distant future\, Walden follows Stella\, a former NASA botanist\, and her fiancé Bryan\, as they await a visit from her estranged twin sister Cassie—fresh off a triumphant moon mission. As the sisters confront long-buried tensions from their childhoods and diverging worldviews\, a powerful question hangs in the air: Should humanity’s future remain rooted on Earth\, or reach for the stars? \n\n\n\nWith stunning design elements and emotionally charged performances\, Walden is a beautifully crafted blend of science fiction\, psychological drama\, and intimate storytelling. It’s a play that resonates deeply in our current age of climate urgency\, space exploration\, and personal reckoning. \n\n\n\n\n\n\n\n💫 Performance Schedule\n\n\n\n\nPreview Night: Thursday\, September 4 @ 7:30 PM\n\n\n\nOpening Night: Friday\, September 5 @ 7:30 PM (Tickets: $53)\n\n\n\n\nRegular Show Dates: \n\n\n\n\nSaturday\, September 6 @ 3:00 PM & 7:30 PM\n\n\n\nSunday\, September 7 @ 3:00 PM\n\n\n\nFriday\, September 12 @ 3:00 PM & 7:30 PM\n\n\n\nSaturday\, September 13 @ 3:00 PM & 7:30 PM\n\n\n\nSunday\, September 14 @ 3:00 PM\n\n\n\nThursday\, September 18 @ 7:30 PM\n\n\n\nFriday\, September 19 @ 7:30 PM\n\n\n\nSaturday\, September 20 @ 3:00 PM & 7:30 PM\n\n\n\nSunday\, September 21 @ 3:00 PM\n\n\n\n\n\n\n\n\n🎨 Creative Team Behind the Vision\n\n\n\n\nDirector: Charlotte Cohn\n\n\n\nSet Design: David M. Barber\n\n\n\nCostume Design: Julia Squier\n\n\n\nLighting Design: Zack Gage\n\n\n\nSound Design: Chad Raines\n\n\n\nProps & Scenic Art: Michael Brinskele\n\n\n\nStage Management: Dale Smallwood & Tori Hiotakis\n\n\n\nCasting: Stephanie Klapper\, CSA\n\n\n\n\n\n\n\n\n🌍 Why You Should See Walden\n\n\n\n\n🧠 Smart\, timely storytelling that explores the tension between Earthbound responsibilities and cosmic ambition\n\n\n\n🪐 Female-driven narratives set in a science-driven\, near-future world\n\n\n\n🎭 A thought-provoking\, emotionally raw experience for theatre lovers and science fiction fans alike\n\n\n\n🌱 Reflects on climate\, love\, space\, and sibling bonds in a way that few plays dare to explore\n\n\n\n\n\n\n\n\n💥 Don’t miss this powerful production of Walden—a compelling collision of science\, spirit\, and sisterhood. \n\n\n\n📍 Presented at the Bauer Boucher Theatre Center\, a premier venue for cutting-edge performing arts in New Jersey. \n\n\n\n🎟️ Secure your seats for this unmissable theatrical event.🔗 Explore More NJ Theater & Cultural Events \n\n\n\n\n\n\n\n\n\n\n\n🎟️ Tickets\, Merchandise & Info:\n\n\n\nAccessible seating available for all guests. \n\n\n\nClick here to go to the On Broadway Merch Stand in The Vending Lot.
URL:https://explorenewjersey.org/event/walden/
LOCATION:Wilkins Theatre\, 1000 Morris Ave\, \, NJ\, Union\, New Jersey\, 07083\, United States
CATEGORIES:Theatre
ATTACH;FMTTYPE=image/jpeg:https://explorenewjersey.org/wp-content/uploads/2025/05/FEATURE-image-Walden-02@2x-1536x864-2.jpg
ORGANIZER;CN="Premiere Stages":MAILTO:premiere@kean.edu
END:VEVENT
BEGIN:VEVENT
DTSTART;TZID=America/New_York:20250905T000000
DTEND;TZID=America/New_York:20251010T235959
DTSTAMP:20260420T023428
CREATED:20250705T153028Z
LAST-MODIFIED:20250705T153030Z
UID:42875-1757030400-1760140799@explorenewjersey.org
SUMMARY:New Jersey Film Festival
DESCRIPTION:New Jersey Film Festival – Fall 2025 \n\n\n\n\n\n\n\n\n\nDates: September 5 – October 10\, 2025Location: Rutgers University & Online | 71 Hamilton Street\, New Brunswick\, NJ \n\n\n\nGet ready for a cinematic experience like no other at the 44th Bi-Annual New Jersey Film Festival\, returning this fall with a dynamic hybrid format. From September 5 through October 10\, this highly anticipated event will showcase a diverse lineup of groundbreaking independent films\, available both virtually on demand and in-person at Rutgers University in New Brunswick. \n\n\n\nEach film will stream online for 24 hours on its scheduled date\, starting at 12:00 AM EST\, giving film lovers the flexibility to watch from anywhere. If you’re local or looking for a night out\, select screenings will also take place live at Voorhees Hall #105 on the Rutgers campus\, offering an engaging community atmosphere and exclusive discussions. \n\n\n\n🎟️ Ticket Information: \n\n\n\n\nGeneral Admission (per program): $15\n\n\n\nFestival All Access Pass: $120\n\n\n\nIn-Person Student Ticket (per program): $10\n\n\n\nFilmmaking Workshops: FREE (advance registration required)\n\n\n\n\n🎬 Special Events:This season\, the festival proudly features three free filmmaking workshops\, designed for aspiring creatives and open to the public. Space is limited\, so early registration is recommended. \n\n\n\nAnd don’t miss a special multimedia concert by the critically acclaimed Cold Weather Company on Friday\, October 10 at 7PM—a unique blend of music and visual storytelling that will close the festival on a high note. \n\n\n\n📍 In-Person Screenings\, Workshops\, and Live Events Location:Voorhees Hall #105Rutgers University71 Hamilton Street\, New Brunswick\, NJPrograms begin at 1PM\, 5PM\, or 7PM\, depending on the screening schedule. \n\n\n\n🎥 Whether you’re a film buff\, a student of cinema\, or simply looking to experience some of the best independent films of the season\, the New Jersey Film Festival Fall 2025 is your ticket to bold storytelling and unforgettable moments. \n\n\n\n📧 To register for free workshops\, email: njmac12@gmail.com
URL:https://explorenewjersey.org/event/new-jersey-film-festival/
LOCATION:Rutgers Film Co-op/New Jersey Media Arts Center\, 4170 Academic Building - 15 Seminary Place\, New Brunswick\, New Jersey\, 08901-8525\, United States
CATEGORIES:Film & TV,Film Festivals
ATTACH;FMTTYPE=image/jpeg:https://explorenewjersey.org/wp-content/uploads/2025/07/NJFFFall2025CoverArtYazminOmana.jpeg
ORGANIZER;CN="Rutgers University Program in Cinema Studies":MAILTO:NJMAC12@gmail.com
END:VEVENT
BEGIN:VEVENT
DTSTART;TZID=America/New_York:20250905T080000
DTEND;TZID=America/New_York:20250928T170000
DTSTAMP:20260420T023428
CREATED:20250804T112126Z
LAST-MODIFIED:20250804T112349Z
UID:50793-1757059200-1759078800@explorenewjersey.org
SUMMARY:Parade
DESCRIPTION:“Parade”: A Haunting Journey Through American History \n\n\n\n\n\n\n\n\n\nPrice: $40.00 (Includes Tax + Service Fee) Dates: September 05 – September 28\, 2025 Special Features: American Sign Language (ASL) interpreted performance available on the Orange date. Hearing enhancers are also provided at the tech booth for every performance\, on a first-come\, first-served basis (quantities are limited). \n\n\n\nPrepare for a deeply moving and thought-provoking theatrical experience with “Parade\,” the acclaimed Tony Award-winning musical. This powerful production delves into a dark chapter of America’s past\, exploring the true story of Leo Frank\, a Jewish factory manager wrongly accused of murder in 1913 Georgia amidst a backdrop of rampant religious intolerance\, political injustice\, and racial tension. \n\n\n\nWith a compelling book by the celebrated playwright Alfred Uhry\, known for his Pulitzer Prize-winning “Driving Miss Daisy\,” and a magnificent\, haunting score by the three-time Tony Award winner Jason Robert Brown (composer of “Songs For a New World\,” “The Last Five Years\,” and “The Bridges of Madison County”)\, “Parade” is a masterclass in storytelling. It meticulously examines how prejudice and fear can distort justice\, while simultaneously celebrating the enduring power of love and hope in the face of overwhelming adversity. \n\n\n\nThe musical is based on the infamous 1913 trial and subsequent lynching of Leo Frank. Frank\, a Brooklyn-raised Jew living in Atlanta\, was accused of killing 13-year-old Mary Phagan\, an employee at the factory he managed. Fueled by sensationalist media and rampant antisemitism\, the trial became a national scandal. Despite inconsistencies in testimony and a lack of credible evidence\, Frank was convicted. His death sentence was later commuted by the governor\, leading to his abduction from prison and lynching by an angry mob. “Parade” powerfully brings this harrowing narrative to the stage\, reminding audiences of the dangers of unchecked bigotry and the fight for truth. \n\n\n\nImportant Note: This production is best suited for mature audiences aged 17 and above due to its exploration of sensitive historical themes\, strong language\, and mature content. \n\n\n\nBooking Information: To secure your tickets\, simply select your desired date and time\, then choose your seats. Please be aware that all ticket sales are final and are not refundable or exchangeable for any reason. \n\n\n\nFind more exceptional events\, cultural highlights\, and local listings within our comprehensive Explore New Jersey Directory. Discover something new and make the most of your time in the Garden State!
URL:https://explorenewjersey.org/event/parade/
LOCATION:The Broadway Theatre of Pitman\, 43 S Broadway\, Pitman\, New Jersey\, 08071\, United States
CATEGORIES:Theatre
ATTACH;FMTTYPE=image/png:https://explorenewjersey.org/wp-content/uploads/2025/08/Parade-600x600-1.png
ORGANIZER;CN="The Broadway Theatre of Pitman":MAILTO:boxoffice@broadwaytheatreofpitman.com
END:VEVENT
BEGIN:VEVENT
DTSTART;TZID=America/New_York:20250906T080000
DTEND;TZID=America/New_York:20250907T170000
DTSTAMP:20260420T023428
CREATED:20250724T151108Z
LAST-MODIFIED:20250724T151112Z
UID:47923-1757145600-1757264400@explorenewjersey.org
SUMMARY:Bayzara Music Festival
DESCRIPTION:Prepare for the ultimate Bayzara Music Festival\, transforming Keansburg Beach into a vibrant\, two-day celebration of sound and spectacle! Mark your calendars for September 6-7\, 2025\, and dive into an experience unlike any other in New Jersey. \n\n\n\n\n\n\n\n\n\nBeyond an incredible lineup of live music\, Bayzara elevates the festival experience with: \n\n\n\n\nDazzling Aerial Acrobatics: Witness breathtaking performances as artists soar above the crowd\, adding a stunning visual dimension to the beachfront festivities.\n\n\n\nCaptivating Art Exhibits: Explore a diverse collection of art installations\, showcasing creativity and engaging your senses beyond the musical acts.\n\n\n\nInteractive Experience Booths: Discover hands-on fun with a variety of engaging activities designed for all ages\, from immersive adventures to creative workshops.\n\n\n\nDelectable Food Vendors: Savor a wide array of culinary delights\, from gourmet treats to classic festival fare\, ensuring there’s something to satisfy every craving.\n\n\n\nNFL YouTuber Hangouts: Get a chance to meet and interact with your favorite NY Jets and NY Giants YouTubers for unique fan experiences and live content.\n\n\n\nKid-Friendly Fun: Bayzara is designed for the whole family\, featuring dedicated events and activities specifically tailored for younger attendees\, ensuring a memorable adventure for everyone.\n\n\n\n\nJoin us at Keansburg Beach for an unparalleled blend of music\, art\, entertainment\, and community spirit!
URL:https://explorenewjersey.org/event/bayzara-music-festival/
LOCATION:Keansburg Beach\, Main St & Beachway Ave\, Keansburg\, New Jersey\, 07734\, United States
CATEGORIES:Concerts,Festivals,Music
ATTACH;FMTTYPE=image/png:https://explorenewjersey.org/wp-content/uploads/2025/07/Flyer_006.png
ORGANIZER;CN="Bayzara Festival":MAILTO:hello@bayzarafestival.com
END:VEVENT
BEGIN:VEVENT
DTSTART;TZID=America/New_York:20250906T130000
DTEND;TZID=America/New_York:20250906T160000
DTSTAMP:20260420T023428
CREATED:20250823T144455Z
LAST-MODIFIED:20250823T144457Z
UID:54711-1757163600-1757174400@explorenewjersey.org
SUMMARY:WMGK Brew Blast on the Battleship New Jersey
DESCRIPTION:Raise a glass at the WMGK Brew Blast\, a one-of-a-kind craft beer festival hosted aboard the iconic Battleship New Jersey. \n\n\n\n\n\n\n\n\n\nDate: Friday\, September 6\, 2025Time: 1:00 PMLocation: Battleship New Jersey\, 62 Battleship Place\, Camden\, NJTickets: Purchase Here \n\n\n\nRaise a glass at the WMGK Brew Blast\, a one-of-a-kind craft beer festival hosted aboard the iconic Battleship New Jersey. Enjoy over 50 hand-selected craft beers from top New Jersey and national breweries\, including Cape May\, Double Nickel\, Flying Fish\, MudHen\, and New Belgium\, all while taking in stunning riverfront views. \n\n\n\nEvent Highlights\n\n\n\n\nLive Music: Groove to classic rock favorites performed by the MGK House Band\, Bambu Weasels\, on the tented deck of America’s most decorated battleship.\n\n\n\nCraft Beer Sampling: Explore a wide range of brews\, from hoppy IPAs to smooth lagers\, guided by the 102.9 WMGK air staff.\n\n\n\nMeet the DJs: Chat with your favorite MGK personalities and share your love for music and craft beer.\n\n\n\nFree Battleship Tour: Every ticket includes a complimentary tour of the Battleship New Jersey\, redeemable at a later date.\n\n\n\nFood Options: Delicious food available for purchase to pair with your craft beer experience.\n\n\n\n\nImportant Info: This is a 21+ event\, including Designated Drivers. All patrons entering the Brew Blast area must show valid ID. \n\n\n\nEnjoy a day of great beer\, rock music\, and historic sights—perfect for craft beer enthusiasts and music lovers alike!
URL:https://explorenewjersey.org/event/wmgk-brew-blast-on-the-battleship-new-jersey/
LOCATION:Battleship New Jersey\, 62 Battleship Place\, Camden\, New Jersey\, 08103\, United States
CATEGORIES:Beer Festivals
ATTACH;FMTTYPE=image/png:https://explorenewjersey.org/wp-content/uploads/2025/08/large.png
END:VEVENT
BEGIN:VEVENT
DTSTART;TZID=America/New_York:20250906T130000
DTEND;TZID=America/New_York:20250906T233000
DTSTAMP:20260420T023428
CREATED:20250607T125454Z
LAST-MODIFIED:20250607T125455Z
UID:34547-1757163600-1757201400@explorenewjersey.org
SUMMARY:U.S. Men's National Team v Korea Republic
DESCRIPTION:U.S. Men’s National Team vs. Korea Republic – International Friendly Match \n\n\n\n\n\n\n\n\n\nDate: Saturday\, September 6\, 2025Time: 5:00 PMVenue: Sports Illustrated Stadium\, Harrison\, NJ \n\n\n\nGet ready for an exciting international friendly as the U.S. Men’s National Team (USMNT) takes on Korea Republic! Experience world-class soccer action live at the iconic Sports Illustrated Stadium in Harrison\, NJ. Whether you’re a die-hard fan or a casual viewer\, this event promises an unforgettable atmosphere with fierce competition and electrifying energy. \n\n\n\nImportant Event Information: \n\n\n\n\nThis match is a mobile-only ticket event. Be sure to have your ticket accessible on your phone for entry.\n\n\n\nAll attendees ages 2 and older require a ticket for admission.\n\n\n\nTicket prices are subject to change. All sales are final\, so make sure to secure your seat early!\n\n\n\nU.S. Soccer encourages using Visa for ticket purchases.\n\n\n\n\nFor Group or Suite Ticket Inquiries:For group tickets or suite bookings\, please contact us directly at tickets@ussoccer.org for assistance. \n\n\n\nDon’t miss out on this international showdown—grab your tickets now and be part of the action!
URL:https://explorenewjersey.org/event/u-s-mens-national-team-v-korea-republic/
LOCATION:Sports Illustrated Stadium\, 600 Cape May Street\, Harrison\, New Jersey\, 07029\, United States
CATEGORIES:Soccer
ATTACH;FMTTYPE=image/jpeg:https://explorenewjersey.org/wp-content/uploads/2025/06/n4pkuaeg8rbcumy0rzaj.jpg
END:VEVENT
BEGIN:VEVENT
DTSTART;TZID=America/New_York:20250906T163000
DTEND;TZID=America/New_York:20250906T233000
DTSTAMP:20260420T023428
CREATED:20250815T162103Z
LAST-MODIFIED:20250815T162301Z
UID:53306-1757176200-1757201400@explorenewjersey.org
SUMMARY:Max Weinberg’s Summer Celebration at The Stone Pony
DESCRIPTION:Max Weinberg’s Summer Celebration – Born to Run 50th Anniversary | The Stone Pony\, Sat\, Sep 6\, 2025 \n\n\n\n\n\n\n\n\n\nCelebrate the end of summer with rock and roll royalty as Max Weinberg\, legendary drummer and Rock & Roll Hall of Fame member of Bruce Springsteen’s E Street Band\, takes the stage at The Stone Pony on Saturday\, September 6\, 2025. This special Summer Stage performance honors the 50th anniversary of Born to Run with electrifying music and unforgettable energy. \n\n\n\nFans can also explore Springsteen Archives events at Monmouth University\, part of a week-long celebration of one of rock’s most iconic albums. Don’t miss this must-see New Jersey concert for rock enthusiasts and Springsteen fans alike. \n\n\n\n\n\n\n\n🎟️ Tickets\, Merchandise & Info:\n\n\n\nAccessible seating available for all guests. \n\n\n\nClick here to go to the Merch Stand in The Vending Lot.
URL:https://explorenewjersey.org/event/max-weinbergs-summer-celebration-at-the-stone-pony/
LOCATION:The Stone Pony Summer Stage\, 909 Ocean Ave N\, Asbury Park\, New Jersey\, 07712\, United States
CATEGORIES:Concerts,Music
ATTACH;FMTTYPE=image/jpeg:https://explorenewjersey.org/wp-content/uploads/2025/08/max-onlineedited.jpg
END:VEVENT
BEGIN:VEVENT
DTSTART;TZID=America/New_York:20250906T170000
DTEND;TZID=America/New_York:20250906T233000
DTSTAMP:20260420T023428
CREATED:20250823T142224Z
LAST-MODIFIED:20250823T142226Z
UID:54700-1757178000-1757201400@explorenewjersey.org
SUMMARY:Tower of Power
DESCRIPTION:Tower of Power Live in Concert – Funk & Soul Legends \n\n\n\n\n\n\n\n\n\nDate: Saturday\, September 6\, 2025Time: 8:00 PMTickets: Starting at $47 (*all-in pricing)Purchase Tickets \n\n\n\nExperience the legendary funk and soul grooves of Tower of Power\, the iconic band that has been shaping the sound of R&B\, funk\, and soul for over 50 years. Known for their tight horn sections\, irresistible rhythms\, and powerhouse performances\, Tower of Power continues to electrify audiences worldwide. \n\n\n\nEvent Highlights\n\n\n\n\nClassic Hits & Signature Sounds: Enjoy timeless classics and fan favorites delivered live with the band’s signature energy and precision.\n\n\n\nVIP Experience: Limited VIP packages are available\, including:\n\nPremium reserved seating\n\n\n\nEarly venue entry\n\n\n\nAccess to Tower of Power’s private soundcheck\n\n\n\nIntimate Q&A session with the band\n\n\n\nVIP group photo opportunity\n\n\n\nPriority access to merchandise (where available)\n\n\n\n\n\nUnforgettable Night: This is your chance to witness a true musical institution\, perfect for funk\, soul\, and live music enthusiasts of all ages.\n\n\n\n\nWhether you’re a longtime fan or discovering Tower of Power for the first time\, this high-energy concert promises an evening of danceable grooves\, soulful vocals\, and horn-driven brilliance. Seats are limited—secure your tickets now and don’t miss this iconic live experience!
URL:https://explorenewjersey.org/event/tower-of-power/
LOCATION:Carteret Performing Arts & Events Center\, 46 Washington Street\, Carteret\, New Jersey\, 07008\, United States
CATEGORIES:Concerts,Music
ATTACH;FMTTYPE=image/webp:https://explorenewjersey.org/wp-content/uploads/2025/08/top_admat2025-1920x1080-1-1024x576-1.webp
ORGANIZER;CN="Carteret PAC":MAILTO:info@carteretpac.com
END:VEVENT
BEGIN:VEVENT
DTSTART;TZID=America/New_York:20250906T180000
DTEND;TZID=America/New_York:20250906T233000
DTSTAMP:20260420T023428
CREATED:20250527T134210Z
LAST-MODIFIED:20250527T134420Z
UID:33457-1757181600-1757201400@explorenewjersey.org
SUMMARY:The E Street Shuffle presents 'Born to Run' Live – The 50th Anniversary Concert
DESCRIPTION:A legendary album. An epic tribute. One unforgettable night.\n\n\n\n\n\n\n\n\n\nOn Saturday\, September 6\, head to the Levoy Theatre in Millville\, NJ\, for a powerhouse celebration of Bruce Springsteen’s iconic Born to Run—brought to life by none other than The E Street Shuffle\, New Jersey’s premier Springsteen tribute band. \n\n\n\n\n\n\n\n🎤 About the Show\n\n\n\nThis one-night-only concert marks the 50th anniversary of the album that changed everything—Born to Run. From the opening notes of “Thunder Road” to the emotional crescendo of “Jungleland\,” the entire album will be performed start to finish\, followed by a second set featuring Springsteen’s biggest hits\, hidden gems\, and deep cuts. \n\n\n\nExpect a full-throttle tribute with heart\, grit\, and the electrifying spirit of a true Springsteen show. The E Street Shuffle\, known for their uncanny vocal resemblance and relentless energy\, will bring the soul of Asbury Park to center stage in a concert event fans won’t want to miss. \n\n\n\n\n\n\n\n🎶 What to Expect\n\n\n\n\nLive performance of Born to Run in full\n\n\n\nSecond set of Springsteen’s greatest hits & fan favorites\n\n\n\nMultimedia visuals & immersive concert experience\n\n\n\nThe sound\, energy\, and passion of The Boss—delivered by a 7-piece band with unmatched authenticity\n\n\n\n\nWhether you’re a lifelong Bruce fan or simply love rock ‘n’ roll done right\, this show will take you on a journey through the heart of one of America’s greatest songwriters. \n\n\n\n\n\n\n\n📍 Event Info\n\n\n\n📍 Venue: Levoy Theatre – 126-130 N High St\, Millville\, NJ📅 Date: Saturday\, September 6\, 2025🕗 Time: 8:00 PM (Doors open at 7:00 PM)🎟 Tickets: \n\n\n\n\nGeneral: $38.50 / $28.50\n\n\n\nMember Pricing: $35.00 / $26.00🎫 On Sale Now – Reserve Your Seats Early!\n\n\n\n\n\n\n\n\n🎷 The Spirit of Springsteen\, Live in South Jersey\n\n\n\nSing\, dance\, and relive one of rock’s most beloved albums with fellow fans in a night that honors the legacy of The Boss like never before. \n\n\n\n\n\n\n\n🔍 Explore More Live Music Events Across New Jersey\n\n\n\nLooking for more concerts\, theatre shows\, or tribute bands rolling through the Garden State? Check out our Explore NJ Events Calendar and discover your next night out. \n\n\n\n\n\n\n\n\n\n\n\n🎟️ Tickets\, Merchandise & Info:\n\n\n\nAccessible seating available for all guests. \n\n\n\nClick here to go to the Merch Stand in The Vending Lot.
URL:https://explorenewjersey.org/event/the-e-street-shuffle-presents-born-to-run-live-the-50th-anniversary-concert/
LOCATION:The Levoy Theatre\, 130 N High Street\, Millville\, NJ\, 08332\, United States
CATEGORIES:Concerts,Music
ATTACH;FMTTYPE=image/jpeg:https://explorenewjersey.org/wp-content/uploads/2025/05/0906EStreetShuffle-thumbnail.jpg
ORGANIZER;CN="The Levoy Theatre Preservation Society":MAILTO:info@levoy.net
END:VEVENT
BEGIN:VEVENT
DTSTART;TZID=America/New_York:20250907T000000
DTEND;TZID=America/New_York:20250907T000000
DTSTAMP:20260420T023428
CREATED:20250728T131500Z
LAST-MODIFIED:20250728T155820Z
UID:48771-1757203200-1757203200@explorenewjersey.org
SUMMARY:The Magic of Jen Kramer
DESCRIPTION:The Magic of Jen Kramer features mind-boggling magic\, mentalism\, comedy\, and audience participation. Jen’s irresistible charm and illusions will have you truly amazed. Don’t look away or you might miss out! Named Female Magician of the Year\, Jen Kramer will amaze you with her jaw-dropping illusions and mystifying sleight of hand. Featured on shows like Penn & Teller: Fool Us and Masters of Illusion\, Jen’s show will leave you asking\, “How did she do that?!” Named Las Vegas Weekly Magazine Magician of the Year (The Only Female Magician To Win This Award)
URL:https://explorenewjersey.org/event/the-magic-of-jen-kramer/
LOCATION:New Jersey
CATEGORIES:Concerts,Music,Theatre
ATTACH;FMTTYPE=image/jpeg:https://explorenewjersey.org/wp-content/uploads/2025/07/Jen-Kramer-840-ce2d098207-s1F3sD.jpg
END:VEVENT
BEGIN:VEVENT
DTSTART;TZID=America/New_York:20250907T000000
DTEND;TZID=America/New_York:20250907T000000
DTSTAMP:20260420T023428
CREATED:20250728T132817Z
LAST-MODIFIED:20250728T161517Z
UID:48965-1757203200-1757203200@explorenewjersey.org
SUMMARY:The Plot In You
DESCRIPTION:Through balancing even the most extreme dynamics\, The Plot In You consistently overturn and upend expectations. On any given track\, it might seem like they’re about to go one way\, but the band will turn on a dime and shift course before the crowd can even catch a breath. This uncanny element of surprise has entrenched the gold-selling Ohio quartet—Landon Tewers [vocals]\, Josh Childress [guitar]\, Ethan Yoder [bass]\, and Michael Cooper [drums] — on the cutting edge of rock music. Whether it be threads of alternative\, electronic\, pop\, or R&B\, nothing is off limits\, and everything is fair game for their creative process. That process has continued to morph. Following a series of fan-favorite releases\, the band made major waves with DISPOSE [2018]. “FEEL NOTHING” surged on social media as a viral phenomenon\, generating hundreds of millions of streams and picking up a gold certification in the U.S.\, Canada and Australia. The musicians only maintained this momentum with Swan Song in 2021. Hysteria rated it “9-out-of-10”. Simultaneously\, they sold out shows coast-to-coast.\nDuring 2023\, the band kickstarted another era with Vol. 1. “Divide” having generated 16 million Spotify streams and counting followed by “Left Behind”\, exploding to the tune of 31 million Spotify streams with no signs of slowing down. Upon the arrival of “Forgotten”\, Revolver praised it among the “6 Best New Songs Right Now.” The Plot In You’s Vol. 2 EP is a powerful showcase of the band’s evolution\, blending raw emotion with polished musicality and stands as a testament to The Plot In You’s growth and artistic maturity\, captivating listeners with its intense yet introspective narratives with tracks “Closure”\, “Don’t Look Away”\, and “All That I Can Give” further solidifying their place as one of the genre’s most compelling acts.\nNow with the impending arrival of their new EP\, Vol. 3\, the band is set to captivate fans once again. Featuring three compelling tracks\, the lead single “Been Here Before” explores the emotional turbulence of relationships\, weaving a narrative of enduring the highs and lows. “Spare Me” delves into the heavy burden of societal pressures and the palpable guilt that comes from feeling helpless in the face of overwhelming news. “Pretend” offers a raw look at the world’s current state\, channeling a sense of disillusionment and examining the disengagement of looking away from the tragedies that are happening daily. Vol. 3 promises to be a powerful addition to the band’s discography\, reflecting their knack for tackling profound themes with sincerity and intensity.
URL:https://explorenewjersey.org/event/the-plot-in-you/
LOCATION:Starland Ballroom\, 570 Jernee Mill Rd\, Sayreville\, New Jersey\, 08872\, United States
CATEGORIES:Concerts,Music
ATTACH;FMTTYPE=image/jpeg:https://explorenewjersey.org/wp-content/uploads/2025/07/the-plot-in-you_06-04-25_24_68406d22d995f-TZmAtj.jpg
END:VEVENT
BEGIN:VEVENT
DTSTART;TZID=America/New_York:20250907T000000
DTEND;TZID=America/New_York:20250907T000000
DTSTAMP:20260420T023428
CREATED:20250806T143621Z
LAST-MODIFIED:20250808T201208Z
UID:51058-1757203200-1757203200@explorenewjersey.org
SUMMARY:Jets vs. Steelers
DESCRIPTION:Jets vs. Steelers
URL:https://explorenewjersey.org/event/jets-vs-steelers/
LOCATION:New Jersey
CATEGORIES:Football,Sports
ATTACH;FMTTYPE=image/png:https://explorenewjersey.org/wp-content/uploads/2025/08/Jets_-_Steelers_-_600x500-kllgGF.png
END:VEVENT
END:VCALENDAR