BEGIN:VCALENDAR
VERSION:2.0
PRODID:-//Explore New Jersey - ECPv6.15.20//NONSGML v1.0//EN
CALSCALE:GREGORIAN
METHOD:PUBLISH
X-ORIGINAL-URL:https://explorenewjersey.org
X-WR-CALDESC:Events for Explore New Jersey
REFRESH-INTERVAL;VALUE=DURATION:PT1H
X-Robots-Tag:noindex
X-PUBLISHED-TTL:PT1H
BEGIN:VTIMEZONE
TZID:America/New_York
BEGIN:DAYLIGHT
TZOFFSETFROM:-0500
TZOFFSETTO:-0400
TZNAME:EDT
DTSTART:20240310T070000
END:DAYLIGHT
BEGIN:STANDARD
TZOFFSETFROM:-0400
TZOFFSETTO:-0500
TZNAME:EST
DTSTART:20241103T060000
END:STANDARD
BEGIN:DAYLIGHT
TZOFFSETFROM:-0500
TZOFFSETTO:-0400
TZNAME:EDT
DTSTART:20250309T070000
END:DAYLIGHT
BEGIN:STANDARD
TZOFFSETFROM:-0400
TZOFFSETTO:-0500
TZNAME:EST
DTSTART:20251102T060000
END:STANDARD
BEGIN:DAYLIGHT
TZOFFSETFROM:-0500
TZOFFSETTO:-0400
TZNAME:EDT
DTSTART:20260308T070000
END:DAYLIGHT
BEGIN:STANDARD
TZOFFSETFROM:-0400
TZOFFSETTO:-0500
TZNAME:EST
DTSTART:20261101T060000
END:STANDARD
END:VTIMEZONE
BEGIN:VEVENT
DTSTART;TZID=America/New_York:20250530T080000
DTEND;TZID=America/New_York:20250902T170000
DTSTAMP:20260424T120340
CREATED:20250823T140211Z
LAST-MODIFIED:20250823T140214Z
UID:54682-1748592000-1756832400@explorenewjersey.org
SUMMARY:Tipsy Tiki Pop-Up Bar
DESCRIPTION:Tipsy Tiki Pop-Up Bar – Summer’s Ultimate Island Escape \n\n\n\n\n\n\n\n\n\nDates: Friday\, May 30 – Tuesday\, September 2\, 2025Location: The Bistro at iPlay America\, 100 Pine Street\, Freehold\, NJ 07728 \n\n\n\nBring the tropics to your backyard this summer at the Tipsy Tiki Pop-Up Bar! Nestled inside the ever-popular iPlay America\, The Bistro transforms into a vibrant island paradise\, offering a unique combination of playful décor\, colorful cocktails\, and frozen drinks that transport you straight to the beach. \n\n\n\nFrom beachy vibes to refreshing tropical libations\, the Tipsy Tiki experience is perfect for friends\, families\, and anyone craving a mini getaway without leaving New Jersey. Enjoy laid-back island tunes\, stunning décor that sets the perfect Instagram moment\, and a fun-filled summer atmosphere from late May through early September. \n\n\n\nWhat to Expect\n\n\n\n\nTropical Cocktails & Frozen Drinks: Sip on exotic concoctions crafted to keep you cool all summer.\n\n\n\nVibrant Island Decor: Experience immersive tropical surroundings designed for fun and relaxation.\n\n\n\nSummer Vibes: Chill with friends\, enjoy lively music\, and soak up the playful Tiki atmosphere.\n\n\n\nPerfect for Photos: With colorful setups and themed decorations\, it’s a paradise for your social feed.\n\n\n\n\nHours & Admission: \n\n\n\n\nOpen daily from 11:00 AM – 10:00 PM (subject to change; check The Bistro or iPlay America for updates).\n\n\n\nAdmission to iPlay America may be required for entry.\n\n\n\n\nVenue Details:The Bistro at iPlay America100 Pine Street\, Freehold\, NJ 07728📞 (732) 577-8200Visit Venue Website \n\n\n\nMake this summer unforgettable with the Tipsy Tiki Pop-Up Bar—your go-to destination for tropical drinks\, festive vibes\, and a splash of island fun right here in New Jersey.
URL:https://explorenewjersey.org/event/tipsy-tiki-pop-up-bar/
LOCATION:The Bistro\, 108 Schanck Rd\, Freehold\, New Jersey\, 07728\, United States
CATEGORIES:Theatre
ATTACH;FMTTYPE=image/jpeg:https://explorenewjersey.org/wp-content/uploads/2025/08/featured-tiki-bar2.jpg
END:VEVENT
BEGIN:VEVENT
DTSTART;TZID=America/New_York:20250830T133000
DTEND;TZID=America/New_York:20250830T233000
DTSTAMP:20260424T120340
CREATED:20250716T113613Z
LAST-MODIFIED:20250716T113616Z
UID:46437-1756560600-1756596600@explorenewjersey.org
SUMMARY:James Taylor & His All-Star Band with Special Guest Tiny Habits
DESCRIPTION:An Evening of Timeless Melodies: James Taylor Returns to PNC Bank Arts Center! \n\n\n\n\n\n\n\n\n\nImmerse yourself in an unforgettable night of classic songwriting and heartwarming vocals as the iconic James Taylor takes the stage with his All-Star Band at the PNC Bank Arts Center in Holmdel\, New Jersey! On Saturday\, August 30\, 2025\, at 7:30 PM\, prepare to be captivated by the legendary artist’s rich catalog of beloved hits that have resonated with generations. \n\n\n\nJames Taylor’s music\, a beautiful blend of folk\, rock\, and blues\, is known for its introspective lyrics\, soothing baritone\, and intricate guitar work. Experience live performances of timeless anthems like “Fire and Rain\,” “Carolina in My Mind\,” “Sweet Baby James\,” and “You’ve Got a Friend\,” all delivered with the authentic charm and masterful musicianship that have defined his illustrious career. \n\n\n\nJoining James Taylor for this special engagement are the talented Tiny Habits. This promising Boston-based trio will open the show with their emotive vocal harmonies and dynamic performances\, adding a fresh and captivating layer to an already stellar evening. \n\n\n\nDon’t miss this opportunity to see a true music icon live under the stars! Secure your tickets now for James Taylor & His All-Star Band with Tiny Habits at the magnificent PNC Bank Arts Center. It’s the perfect concert experience for fans of classic folk-rock\, singer-songwriters\, and anyone seeking a night of pure musical artistry in New Jersey. \n\n\n\n\n\n\n\nStay connected with the Explore New Jersey Directory for more incredible events\, must-see attractions\, and local insights that make the Garden State truly shine! \n\n\n\n\n\n\n\n🎟️ Tickets\, Merchandise & Info:\n\n\n\nAccessible seating available for all guests. \n\n\n\nClick here to go to the Merch Stand in The Vending Lot.
URL:https://explorenewjersey.org/event/james-taylor-his-all-star-band-with-special-guest-tiny-habits/
LOCATION:PNC Bank Arts Center\, Exit 116\, Garden State Pkwy\, Holmdel\, New Jersey\, 07733\, United States
CATEGORIES:Concerts,Music
ATTACH;FMTTYPE=image/jpeg:https://explorenewjersey.org/wp-content/uploads/2025/07/4a231626-0e28-4f17-b002-71cf03aab494_602141_TABLET_LANDSCAPE_LARGE_16_9.jpeg
ORGANIZER;CN="Live Nation Entertainment":MAILTO:https://www.livenation.com/
END:VEVENT
BEGIN:VEVENT
DTSTART;TZID=America/New_York:20250830T163000
DTEND;TZID=America/New_York:20250830T233000
DTSTAMP:20260424T120341
CREATED:20250609T142547Z
LAST-MODIFIED:20250609T142549Z
UID:34670-1756571400-1756596600@explorenewjersey.org
SUMMARY:Rilo Kiley Reunion Show at The Stone Pony Summer Stage
DESCRIPTION:🎸 Rilo Kiley Reunion Show at The Stone Pony Summer Stage\n\n\n\n\n\n\n\n\n\n📍 Location: The Stone Pony Summer Stage\, Asbury Park\, NJ📅 Date & Time: Saturday\, August 30 | Gates open 5:00 PM🎟️ Tickets: Buy Tickets Here \n\n\n\nRilo Kiley is officially back—reunited and ready to light up the Jersey Shore! After more than a decade apart\, the beloved indie rock band returns to the stage with their original lineup: Jenny Lewis\, Blake Sennett\, Jason Boesel\, and Pierre “Duke” de Reeder. Fans who grew up with their emotionally resonant lyrics and infectious melodies won’t want to miss this nostalgic night on the legendary Stone Pony Summer Stage in Asbury Park. \n\n\n\nThis long-awaited reunion promises to be more than just a show—it’s a celebration of connection\, growth\, and the timeless music that helped shape a generation. The band’s signature blend of heartfelt songwriting\, alternative pop\, and indie-rock edge is set to deliver an unforgettable evening under the stars. \n\n\n\n🎶 Expect to hear cherished tracks from albums like More Adventurous\, The Execution of All Things\, and Take Offs and Landings\, as Rilo Kiley brings their iconic sound back to life for fans old and new. \n\n\n\nThis is more than a concert—it’s a heartfelt reconnection with the past and a joyful leap into a new chapter. Whether you’re reliving your college soundtrack or discovering the magic of Rilo Kiley for the first time\, this show promises to be a powerful and personal experience. \n\n\n\n👉 Don’t miss your chance to be part of this emotional and electrifying reunion.💫 Discover more can’t-miss concerts and lifestyle events around New Jersey: Explore New Jersey Lifestyle Events \n\n\n\n\n\n\n\n🎟️ Tickets\, Merchandise & Info:\n\n\n\nAccessible seating available for all guests. \n\n\n\nClick here to go to the Merch Stand in The Vending Lot.
URL:https://explorenewjersey.org/event/rilo-kiley-reunion-show-at-the-stone-pony-summer-stage/
LOCATION:The Stone Pony Summer Stage\, 909 Ocean Ave N\, Asbury Park\, New Jersey\, 07712\, United States
CATEGORIES:Concerts,Music
ATTACH;FMTTYPE=image/jpeg:https://explorenewjersey.org/wp-content/uploads/2025/06/rilokiley.jpg
END:VEVENT
BEGIN:VEVENT
DTSTART;TZID=America/New_York:20250830T170000
DTEND;TZID=America/New_York:20250830T233000
DTSTAMP:20260424T120341
CREATED:20250501T223235Z
LAST-MODIFIED:20250506T115824Z
UID:30915-1756573200-1756596600@explorenewjersey.org
SUMMARY:White Eagle Hall Presents GoldFord
DESCRIPTION:Join GoldFord as he embarks on the Orange Blossoms World Tour\, bringing his soulful anthems and fan-favorite tracks to White Eagle Hall in Jersey City for an unforgettable night of music\, connection\, and energy! Experience GoldFord’s incredible live performance as he premieres new songs alongside his chart-topping hits\, creating an intimate yet electrifying atmosphere for fans. \n\n\n\n\n\n\n\nWhy You Should Attend: \n\n\n\n\nSoulful Music with Heartfelt Connections: GoldFord is known for his unique blend of soul\, R&B\, and captivating lyrics. This live show is a chance to see the artist at his best\, delivering powerful performances and deeply personal songs. Get ready to be swept away by his melodic storytelling and dynamic stage presence.\n\n\n\nBring Friends & Save!: Get your tickets at a discount when you bring your friends! Purchase three or four tickets and save – all tickets will be reduced to just $30 each! Don’t miss this opportunity to introduce your friends to the magic of GoldFord’s music.\n\n\n\nExclusive VIP Experience: Take your concert experience to the next level with the Orange Blossoms VIP Add-On ($75). Enjoy a private pre-show listening session with unreleased music\, participate in a Q&A with GoldFord\, get a photo opportunity during a meet & greet\, and receive exclusive memorabilia including a signed VIP tour poster and VIP laminate. Plus\, enjoy early access to the merchandise table and early venue entry for the best spots.\n\n\n\n\nEvent Details:\n\n\n\n\nDate: Saturday\, August 30\, 2025\n\n\n\nTime: 7:00 PM\n\n\n\nLocation: White Eagle Hall\, 337 Newark Ave\, Jersey City\, NJ 07302\n\n\n\nTickets:\n\nGeneral Admission: $35 (or $30 with 3-4 ticket purchase)\n\n\n\nVIP Add-On: $75\n\n\n\nAges: 18+\n\n\n\n\n\n\n\n\n\n\nAbout BSide:BSide is a live concert platform that’s changing the way fans experience their favorite artists\, offering new ways to connect with performers and providing greater transparency in the music industry. \n\n\n\nGet Your Tickets Today!\n\n\n\nDon’t miss your chance to experience GoldFord live in concert on his Orange Blossoms World Tour. Whether you’re discovering his music for the first time or a long-time fan\, this is a show you won’t want to miss! \n\n\n\n\n\n\n\n\n\n\n\n🎟️ Tickets\, Merchandise & Info:\n\n\n\nAccessible seating available for all guests. \n\n\n\nClick here to go to the Merch Stand in The Vending Lot.
URL:https://explorenewjersey.org/event/white-eagle-hall-presents-goldford/
LOCATION:White Eagle Hall\, 337 Newark Avenue \, NJ\, Jersey City\, New Jersey\, 07302\, United States
CATEGORIES:Concerts,Music
ATTACH;FMTTYPE=image/webp:https://explorenewjersey.org/wp-content/uploads/2025/05/eyJidWNrZXQiOiJwcm9kLXNpaC5zZWV0aWNrZXRzdXNhLnVzIiwia2V5IjoiNTA0MTRmNTktYjkzZC00NWQ3LTkyYWYtNTU4M2MwZjkyZDE3IiwiZWRpdHMiOnsicmVzaXplIjp7IndpZHRoIjozNjUsImhlaWdodCI6MzY1fX19.webp
ORGANIZER;CN="White Eagle Hall":MAILTO:info@wehjc.com
END:VEVENT
BEGIN:VEVENT
DTSTART;TZID=America/New_York:20250830T170000
DTEND;TZID=America/New_York:20250830T233000
DTSTAMP:20260424T120341
CREATED:20250501T223632Z
LAST-MODIFIED:20250507T104430Z
UID:30917-1756573200-1756596600@explorenewjersey.org
SUMMARY:Moms Unhinged Standup Comedy Show
DESCRIPTION:Get ready for a hilarious night out at the Moms Unhinged Stand-Up Comedy Show! This side-splitting event is all about motherhood\, midlife crises\, marriage\, divorce\, and everything in between — with a healthy dose of humor and sarcasm. Featuring an incredible lineup of comedians\, including Alyce Chan\, Andrea Marie\, and headliner Janae Burris\, this show will have you laughing\, crying\, and maybe even relating to things you never thought you’d say out loud. \n\n\n\n\n\n\n\nWhy You Can’t Miss This Show:\n\n\n\n\nUnfiltered Comedy: This show is all about embracing the chaos of life — from the joys of motherhood to the not-so-glamorous side of online dating and everything in between. If you’ve ever felt like your life was unhinged\, you’ll find plenty to laugh about here.\n\n\n\nTop-Notch Comedians:\n\nAlyce Chan brings her witty perspective and sharp humor\, tackling life’s awkward moments with ease.\n\n\n\nAndrea Marie is known for her relatable takes on relationships and family life.\n\n\n\nJanae Burris\, the headliner\, will leave you in stitches with her powerful\, hilarious stories about life as a woman in the 21st century.\n\n\n\n\n\nPerfect Night for Laughter: Whether you’re a mom\, a partner\, or just someone who loves a good laugh\, Moms Unhinged delivers the kind of comedy that makes you feel understood\, entertained\, and ready to share the laughs with friends.\n\n\n\n\n\n\n\n\nGet your tickets today and join us for a night of comedy that’s both raw and hilarious. Don’t miss Moms Unhinged — the ultimate show for anyone who’s ready to laugh at the madness of life. Bring your friends\, your family\, or anyone who could use a good dose of humor. You’ll leave with a smile on your face and a few relatable jokes to share! \n\n\n\n\n\n\n\n\n\n\n\n🎟️ Tickets\, Merchandise & Info:\n\n\n\nAccessible seating available for all guests. \n\n\n\nClick here to go to the Stand Up Comedy Merch Stand in The Vending Lot.
URL:https://explorenewjersey.org/event/moms-unhinged-standup-comedy-show/
LOCATION:White Eagle Hall\, 337 Newark Avenue \, NJ\, Jersey City\, New Jersey\, 07302\, United States
CATEGORIES:Stand-Up Comedy
ATTACH;FMTTYPE=image/webp:https://explorenewjersey.org/wp-content/uploads/2025/05/eyJidWNrZXQiOiJwcm9kLXNpaC5zZWV0aWNrZXRzdXNhLnVzIiwia2V5IjoiNTA0MTRmNTktYjkzZC00NWQ3LTkyYWYtNTU4M2MwZjkyZDE3IiwiZWRpdHMiOnsicmVzaXplIjp7IndpZHRoIjozNjUsImhlaWdodCI6MzY1fX19.webp
ORGANIZER;CN="White Eagle Hall":MAILTO:info@wehjc.com
END:VEVENT
BEGIN:VEVENT
DTSTART;TZID=America/New_York:20250831T000000
DTEND;TZID=America/New_York:20250831T000000
DTSTAMP:20260424T120341
CREATED:20250724T134128Z
LAST-MODIFIED:20250728T123533Z
UID:47549-1756598400-1756598400@explorenewjersey.org
SUMMARY:Damn the Torpedoes
DESCRIPTION:Damn the Torpedoes is the definitive spot-on Petty Tribute! Every show is a celebration of everything Tom Petty and the Heartbreakers.\nJoin us at the Wonder for a two-set show loaded with Tom Petty & the Heartbreakers hits and fan favorites… a must see show for any Petty fan! DDT is a great live retrospective of the Petty music catalogue. Join us for a fun rocking Holiday Party at the Wonder Bar!
URL:https://explorenewjersey.org/event/damn-the-torpedoes/
LOCATION:Wonder Bar\, 1213 Ocean Avenue\, Asbury Par\, New Jersey\, 07712\, United States
CATEGORIES:Concerts
ATTACH;FMTTYPE=image/jpeg:https://explorenewjersey.org/wp-content/uploads/2025/07/Damn-the-Torpedoes-2025-qSpC9o.jpg
END:VEVENT
BEGIN:VEVENT
DTSTART;TZID=America/New_York:20250831T000000
DTEND;TZID=America/New_York:20250831T000000
DTSTAMP:20260424T120341
CREATED:20250806T143620Z
LAST-MODIFIED:20250808T201237Z
UID:51056-1756598400-1756598400@explorenewjersey.org
SUMMARY:Oasis
DESCRIPTION:Oasis is heading to MetLife Stadium on August 31 and September 1\, 2025! \nDon’t miss your chance to see the Oasis Live ’25 world tour with special guest Cage The Elephant.
URL:https://explorenewjersey.org/event/oasis/
LOCATION:New Jersey
CATEGORIES:Concerts,Music
ATTACH;FMTTYPE=image/jpeg:https://explorenewjersey.org/wp-content/uploads/2025/08/Static_VenueDigital_600x500_Oasis_2025_Regional_MetlifeStadium_0831-09013-rHZbRI.jpg
END:VEVENT
BEGIN:VEVENT
DTSTART;TZID=America/New_York:20250831T000000
DTEND;TZID=America/New_York:20250831T000000
DTSTAMP:20260424T120341
CREATED:20250806T144443Z
LAST-MODIFIED:20260422T002209Z
UID:51128-1756598400-1756598400@explorenewjersey.org
SUMMARY:State College Spikes
DESCRIPTION:The Thunder host a variety of Theme Nights and Community Nights throughout the summer\, providing groups with similar interests the opportunity to get together and enjoy a game! \nAll Thunder Promotions & Theme Nights are subject to change. Children 3 and under do not require a ticket when seated in the lap of an adult. All points of sale inside Trenton Thunder Ballpark are cashless. Parking at Trenton Thunder Ballpark will continue to be $5\, cash only. Optional in-park promotions like Speed Pitch and 50/50 will continue to be cash only. All ticket sales are final. No refunds. For questions or to purchase tickets over the phone\, call the Thunder Ticket Office at (609) 394-3300\, opt 4.
URL:https://explorenewjersey.org/event/state-college-spikes-2/
LOCATION:New Jersey
CATEGORIES:Sports
ATTACH;FMTTYPE=image/svg+xml:https://explorenewjersey.org/wp-content/uploads/2025/08/1174-tjHVeH.svg
END:VEVENT
BEGIN:VEVENT
DTSTART;TZID=America/New_York:20250831T000000
DTEND;TZID=America/New_York:20250831T000000
DTSTAMP:20260424T120341
CREATED:20250806T145411Z
LAST-MODIFIED:20260422T002208Z
UID:51155-1756598400-1756598400@explorenewjersey.org
SUMMARY:Binghamton
DESCRIPTION:Benge’s Blast Leads Binghamton Past Harrisburg to Clinch Series\nBinghamton Combines for No-Hitter in First Game\, Splits Doubleheader with Harrisburg\nLorusso Drives in Game-Tying Run\, Scores Winning Run to Lead Binghamton Past Harrisburg\nThursday’s Rumble Ponies Game against Harrisburg Postponed\nBenge Powers Binghamton Past Harrisburg for Wednesday Matinee Win
URL:https://explorenewjersey.org/event/binghamton-12/
LOCATION:New Jersey
CATEGORIES:Sports
ATTACH;FMTTYPE=image/svg+xml:https://explorenewjersey.org/wp-content/uploads/2025/08/505-HghFcE.svg
END:VEVENT
BEGIN:VEVENT
DTSTART;TZID=America/New_York:20250831T000000
DTEND;TZID=America/New_York:20250831T000000
DTSTAMP:20260424T120341
CREATED:20250806T150043Z
LAST-MODIFIED:20260422T002207Z
UID:51184-1756598400-1756598400@explorenewjersey.org
SUMMARY:Aberdeen
DESCRIPTION:Attain Sports Announces Reorganization of Baseball Teams\, Bringing High-A Affiliated Baseball Back to Frederick and MLB Draft League to Aberdeen Beginning in 2026\nIronBirds’ make noise with 15-run outburst\, lights-out bullpen in tight series against Dash\nEstrada’s walkoff blast\, Achen’s unhittable outing pave way for IronBirds in series split with BlueClaws\nIronBirds bats come alive after perfect game in Fourth of July Weekend series against Grasshoppers\nIronBirds gain fresh start in second half after series loss to Cyclones\nIronBirds’ dominant pitching\, timely hitting secure series split vs. Renegades\nIronBirds heating up after back-to-back walkoff wins in series split vs. Blue Rocks\nIronBirds earn first walkoff win of 2025 in series against Hot Rods\nStellar starts from Bragg\, Forret lead way for IronBirds in series with Cyclones\nStrong Pitching Stands out for IronBirds on Opening Weekend against Hub City
URL:https://explorenewjersey.org/event/aberdeen-6/
LOCATION:New Jersey
CATEGORIES:Sports
ATTACH;FMTTYPE=image/svg+xml:https://explorenewjersey.org/wp-content/uploads/2025/08/488-FIOhKb.svg
END:VEVENT
END:VCALENDAR