BEGIN:VCALENDAR
VERSION:2.0
PRODID:-//Explore New Jersey - ECPv6.15.20//NONSGML v1.0//EN
CALSCALE:GREGORIAN
METHOD:PUBLISH
X-ORIGINAL-URL:https://explorenewjersey.org
X-WR-CALDESC:Events for Explore New Jersey
REFRESH-INTERVAL;VALUE=DURATION:PT1H
X-Robots-Tag:noindex
X-PUBLISHED-TTL:PT1H
BEGIN:VTIMEZONE
TZID:America/New_York
BEGIN:DAYLIGHT
TZOFFSETFROM:-0500
TZOFFSETTO:-0400
TZNAME:EDT
DTSTART:20240310T070000
END:DAYLIGHT
BEGIN:STANDARD
TZOFFSETFROM:-0400
TZOFFSETTO:-0500
TZNAME:EST
DTSTART:20241103T060000
END:STANDARD
BEGIN:DAYLIGHT
TZOFFSETFROM:-0500
TZOFFSETTO:-0400
TZNAME:EDT
DTSTART:20250309T070000
END:DAYLIGHT
BEGIN:STANDARD
TZOFFSETFROM:-0400
TZOFFSETTO:-0500
TZNAME:EST
DTSTART:20251102T060000
END:STANDARD
BEGIN:DAYLIGHT
TZOFFSETFROM:-0500
TZOFFSETTO:-0400
TZNAME:EDT
DTSTART:20260308T070000
END:DAYLIGHT
BEGIN:STANDARD
TZOFFSETFROM:-0400
TZOFFSETTO:-0500
TZNAME:EST
DTSTART:20261101T060000
END:STANDARD
END:VTIMEZONE
BEGIN:VEVENT
DTSTART;TZID=America/New_York:20250530T080000
DTEND;TZID=America/New_York:20250902T170000
DTSTAMP:20260424T120224
CREATED:20250823T140211Z
LAST-MODIFIED:20250823T140214Z
UID:54682-1748592000-1756832400@explorenewjersey.org
SUMMARY:Tipsy Tiki Pop-Up Bar
DESCRIPTION:Tipsy Tiki Pop-Up Bar – Summer’s Ultimate Island Escape \n\n\n\n\n\n\n\n\n\nDates: Friday\, May 30 – Tuesday\, September 2\, 2025Location: The Bistro at iPlay America\, 100 Pine Street\, Freehold\, NJ 07728 \n\n\n\nBring the tropics to your backyard this summer at the Tipsy Tiki Pop-Up Bar! Nestled inside the ever-popular iPlay America\, The Bistro transforms into a vibrant island paradise\, offering a unique combination of playful décor\, colorful cocktails\, and frozen drinks that transport you straight to the beach. \n\n\n\nFrom beachy vibes to refreshing tropical libations\, the Tipsy Tiki experience is perfect for friends\, families\, and anyone craving a mini getaway without leaving New Jersey. Enjoy laid-back island tunes\, stunning décor that sets the perfect Instagram moment\, and a fun-filled summer atmosphere from late May through early September. \n\n\n\nWhat to Expect\n\n\n\n\nTropical Cocktails & Frozen Drinks: Sip on exotic concoctions crafted to keep you cool all summer.\n\n\n\nVibrant Island Decor: Experience immersive tropical surroundings designed for fun and relaxation.\n\n\n\nSummer Vibes: Chill with friends\, enjoy lively music\, and soak up the playful Tiki atmosphere.\n\n\n\nPerfect for Photos: With colorful setups and themed decorations\, it’s a paradise for your social feed.\n\n\n\n\nHours & Admission: \n\n\n\n\nOpen daily from 11:00 AM – 10:00 PM (subject to change; check The Bistro or iPlay America for updates).\n\n\n\nAdmission to iPlay America may be required for entry.\n\n\n\n\nVenue Details:The Bistro at iPlay America100 Pine Street\, Freehold\, NJ 07728📞 (732) 577-8200Visit Venue Website \n\n\n\nMake this summer unforgettable with the Tipsy Tiki Pop-Up Bar—your go-to destination for tropical drinks\, festive vibes\, and a splash of island fun right here in New Jersey.
URL:https://explorenewjersey.org/event/tipsy-tiki-pop-up-bar/
LOCATION:The Bistro\, 108 Schanck Rd\, Freehold\, New Jersey\, 07728\, United States
CATEGORIES:Theatre
ATTACH;FMTTYPE=image/jpeg:https://explorenewjersey.org/wp-content/uploads/2025/08/featured-tiki-bar2.jpg
END:VEVENT
BEGIN:VEVENT
DTSTART;TZID=America/New_York:20250717T180000
DTEND;TZID=America/New_York:20250810T233000
DTSTAMP:20260424T120224
CREATED:20250725T142012Z
LAST-MODIFIED:20250725T142017Z
UID:48098-1752775200-1754868600@explorenewjersey.org
SUMMARY:How My Grandparents Fell in Love
DESCRIPTION:A Timeless Romance Blooms in the Shadow of History: “How My Grandparents Fell in Love” at NJ Rep\n\n\n\n\n\n\n\n\n\nNew Jersey’s vibrant arts scene consistently offers captivating experiences\, and this summer\, theater enthusiasts are in for a treat with the world premiere of “How My Grandparents Fell in Love” at the New Jersey Repertory Company (NJ Rep) in Long Branch. This heartwarming new musical\, with book and lyrics by Cary Gitter and music and lyrics by Neil Berg\, promises to transport audiences to a pivotal moment in history\, all while celebrating the enduring power of love. \n\n\n\nUnder the skillful direction of SuzAnne Barabas\, “How My Grandparents Fell in Love” takes us back to 1933 in Rovno\, Poland. Here\, we meet Charlie\, a Polish-born Jew who\, after a decade in America\, returns to his homeland with a singular purpose: to find a bride. His journey leads him to Chava\, a spirited young woman working in a hat shop\, whose deepest desire is to become a scholar. Their burgeoning connection is the heart of the story\, a tender romance unfolding against the stark and unsettling backdrop of rising anti-Semitism across Europe. This historical context provides a powerful layer to their personal dreams\, creating a narrative that is both intimate and deeply resonant. \n\n\n\nThe production boasts a talented cast bringing this compelling story to life. Harris Milgrim steps into the role of Charlie\, while Becca Suskauer embodies Chava. Behind the scenes\, the creative team further elevates the experience: Jordan Ryder’s choreography adds an expressive dimension\, Aaron Benham leads the musical direction\, and the visual landscape is meticulously crafted by Jessica Parks (Set Design)\, Jill Nagle (Lighting Design)\, and Patricia E. Doherty (Costume Design). Nick Simone’s sound design\, Rose Riccardi as Production Stage Manager\, and Ian Duhart as Assistant Stage Manager ensure a seamless performance. Matthew Lowy serves as Music Supervisor\, with Janey Huber as Assistant Lighting Design and James Lockhart as Master Electrician\, all contributing to the rich tapestry of this production. \n\n\n\nWhether you’re looking for a poignant love story\, a glimpse into a crucial historical period\, or simply an exceptional theatrical performance\, “How My Grandparents Fell in Love” offers a unique and engaging experience. The show runs from July 17th to August 10th\, 2025. Performances are scheduled for Thursdays at 7:00 PM\, and Fridays\, Saturdays\, and Sundays with both 2:00 PM and 7:00 PM showings. The running time is approximately 2 hours\, including a brief intermission. Please note\, the production carries an advisory for Adult\, Teen\, and Pre-Teen audiences due to adult language\, sexual themes\, and violence. \n\n\n\nThis musical delves into powerful themes of love\, resilience\, and the human spirit’s ability to endure amidst historical upheaval. Early critical responses highlight the charm and heartwarming nature of Charlie and Chava’s love story\, acknowledging the masterful way it interweaves with the looming historical realities. While the performances and musical elements have received significant praise\, the production is noted for its ongoing development in seamlessly blending its romantic core with the gravity of its historical setting. \n\n\n\nDon’t miss the opportunity to witness this impactful new work. Tickets can be conveniently purchased online directly through the New Jersey Repertory Company website\, or by calling 732-229-3166. The New Jersey Repertory Company is located at 179 Broadway in Long Branch\, New Jersey\, making it an accessible destination for theater lovers across the state. For more information on New Jersey’s diverse theatrical offerings\, be sure to explore our dedicated section on the arts: https://explorenewjersey.org/theatre/.
URL:https://explorenewjersey.org/event/how-my-grandparents-fell-in-love/
LOCATION:New Jersey Repertory Company\, 179 Broadway\, Long Branch\, New Jersey\, 07740\, United States
CATEGORIES:Theatre
ATTACH;FMTTYPE=image/webp:https://explorenewjersey.org/wp-content/uploads/2025/07/grandparents-postcard-640x400-1___23165658738.webp
END:VEVENT
BEGIN:VEVENT
DTSTART;TZID=America/New_York:20250807T000000
DTEND;TZID=America/New_York:20250807T000000
DTSTAMP:20260424T120224
CREATED:20250724T133819Z
LAST-MODIFIED:20250728T123332Z
UID:47513-1754524800-1754524800@explorenewjersey.org
SUMMARY:Sneezy\, Kuf Knotz & Christine Elise
DESCRIPTION:SNEEZY – Best friends since 1st grade\, sharing the groove one beat at a time. Sneezy brings the funk and soul from Chicago! Sneezy’s sound is the perfect culmination of all things good in music. It fuses the genres of pop\, reggae\, hip-hop\, and rock\, and it has a natural\, summery sunshine feel to every track. Their neo-soul undertone provides a little something extra to their music and creates an infectious\, addicting rhythm that you’ll be glad to have stuck in your head. Like James Brown\, Sneezy turns in a killer show and leaves it all on the stage\, every time. Hailing from Chicago\, Illinois\, Sneezy’s catchy\, cascading rhythms spiral onwards\, leading scores of carousing fans dancing & singing along with songs they know by heart. From frontman Brett O’Connor: “We’re always having fun on stage\, and you really get our music when you see us live. Our mission is to create an ever-growing community through our music.”\nKUF KNOTZ & CHRISTINE ELISE\nKüf Knotz (Producer/MC) and Christine Elise (Harpist/Vocalist) have brought their unique blend of hip-hop\, soul and classical traditions to various communities. The unlikely pair connected and built a similar bond to creating positive\, forward thinking music fusing boom bap era and lo-fi inspired beats supported by the harp. Their performance takes you on an era fusing\, genre bending journey. And\, you can dance to it. The duo has been featured on Sugar Shack Sessions & NPR Music.
URL:https://explorenewjersey.org/event/sneezy-kuf-knotz-christine-elise/
LOCATION:Wonder Bar\, 1213 Ocean Avenue\, Asbury Par\, New Jersey\, 07712\, United States
CATEGORIES:Concerts
ATTACH;FMTTYPE=image/jpeg:https://explorenewjersey.org/wp-content/uploads/2025/07/sneezy-ap-jams-2025-fb-cover-m1HVcQ.jpg
END:VEVENT
BEGIN:VEVENT
DTSTART;TZID=America/New_York:20250807T000000
DTEND;TZID=America/New_York:20250807T000000
DTSTAMP:20260424T120224
CREATED:20250728T125043Z
LAST-MODIFIED:20250728T150806Z
UID:48421-1754524800-1754524800@explorenewjersey.org
SUMMARY:King’s X
DESCRIPTION:King’s X the American rock band that combines progressive metal\, funk and soul with vocal arrangements influenced by gospel\, blues\, and British Invasion rock groups.\nPresented by Count Basie Center for the Arts
URL:https://explorenewjersey.org/event/kings-x/
LOCATION:Count Basie Center for the Arts\, 99 Monmouth Street\, Red Bank\, New Jersey\, 07701\, United States
CATEGORIES:Concerts,Music
ATTACH;FMTTYPE=image/jpeg:https://explorenewjersey.org/wp-content/uploads/2025/07/2024-07-27-Kings-X-VOGEL-PREVIEW-G9COyR.jpg
END:VEVENT
BEGIN:VEVENT
DTSTART;TZID=America/New_York:20250807T000000
DTEND;TZID=America/New_York:20250807T000000
DTSTAMP:20260424T120224
CREATED:20250728T132933Z
LAST-MODIFIED:20250728T132933Z
UID:49017-1754524800-1754524800@explorenewjersey.org
SUMMARY:DJ Willy Wow!
DESCRIPTION:Join GRAMMY®-nominated children’s songwriter\, music producer\, voice-over artist\, and radio personality\, DJ Willy Wow! for an interactive musical journey and dance party. DJ Willy Wow! uses his music to share about working together\, being kind\, and having fun. Whether you’re 1 or 101\, get ready for DJ Willy Wow! to spin some epic tunes and\, most importantly\, get you off your feet!\nThis general admission show is presented for summer camp groups. A limited number of tickets are available to the public for free with advance registration.\nThis event is made possible through the support of the Wintrode Family Foundation
URL:https://explorenewjersey.org/event/dj-willy-wow/
LOCATION:New Jersey
ATTACH;FMTTYPE=image/jpeg:https://explorenewjersey.org/wp-content/uploads/2025/07/DJWW-1920x1080-1-JKhGOo.jpg
END:VEVENT
BEGIN:VEVENT
DTSTART;TZID=America/New_York:20250807T000000
DTEND;TZID=America/New_York:20250807T000000
DTSTAMP:20260424T120224
CREATED:20250806T143845Z
LAST-MODIFIED:20260422T002254Z
UID:51114-1754524800-1754524800@explorenewjersey.org
SUMMARY:Frederick Keys
DESCRIPTION:The Thunder host a variety of Theme Nights and Community Nights throughout the summer\, providing groups with similar interests the opportunity to get together and enjoy a game! \nAll Thunder Promotions & Theme Nights are subject to change. Children 3 and under do not require a ticket when seated in the lap of an adult. All points of sale inside Trenton Thunder Ballpark are cashless. Parking at Trenton Thunder Ballpark will continue to be $5\, cash only. Optional in-park promotions like Speed Pitch and 50/50 will continue to be cash only. All ticket sales are final. No refunds. For questions or to purchase tickets over the phone\, call the Thunder Ticket Office at (609) 394-3300\, opt 4.
URL:https://explorenewjersey.org/event/frederick-keys-2/
LOCATION:New Jersey
CATEGORIES:Sports
ATTACH;FMTTYPE=image/svg+xml:https://explorenewjersey.org/wp-content/uploads/2025/08/493-ZGmU6a.svg
END:VEVENT
BEGIN:VEVENT
DTSTART;TZID=America/New_York:20250807T000000
DTEND;TZID=America/New_York:20250807T000000
DTSTAMP:20260424T120224
CREATED:20250806T144447Z
LAST-MODIFIED:20260422T002253Z
UID:51131-1754524800-1754524800@explorenewjersey.org
SUMMARY:Binghamton
DESCRIPTION:Benge’s Blast Leads Binghamton Past Harrisburg to Clinch Series\nBinghamton Combines for No-Hitter in First Game\, Splits Doubleheader with Harrisburg\nLorusso Drives in Game-Tying Run\, Scores Winning Run to Lead Binghamton Past Harrisburg\nThursday’s Rumble Ponies Game against Harrisburg Postponed\nBenge Powers Binghamton Past Harrisburg for Wednesday Matinee Win
URL:https://explorenewjersey.org/event/binghamton-3/
LOCATION:New Jersey
CATEGORIES:Sports
ATTACH;FMTTYPE=image/svg+xml:https://explorenewjersey.org/wp-content/uploads/2025/08/505-HghFcE.svg
END:VEVENT
BEGIN:VEVENT
DTSTART;TZID=America/New_York:20250807T000000
DTEND;TZID=America/New_York:20250807T000000
DTSTAMP:20260424T120224
CREATED:20250806T145423Z
LAST-MODIFIED:20260422T002252Z
UID:51158-1754524800-1754524800@explorenewjersey.org
SUMMARY:Hub City
DESCRIPTION:Gonzalez Shines in Series Clinching Win\nCook’s Grand Slam Lifts Spartanburgers to Share of Series\nAsheville Takes One-Run Affair on Friday\nFree Passes Doom ‘Burgers in 7-1 Defeat\nFrom the “Jungle” to the ‘Burg: Josh Trentadue’s Competitive Nature Has Powered a Breakout 2025\nSpartanburgers Ambush Tourists in Wednesday Win\nDominant Pitching Paces Hub City to Win in Series Opener\nDrive Win Series on Second Walk-off of the Week
URL:https://explorenewjersey.org/event/hub-city-3/
LOCATION:New Jersey
CATEGORIES:Sports
ATTACH;FMTTYPE=image/svg+xml:https://explorenewjersey.org/wp-content/uploads/2025/08/6324-q6B6nK.svg
END:VEVENT
BEGIN:VEVENT
DTSTART;TZID=America/New_York:20250807T000000
DTEND;TZID=America/New_York:20250807T000000
DTSTAMP:20260424T120224
CREATED:20250806T152654Z
LAST-MODIFIED:20250808T200859Z
UID:51256-1754524800-1754524800@explorenewjersey.org
SUMMARY:Little River Band: Fifty Years: Happy Anniversary Tour
DESCRIPTION:Little River Band garnered huge chart success with multi-platinum albums and chart-topping hits in the 70s and 80s. LRB continues to deliver distinctive harmonies and vocal abilities under the direction of 44-year LRB veteran\, lead vocalist and bass player Wayne Nelson.  Enjoy classic hits such as “Reminiscing\,” “Cool Change\,” “Lonesome Loser\,” “The Night Owls\,” “Lady\,” “Help Is on Its Way” and many more.
URL:https://explorenewjersey.org/event/little-river-band-fifty-years-happy-anniversary-tour/
LOCATION:New Jersey
CATEGORIES:Concerts,Music
ATTACH;FMTTYPE=image/jpeg:https://explorenewjersey.org/wp-content/uploads/2025/08/LittleRiverBand_thumb-519x600-mQfyos.jpg
END:VEVENT
END:VCALENDAR