BEGIN:VCALENDAR
VERSION:2.0
PRODID:-//Explore New Jersey - ECPv6.15.20//NONSGML v1.0//EN
CALSCALE:GREGORIAN
METHOD:PUBLISH
X-WR-CALNAME:Explore New Jersey
X-ORIGINAL-URL:https://explorenewjersey.org
X-WR-CALDESC:Events for Explore New Jersey
REFRESH-INTERVAL;VALUE=DURATION:PT1H
X-Robots-Tag:noindex
X-PUBLISHED-TTL:PT1H
BEGIN:VTIMEZONE
TZID:America/New_York
BEGIN:DAYLIGHT
TZOFFSETFROM:-0500
TZOFFSETTO:-0400
TZNAME:EDT
DTSTART:20240310T070000
END:DAYLIGHT
BEGIN:STANDARD
TZOFFSETFROM:-0400
TZOFFSETTO:-0500
TZNAME:EST
DTSTART:20241103T060000
END:STANDARD
BEGIN:DAYLIGHT
TZOFFSETFROM:-0500
TZOFFSETTO:-0400
TZNAME:EDT
DTSTART:20250309T070000
END:DAYLIGHT
BEGIN:STANDARD
TZOFFSETFROM:-0400
TZOFFSETTO:-0500
TZNAME:EST
DTSTART:20251102T060000
END:STANDARD
BEGIN:DAYLIGHT
TZOFFSETFROM:-0500
TZOFFSETTO:-0400
TZNAME:EDT
DTSTART:20260308T070000
END:DAYLIGHT
BEGIN:STANDARD
TZOFFSETFROM:-0400
TZOFFSETTO:-0500
TZNAME:EST
DTSTART:20261101T060000
END:STANDARD
END:VTIMEZONE
BEGIN:VEVENT
DTSTART;TZID=America/New_York:20250530T080000
DTEND;TZID=America/New_York:20250902T170000
DTSTAMP:20260424T070129
CREATED:20250823T140211Z
LAST-MODIFIED:20250823T140214Z
UID:54682-1748592000-1756832400@explorenewjersey.org
SUMMARY:Tipsy Tiki Pop-Up Bar
DESCRIPTION:Tipsy Tiki Pop-Up Bar – Summer’s Ultimate Island Escape \n\n\n\n\n\n\n\n\n\nDates: Friday\, May 30 – Tuesday\, September 2\, 2025Location: The Bistro at iPlay America\, 100 Pine Street\, Freehold\, NJ 07728 \n\n\n\nBring the tropics to your backyard this summer at the Tipsy Tiki Pop-Up Bar! Nestled inside the ever-popular iPlay America\, The Bistro transforms into a vibrant island paradise\, offering a unique combination of playful décor\, colorful cocktails\, and frozen drinks that transport you straight to the beach. \n\n\n\nFrom beachy vibes to refreshing tropical libations\, the Tipsy Tiki experience is perfect for friends\, families\, and anyone craving a mini getaway without leaving New Jersey. Enjoy laid-back island tunes\, stunning décor that sets the perfect Instagram moment\, and a fun-filled summer atmosphere from late May through early September. \n\n\n\nWhat to Expect\n\n\n\n\nTropical Cocktails & Frozen Drinks: Sip on exotic concoctions crafted to keep you cool all summer.\n\n\n\nVibrant Island Decor: Experience immersive tropical surroundings designed for fun and relaxation.\n\n\n\nSummer Vibes: Chill with friends\, enjoy lively music\, and soak up the playful Tiki atmosphere.\n\n\n\nPerfect for Photos: With colorful setups and themed decorations\, it’s a paradise for your social feed.\n\n\n\n\nHours & Admission: \n\n\n\n\nOpen daily from 11:00 AM – 10:00 PM (subject to change; check The Bistro or iPlay America for updates).\n\n\n\nAdmission to iPlay America may be required for entry.\n\n\n\n\nVenue Details:The Bistro at iPlay America100 Pine Street\, Freehold\, NJ 07728📞 (732) 577-8200Visit Venue Website \n\n\n\nMake this summer unforgettable with the Tipsy Tiki Pop-Up Bar—your go-to destination for tropical drinks\, festive vibes\, and a splash of island fun right here in New Jersey.
URL:https://explorenewjersey.org/event/tipsy-tiki-pop-up-bar/
LOCATION:The Bistro\, 108 Schanck Rd\, Freehold\, New Jersey\, 07728\, United States
CATEGORIES:Theatre
ATTACH;FMTTYPE=image/jpeg:https://explorenewjersey.org/wp-content/uploads/2025/08/featured-tiki-bar2.jpg
END:VEVENT
BEGIN:VEVENT
DTSTART;TZID=America/New_York:20250717T180000
DTEND;TZID=America/New_York:20250810T233000
DTSTAMP:20260424T070129
CREATED:20250725T142012Z
LAST-MODIFIED:20250725T142017Z
UID:48098-1752775200-1754868600@explorenewjersey.org
SUMMARY:How My Grandparents Fell in Love
DESCRIPTION:A Timeless Romance Blooms in the Shadow of History: “How My Grandparents Fell in Love” at NJ Rep\n\n\n\n\n\n\n\n\n\nNew Jersey’s vibrant arts scene consistently offers captivating experiences\, and this summer\, theater enthusiasts are in for a treat with the world premiere of “How My Grandparents Fell in Love” at the New Jersey Repertory Company (NJ Rep) in Long Branch. This heartwarming new musical\, with book and lyrics by Cary Gitter and music and lyrics by Neil Berg\, promises to transport audiences to a pivotal moment in history\, all while celebrating the enduring power of love. \n\n\n\nUnder the skillful direction of SuzAnne Barabas\, “How My Grandparents Fell in Love” takes us back to 1933 in Rovno\, Poland. Here\, we meet Charlie\, a Polish-born Jew who\, after a decade in America\, returns to his homeland with a singular purpose: to find a bride. His journey leads him to Chava\, a spirited young woman working in a hat shop\, whose deepest desire is to become a scholar. Their burgeoning connection is the heart of the story\, a tender romance unfolding against the stark and unsettling backdrop of rising anti-Semitism across Europe. This historical context provides a powerful layer to their personal dreams\, creating a narrative that is both intimate and deeply resonant. \n\n\n\nThe production boasts a talented cast bringing this compelling story to life. Harris Milgrim steps into the role of Charlie\, while Becca Suskauer embodies Chava. Behind the scenes\, the creative team further elevates the experience: Jordan Ryder’s choreography adds an expressive dimension\, Aaron Benham leads the musical direction\, and the visual landscape is meticulously crafted by Jessica Parks (Set Design)\, Jill Nagle (Lighting Design)\, and Patricia E. Doherty (Costume Design). Nick Simone’s sound design\, Rose Riccardi as Production Stage Manager\, and Ian Duhart as Assistant Stage Manager ensure a seamless performance. Matthew Lowy serves as Music Supervisor\, with Janey Huber as Assistant Lighting Design and James Lockhart as Master Electrician\, all contributing to the rich tapestry of this production. \n\n\n\nWhether you’re looking for a poignant love story\, a glimpse into a crucial historical period\, or simply an exceptional theatrical performance\, “How My Grandparents Fell in Love” offers a unique and engaging experience. The show runs from July 17th to August 10th\, 2025. Performances are scheduled for Thursdays at 7:00 PM\, and Fridays\, Saturdays\, and Sundays with both 2:00 PM and 7:00 PM showings. The running time is approximately 2 hours\, including a brief intermission. Please note\, the production carries an advisory for Adult\, Teen\, and Pre-Teen audiences due to adult language\, sexual themes\, and violence. \n\n\n\nThis musical delves into powerful themes of love\, resilience\, and the human spirit’s ability to endure amidst historical upheaval. Early critical responses highlight the charm and heartwarming nature of Charlie and Chava’s love story\, acknowledging the masterful way it interweaves with the looming historical realities. While the performances and musical elements have received significant praise\, the production is noted for its ongoing development in seamlessly blending its romantic core with the gravity of its historical setting. \n\n\n\nDon’t miss the opportunity to witness this impactful new work. Tickets can be conveniently purchased online directly through the New Jersey Repertory Company website\, or by calling 732-229-3166. The New Jersey Repertory Company is located at 179 Broadway in Long Branch\, New Jersey\, making it an accessible destination for theater lovers across the state. For more information on New Jersey’s diverse theatrical offerings\, be sure to explore our dedicated section on the arts: https://explorenewjersey.org/theatre/.
URL:https://explorenewjersey.org/event/how-my-grandparents-fell-in-love/
LOCATION:New Jersey Repertory Company\, 179 Broadway\, Long Branch\, New Jersey\, 07740\, United States
CATEGORIES:Theatre
ATTACH;FMTTYPE=image/webp:https://explorenewjersey.org/wp-content/uploads/2025/07/grandparents-postcard-640x400-1___23165658738.webp
END:VEVENT
BEGIN:VEVENT
DTSTART;TZID=America/New_York:20250805T080000
DTEND;TZID=America/New_York:20250805T170000
DTSTAMP:20260424T070129
CREATED:20250725T131200Z
LAST-MODIFIED:20250725T131204Z
UID:48080-1754380800-1754413200@explorenewjersey.org
SUMMARY:Princess at The Park
DESCRIPTION:Experience Enchantment: Princess at The Park – An Evening for Little Royals! \n\n\n\n\n\n\n\n\n\nStep into a fairytale where dreams come alive! Explore New Jersey invites your little one to an extraordinary evening designed exclusively for aspiring princes and princesses. “Princess at The Park” promises a magical experience\, featuring a special appearance by the beloved Sleeping Princess herself. Prepare for an unforgettable night filled with captivating stories\, creative crafts\, regal lessons\, and activities fit for true royalty! \n\n\n\nDress in your most dazzling princess attire and immerse yourself in an enchanting atmosphere. This is your child’s chance to shine and create cherished memories. \n\n\n\nYour royal adventure includes: \n\n\n\n\nStory Time & Sing-A-Long with the Sleeping Princess: Be captivated by tales of wonder and join in joyful songs with our special guest.\n\n\n\nWishing Star Craft: Create your very own sparkling wishing star\, a magical keepsake from your evening.\n\n\n\nRibbon Dancing: Glide and twirl with colorful ribbons\, adding grace to your royal movements.\n\n\n\nPrince & Princess Lessons: Learn the etiquette and charm of royalty\, preparing you for your noble future.\n\n\n\nSparkly Lemonade Fit for Royalty: Sip on a shimmering\, delightful beverage\, perfectly refreshing for a royal guest.\n\n\n\n\nImportant details for our royal guests: \n\n\n\nThis is a cherished child-friendly event\, and for the safety and enjoyment of all\, a parent or guardian must accompany each child. Please note that drop-offs are not permitted. Adults attending with a child do not require a separate ticket. \n\n\n\nDate & Time: Mark your calendars for Tuesday\, August 5th\, from 6:00 PM to 7:30 PM\, when the magic unfolds! \n\n\n\nVenue: Join us at the elegant Round Table Studios\, nestled within The Park (formerly Connell Corporate Park) at: 200 Connell Drive\, Berkeley Heights\, NJ \n\n\n\nPrice: Tickets for this enchanting experience are $30 plus tax per child. \n\n\n\nContact: For any inquiries\, please reach out to events@theparkatnj.com. \n\n\n\nDon’t miss this extraordinary opportunity to create lasting memories and let your child’s fairytale dreams come true right here in New Jersey!
URL:https://explorenewjersey.org/event/princess-at-the-park/
LOCATION:Round Table Studios\, 200 Connell Drive\, Berkeley Heights\, New Jersey\, United States
CATEGORIES:Theatre
ATTACH;FMTTYPE=image/jpeg:https://explorenewjersey.org/wp-content/uploads/2025/07/687a6bb7eebb4d07976df42e_Princess_at_the_park_8x11-scaled.jpg
ORGANIZER;CN="The Park":MAILTO:events@theparkatnj.com
END:VEVENT
BEGIN:VEVENT
DTSTART;TZID=America/New_York:20250805T170000
DTEND;TZID=America/New_York:20250805T233000
DTSTAMP:20260424T070129
CREATED:20250526T121650Z
LAST-MODIFIED:20250526T121653Z
UID:33395-1754413200-1754436600@explorenewjersey.org
SUMMARY:Ado – World Tour 2025: Hibana
DESCRIPTION:Ado – World Tour 2025: Hibana \n\n\n\n\n\n\n\n\n\nJapanese pop phenomenon Ado is heading to New Jersey as part of her monumental World Tour 2025 – Hibana. Known for her raw vocal power and genre-defying style\, Ado exploded onto the scene with her viral 2020 debut “Usseewa\,” becoming a breakout voice for a new generation of J-pop fans. \n\n\n\nBlending the intensity of Vocaloid culture with her own dynamic vocals\, Ado quickly rose to the top of Japan’s charts — and now she’s taking the world by storm. Her debut album Kyougen became a chart-topping hit\, and 2024 saw her selling out stadiums\, making history as the first female artist to headline Japan National Stadium. \n\n\n\nNow\, with Hibana\, Ado brings her high-energy\, theatrical performances across the globe — and New Jersey is lucky enough to be one of the stops. Expect stunning visuals\, emotionally charged vocals\, and a night unlike anything else on the live music calendar. \n\n\n\n🎤 Don’t miss your chance to experience one of Japan’s most electrifying artists live in concert. \n\n\n\n➡️ Discover more concerts\, festivals\, and must-see performances happening all across the Garden State on Explore New Jersey Events. \n\n\n\n\n\n\n\n🎟️ Tickets\, Merchandise & Info:\n\n\n\nAccessible seating available for all guests. \n\n\n\nClick here to go to the Merch Stand in The Vending Lot.
URL:https://explorenewjersey.org/event/ado-world-tour-2025-hibana-2/
LOCATION:The Prudential Center\, 25 Lafayette St\, Newark\, New Jersey\, 07102\, United States
CATEGORIES:Concerts,Music
ATTACH;FMTTYPE=image/jpeg:https://explorenewjersey.org/wp-content/uploads/2025/05/ado1200x1200-13-1.jpg
ORGANIZER;CN="Live Nation Entertainment":MAILTO:https://www.livenation.com/
END:VEVENT
BEGIN:VEVENT
DTSTART;TZID=America/New_York:20250805T170000
DTEND;TZID=America/New_York:20250805T233000
DTSTAMP:20260424T070129
CREATED:20250526T123057Z
LAST-MODIFIED:20250526T123111Z
UID:33397-1754413200-1754436600@explorenewjersey.org
SUMMARY:Katy Perry – The Lifetimes Tour
DESCRIPTION:Pop icon Katy Perry is making her grand return to the U.S. stage with The Lifetimes Tour \n\n\n\n\n\n\n\n\n\n📅 Thursday\, August 14 | 🕖 7:00 PM📍 Prudential Center\, Newark\, NJ \n\n\n\nPop icon Katy Perry is making her grand return to the U.S. stage with The Lifetimes Tour\, and she’s bringing her chart-topping magic to the heart of New Jersey. With global shows selling out fast\, the multi-platinum superstar lands at Prudential Center on August 14\, joined by special guest Rebecca Black for a night of unforgettable pop brilliance. \n\n\n\nTouring in celebration of her latest album 143\, Katy Perry will light up the stage with her signature blend of theatrical flair\, bold visuals\, and the massive hits we all know and love — from “Roar” and “Teenage Dream” to brand new anthems that are already heating up the charts. \n\n\n\nThis show promises an electric atmosphere\, iconic performances\, and a celebration of a music career that’s defined a generation. \n\n\n\n🎟️ Whether you’re a lifelong KatyCat or just looking for a high-energy night out in New Jersey\, this is the pop event of the summer you won’t want to miss. \n\n\n\n➡️ Explore more upcoming concerts\, live shows\, and family-friendly events at Explore New Jersey Events. \n\n\n\n\n\n\n\n🎟️ Tickets\, Merchandise & Info:\n\n\n\nAccessible seating available for all guests. \n\n\n\nClick here to go to the Merch Stand in The Vending Lot.
URL:https://explorenewjersey.org/event/katy-perry-the-lifetimes-tour/
LOCATION:The Prudential Center\, 25 Lafayette St\, Newark\, New Jersey\, 07102\, United States
CATEGORIES:Concerts,Music
ATTACH;FMTTYPE=image/jpeg:https://explorenewjersey.org/wp-content/uploads/2025/05/Static_Social-Instagram_1080x1080_KatyPerry_2025_US_Regional_PrudentialCenter_0814.jpg
ORGANIZER;CN="Live Nation Entertainment":MAILTO:https://www.livenation.com/
END:VEVENT
BEGIN:VEVENT
DTSTART;TZID=America/New_York:20250806T000000
DTEND;TZID=America/New_York:20250806T000000
DTSTAMP:20260424T070130
CREATED:20250728T133223Z
LAST-MODIFIED:20250728T133223Z
UID:49119-1754438400-1754438400@explorenewjersey.org
SUMMARY:Rory Block
DESCRIPTION:“Probably the most persistent and enthusiastic requests from my fans for anything outside of the blues genre has been the repeated calls to record a Bob Dylan tribute. As with all my recordings\, the songs that move me the most deeply\, touching heart and soul\, are the ones I choose to record.” Rory Block\nTaking a break from her award-winning Power Women of The Blues series\, which has shone a light on women songwriters and performers over her three most recent albums\, Rory throws her skills as a finger-picker and traditional blues arranger behind one of the greatly respected leading artists and songwriter of all-time: Bob Dylan. Performing all instruments herself\, Rory combines acoustic and slide guitars\, as well as drums and acoustic bass\, to create a one-of-a kind arrangement of Dylan’s songbook.\nRory Block is a Gold-album selling and 7-time Blues Music Award winner\, widely regarded as the top female performer of traditional country-blues. Rory’s commitment as a blues preservationist with an ear for finding the soul of every song she performs has rewarded her with accolades from the blues and roots music community
URL:https://explorenewjersey.org/event/rory-block/
LOCATION:New Jersey
ATTACH;FMTTYPE=image/jpeg:https://explorenewjersey.org/wp-content/uploads/2025/07/Rory2520Block252005_edited-CrccXA.jpg
END:VEVENT
BEGIN:VEVENT
DTSTART;TZID=America/New_York:20250806T000000
DTEND;TZID=America/New_York:20250806T000000
DTSTAMP:20260424T070130
CREATED:20250806T143844Z
LAST-MODIFIED:20260422T002256Z
UID:51113-1754438400-1754438400@explorenewjersey.org
SUMMARY:Frederick Keys
DESCRIPTION:The Thunder host a variety of Theme Nights and Community Nights throughout the summer\, providing groups with similar interests the opportunity to get together and enjoy a game! \nAll Thunder Promotions & Theme Nights are subject to change. Children 3 and under do not require a ticket when seated in the lap of an adult. All points of sale inside Trenton Thunder Ballpark are cashless. Parking at Trenton Thunder Ballpark will continue to be $5\, cash only. Optional in-park promotions like Speed Pitch and 50/50 will continue to be cash only. All ticket sales are final. No refunds. For questions or to purchase tickets over the phone\, call the Thunder Ticket Office at (609) 394-3300\, opt 4.
URL:https://explorenewjersey.org/event/frederick-keys/
LOCATION:New Jersey
CATEGORIES:Sports
ATTACH;FMTTYPE=image/svg+xml:https://explorenewjersey.org/wp-content/uploads/2025/08/493-ZGmU6a.svg
END:VEVENT
BEGIN:VEVENT
DTSTART;TZID=America/New_York:20250806T000000
DTEND;TZID=America/New_York:20250806T000000
DTSTAMP:20260424T070130
CREATED:20250806T144445Z
LAST-MODIFIED:20260422T002256Z
UID:51130-1754438400-1754438400@explorenewjersey.org
SUMMARY:Binghamton
DESCRIPTION:Benge’s Blast Leads Binghamton Past Harrisburg to Clinch Series\nBinghamton Combines for No-Hitter in First Game\, Splits Doubleheader with Harrisburg\nLorusso Drives in Game-Tying Run\, Scores Winning Run to Lead Binghamton Past Harrisburg\nThursday’s Rumble Ponies Game against Harrisburg Postponed\nBenge Powers Binghamton Past Harrisburg for Wednesday Matinee Win
URL:https://explorenewjersey.org/event/binghamton-2/
LOCATION:New Jersey
CATEGORIES:Sports
ATTACH;FMTTYPE=image/svg+xml:https://explorenewjersey.org/wp-content/uploads/2025/08/505-HghFcE.svg
END:VEVENT
BEGIN:VEVENT
DTSTART;TZID=America/New_York:20250806T000000
DTEND;TZID=America/New_York:20250806T000000
DTSTAMP:20260424T070130
CREATED:20250806T145422Z
LAST-MODIFIED:20260422T002255Z
UID:51157-1754438400-1754438400@explorenewjersey.org
SUMMARY:Hub City
DESCRIPTION:Gonzalez Shines in Series Clinching Win\nCook’s Grand Slam Lifts Spartanburgers to Share of Series\nAsheville Takes One-Run Affair on Friday\nFree Passes Doom ‘Burgers in 7-1 Defeat\nFrom the “Jungle” to the ‘Burg: Josh Trentadue’s Competitive Nature Has Powered a Breakout 2025\nSpartanburgers Ambush Tourists in Wednesday Win\nDominant Pitching Paces Hub City to Win in Series Opener\nDrive Win Series on Second Walk-off of the Week
URL:https://explorenewjersey.org/event/hub-city-2/
LOCATION:New Jersey
CATEGORIES:Sports
ATTACH;FMTTYPE=image/svg+xml:https://explorenewjersey.org/wp-content/uploads/2025/08/6324-q6B6nK.svg
END:VEVENT
BEGIN:VEVENT
DTSTART;TZID=America/New_York:20250806T000000
DTEND;TZID=America/New_York:20250806T000000
DTSTAMP:20260424T070130
CREATED:20250806T152651Z
LAST-MODIFIED:20250808T200859Z
UID:51254-1754438400-1754438400@explorenewjersey.org
SUMMARY:Free Summer Event: Salsa at Sunset
DESCRIPTION:MPAC’s annual salsa night spices up the town with zesty night of Latin rhythms\, great dancing and much more.  Instructors will be on hand to help you learn all of the steps!
URL:https://explorenewjersey.org/event/free-summer-event-salsa-at-sunset/
LOCATION:New Jersey
CATEGORIES:Concerts,Music
ATTACH;FMTTYPE=image/jpeg:https://explorenewjersey.org/wp-content/uploads/2025/08/AITC_Salsa_thumb-519x600-7huR66.jpg
END:VEVENT
BEGIN:VEVENT
DTSTART;TZID=America/New_York:20250806T000000
DTEND;TZID=America/New_York:20250806T000000
DTSTAMP:20260424T070130
CREATED:20250806T152653Z
LAST-MODIFIED:20250808T200859Z
UID:51255-1754438400-1754438400@explorenewjersey.org
SUMMARY:Dave Koz and Friends Summer Horns 2025: The Ultimate Summer Party
DESCRIPTION:In a career that spans nearly three decades\, saxophonist Dave Koz has racked up an astoundingly impressive array of honors and achievements including nine GRAMMY® nominations and 11 No. 1 contemporary jazz albums. Koz is joined by a stellar lineup of jazz stars for the ultimate summer party.
URL:https://explorenewjersey.org/event/dave-koz-and-friends-summer-horns-2025-the-ultimate-summer-party/
LOCATION:New Jersey
CATEGORIES:Concerts,Music
ATTACH;FMTTYPE=image/jpeg:https://explorenewjersey.org/wp-content/uploads/2025/08/DaveKoz_thumb-519x600-86THYv.jpg
END:VEVENT
END:VCALENDAR