BEGIN:VCALENDAR
VERSION:2.0
PRODID:-//Explore New Jersey - ECPv6.15.20//NONSGML v1.0//EN
CALSCALE:GREGORIAN
METHOD:PUBLISH
X-WR-CALNAME:Explore New Jersey
X-ORIGINAL-URL:https://explorenewjersey.org
X-WR-CALDESC:Events for Explore New Jersey
REFRESH-INTERVAL;VALUE=DURATION:PT1H
X-Robots-Tag:noindex
X-PUBLISHED-TTL:PT1H
BEGIN:VTIMEZONE
TZID:America/New_York
BEGIN:DAYLIGHT
TZOFFSETFROM:-0500
TZOFFSETTO:-0400
TZNAME:EDT
DTSTART:20240310T070000
END:DAYLIGHT
BEGIN:STANDARD
TZOFFSETFROM:-0400
TZOFFSETTO:-0500
TZNAME:EST
DTSTART:20241103T060000
END:STANDARD
BEGIN:DAYLIGHT
TZOFFSETFROM:-0500
TZOFFSETTO:-0400
TZNAME:EDT
DTSTART:20250309T070000
END:DAYLIGHT
BEGIN:STANDARD
TZOFFSETFROM:-0400
TZOFFSETTO:-0500
TZNAME:EST
DTSTART:20251102T060000
END:STANDARD
BEGIN:DAYLIGHT
TZOFFSETFROM:-0500
TZOFFSETTO:-0400
TZNAME:EDT
DTSTART:20260308T070000
END:DAYLIGHT
BEGIN:STANDARD
TZOFFSETFROM:-0400
TZOFFSETTO:-0500
TZNAME:EST
DTSTART:20261101T060000
END:STANDARD
END:VTIMEZONE
BEGIN:VEVENT
DTSTART;TZID=America/New_York:20250530T080000
DTEND;TZID=America/New_York:20250902T170000
DTSTAMP:20260424T102054
CREATED:20250823T140211Z
LAST-MODIFIED:20250823T140214Z
UID:54682-1748592000-1756832400@explorenewjersey.org
SUMMARY:Tipsy Tiki Pop-Up Bar
DESCRIPTION:Tipsy Tiki Pop-Up Bar – Summer’s Ultimate Island Escape \n\n\n\n\n\n\n\n\n\nDates: Friday\, May 30 – Tuesday\, September 2\, 2025Location: The Bistro at iPlay America\, 100 Pine Street\, Freehold\, NJ 07728 \n\n\n\nBring the tropics to your backyard this summer at the Tipsy Tiki Pop-Up Bar! Nestled inside the ever-popular iPlay America\, The Bistro transforms into a vibrant island paradise\, offering a unique combination of playful décor\, colorful cocktails\, and frozen drinks that transport you straight to the beach. \n\n\n\nFrom beachy vibes to refreshing tropical libations\, the Tipsy Tiki experience is perfect for friends\, families\, and anyone craving a mini getaway without leaving New Jersey. Enjoy laid-back island tunes\, stunning décor that sets the perfect Instagram moment\, and a fun-filled summer atmosphere from late May through early September. \n\n\n\nWhat to Expect\n\n\n\n\nTropical Cocktails & Frozen Drinks: Sip on exotic concoctions crafted to keep you cool all summer.\n\n\n\nVibrant Island Decor: Experience immersive tropical surroundings designed for fun and relaxation.\n\n\n\nSummer Vibes: Chill with friends\, enjoy lively music\, and soak up the playful Tiki atmosphere.\n\n\n\nPerfect for Photos: With colorful setups and themed decorations\, it’s a paradise for your social feed.\n\n\n\n\nHours & Admission: \n\n\n\n\nOpen daily from 11:00 AM – 10:00 PM (subject to change; check The Bistro or iPlay America for updates).\n\n\n\nAdmission to iPlay America may be required for entry.\n\n\n\n\nVenue Details:The Bistro at iPlay America100 Pine Street\, Freehold\, NJ 07728📞 (732) 577-8200Visit Venue Website \n\n\n\nMake this summer unforgettable with the Tipsy Tiki Pop-Up Bar—your go-to destination for tropical drinks\, festive vibes\, and a splash of island fun right here in New Jersey.
URL:https://explorenewjersey.org/event/tipsy-tiki-pop-up-bar/
LOCATION:The Bistro\, 108 Schanck Rd\, Freehold\, New Jersey\, 07728\, United States
CATEGORIES:Theatre
ATTACH;FMTTYPE=image/jpeg:https://explorenewjersey.org/wp-content/uploads/2025/08/featured-tiki-bar2.jpg
END:VEVENT
BEGIN:VEVENT
DTSTART;TZID=America/New_York:20250609T070000
DTEND;TZID=America/New_York:20250629T170000
DTSTAMP:20260424T102054
CREATED:20250501T203939Z
LAST-MODIFIED:20250508T171651Z
UID:30856-1749452400-1751216400@explorenewjersey.org
SUMMARY:The Price by Arthur Miller
DESCRIPTION:Directed by Brandon J. DirdenLocation: The Joan and Robert Rechnitz TheaterDates: June 9-29\, 2025Tickets: [Get Tickets Now] \n\n\n\nStep into the world of Arthur Miller’s The Price\, a deeply personal and emotionally charged drama about family\, memory\, and the weight of the past. In this compelling play\, estranged brothers Victor and Walter are forced to confront their shared history as they clear out the remnants of their childhood home before it’s demolished. As they negotiate the value of their past\, they must face the harsh realities of their choices and the true cost of their hopes for the future. Directed by the acclaimed Brandon J. Dirden\, The Price is an exploration of how we measure the burden of memory and the price we pay for our dreams. \n\n\n\n\n\n\n\n\n\n\n\nWhy You Should See The Price: \n\n\n\n\nA Powerful Family Drama: The Price is one of Arthur Miller’s most personal works\, offering a raw\, emotional look at family dynamics\, unresolved grievances\, and the price we pay for our past.\n\n\n\nStellar Direction: Directed by Brandon J. Dirden\, known for his work in August Wilson’s Radio Golf and Wine in the Wilderness\, the production promises a nuanced\, gripping interpretation of Miller’s timeless exploration of human nature.\n\n\n\nA Story of Choices and Consequences: Watch as two brothers grapple with the legacy of their shared past\, negotiating its emotional and financial costs\, all while looking toward the uncertain future.\n\n\n\nTimeless Themes: Themes of memory\, regret\, and hope intertwine in this thought-provoking piece\, making it a must-see for fans of powerful drama.\n\n\n\n\n\n\n\n\nMeet the Cast: \n\n\n\n\nKevin Isola as Victor Franz\n\n\n\nKarl Kenzler as Walter Franz\n\n\n\nAndrea Syglowski as Esther Franz\n\n\n\nPeter Van Wagner as Gregory Solomon\n\n\n\n\nCreative Team: \n\n\n\n\nPlaywright: Arthur Miller\n\n\n\nDirector: Brandon J. Dirden\n\n\n\nLighting Design: Driscoll Otto\n\n\n\nSound Designer: Germán Martínez\n\n\n\nCostume Designer: Karen Perry\n\n\n\nSet Designer: Neil Prince\n\n\n\nStage Manager: Megan Smith\n\n\n\nAssistant Stage Manager: Celina Revollar\n\n\n\nComposer: Jason Yeager\n\n\n\n\n\n\n\n\nEvent Details: \n\n\n\n\nLocation: The Joan and Robert Rechnitz Theater\n\n\n\nDates: June 9-29\, 2025\n\n\n\nTickets: Available Now\n\n\n\nPresented By: The Price is presented by arrangement with Concord Theatricals on behalf of Samuel French\, Inc. www.concordtheatricals.com\n\n\n\n\n\n\n\n\nDon’t miss your chance to experience one of Arthur Miller’s most compelling works\, live at the Joan and Robert Rechnitz Theater. With a stellar cast\, exceptional direction\, and unforgettable themes\, The Price is a must-see performance. \n\n\n\nGet Your Tickets Now and immerse yourself in this unforgettable tale of family\, memory\, and the cost of our dreams. \n\n\n\n\n\n\n\n\n\n\n\n🎟️ Tickets\, Merchandise & Info:\n\n\n\nAccessible seating available for all guests. \n\n\n\nClick here to go to the On Broadway Merch Stand in The Vending Lot.
URL:https://explorenewjersey.org/event/the-price-by-arthur-miller/
LOCATION:Two River Theater\, 21 Bridge Avenue\, Red Bank\, New Jersey\, 07701\, United States
CATEGORIES:Theatre
ATTACH;FMTTYPE=image/png:https://explorenewjersey.org/wp-content/uploads/2025/05/2048200_2.png
ORGANIZER;CN="Two River Theater":MAILTO:info@trtc.org
END:VEVENT
BEGIN:VEVENT
DTSTART;TZID=America/New_York:20250629T170000
DTEND;TZID=America/New_York:20250629T233000
DTSTAMP:20260424T102054
CREATED:20250514T194655Z
LAST-MODIFIED:20250514T194657Z
UID:32188-1751216400-1751239800@explorenewjersey.org
SUMMARY:North to Shore Festival presents George Clinton & Parliament Funkadelic with Special Guest Living Colour
DESCRIPTION:George Clinton & Parliament Funkadelic with Living Colour – Live at Stone Pony Summer Stage\n\n\n\nPart of the North to Shore Festival | Sunday\, June 29\, 2025 | Asbury Park\, NJ \n\n\n\nGet ready to groove as the Prudential North to Shore Festival brings an unforgettable night of funk and rock to the iconic Stone Pony Summer Stage in Asbury Park. On Sunday\, June 29\, 2025\, legendary funk pioneer George Clinton & Parliament Funkadelic take the stage with special guests Living Colour for a high-energy\, open-air concert that’s bound to be one of the summer’s biggest highlights. \n\n\n\n\n\n\n\nExpect a full-on funk fest with Clinton’s genre-bending mix of soul\, psychedelic rock\, and timeless groove\, while Living Colour brings their explosive blend of rock\, funk\, and metal to fire up the crowd. This is more than a concert—it’s a full-blown musical celebration under the Jersey Shore sky. \n\n\n\n🎶 Event: George Clinton & Parliament Funkadelic with Special Guest Living Colour📍 Venue: The Stone Pony Summer Stage\, Asbury Park\, NJ📅 Date: Sunday\, June 29\, 2025🕔 Showtime: 5:00 PM🎤 Festival: Part of the North to Shore Festival🌟 What to Expect: Funk classics\, rock legends\, and good vibes by the beach🎟️ Pro Tip: Arrive early to grab your spot and explore Asbury Park’s boardwalk food and drink options before the show kicks off \n\n\n\nDon’t miss this epic outdoor concert as two powerhouse acts light up one of New Jersey’s most iconic venues. It’s funk\, it’s freedom\, it’s Jersey summer magic. \n\n\n\n\n\n\n\n🎟️ Tickets\, Merchandise & Info:\n\n\n\nAccessible seating available for all guests. \n\n\n\nClick here to go to the Merch Stand in The Vending Lot.
URL:https://explorenewjersey.org/event/north-to-shore-festival-presents-george-clinton-parliament-funkadelic-with-special-guest-living-colour/
LOCATION:The Stone Pony Summer Stage\, 909 Ocean Ave N\, Asbury Park\, New Jersey\, 07712\, United States
CATEGORIES:Concerts,Music,North To Shore
ATTACH;FMTTYPE=image/jpeg:https://explorenewjersey.org/wp-content/uploads/2025/05/images-4-1.jpeg
END:VEVENT
BEGIN:VEVENT
DTSTART;TZID=America/New_York:20250629T170000
DTEND;TZID=America/New_York:20250629T233000
DTSTAMP:20260424T102054
CREATED:20250517T172408Z
LAST-MODIFIED:20250517T172409Z
UID:32584-1751216400-1751239800@explorenewjersey.org
SUMMARY:Brand New
DESCRIPTION:🎸 Brand New Live at Prudential Center – June 29\, 2025 \n\n\n\n\n\n\n\nDate & Time: Sunday\, June 29\, 2025 | Doors open at 7:00 PM\, Show starts at 8:00 PMVenue: Prudential Center\, 25 Lafayette Street\, Newark\, NJ 07102Tickets: Available via Live Nation and AXS \n\n\n\n\n\n\n\n🌟 About the Show\n\n\n\nEmo and alternative rock fans\, rejoice! Brand New\, the influential band known for their introspective lyrics and evolving sound\, returns to the stage for their first tour since 2017. Their Newark stop at Prudential Center promises a night of nostalgic hits and deep cuts from their acclaimed albums. \n\n\n\n\n\n\n\n🎶 What to Expect\n\n\n\nPrepare for a dynamic setlist that spans Brand New’s discography\, including fan favorites like “The Quiet Things That No One Ever Knows” and “Jesus.” The band’s live performances are renowned for their emotional intensity and raw energy\, making this a must-see event for longtime fans and newcomers alike. \n\n\n\n\n\n\n\n🎟️ Ticket Information\n\n\n\nTickets are available through Live Nation and AXS. For premium seating options\, including suites and VIP experiences\, visit SuiteHop. \n\n\n\n\n\n\n\n🚗 Getting There\n\n\n\nPrudential Center is conveniently located in downtown Newark\, NJ\, with ample parking options and easy access via public transportation. For directions and parking information\, visit the Prudential Center website. \n\n\n\n\n\n\n\n🔗 Related Events\n\n\n\n\nRock The Bells Festival – Saturday\, June 28\, 2025\, featuring Busta Rhymes\, Redman\, Remy Ma\, Too $hort\, and more. A celebration of hip-hop culture at Prudential Center.\n\n\n\nStray Kids 2nd World Tour “MANIAC” – June 28–29\, 2025\, at Prudential Center. A high-energy K-pop experience.\n\n\n\n\n\n\n\n\nDon’t miss this rare opportunity to see Brand New live in concert. Secure your tickets now and be part of a night that celebrates the enduring power of emo and alternative rock. newarktheater.com+1New York Post+1 The evolution of Hip-Hop through live performances\, exclusive tributes\, and a celebration of the genre’s enduring impact. Whether you’re a longtime fan or new to the scene\, this event promises a night of unforgettable music and memories.  \n\n\n\n\n\n\n\n🎟️ Tickets\, Merchandise & Info:\n\n\n\nAccessible seating available for all guests. \n\n\n\nClick here to go to the Merch Stand in The Vending Lot.
URL:https://explorenewjersey.org/event/brand-new/
LOCATION:The Prudential Center\, 25 Lafayette St\, Newark\, New Jersey\, 07102\, United States
CATEGORIES:Concerts,Music
ATTACH;FMTTYPE=image/jpeg:https://explorenewjersey.org/wp-content/uploads/2025/05/0629-Newark-BN-1200x1200-1.jpg
ORGANIZER;CN="Live Nation Entertainment":MAILTO:https://www.livenation.com/
END:VEVENT
END:VCALENDAR